Workbook
Name Print_Area_0: '06 Bendros lėšos'!$A$1:$J$27
Name Print_Area_0: '06 Išlaidų suvestinė'!$A$1:$U$9
Name Print_Area_0: '06 Programa'!$A$1:$AF$96
Name Print_Area_0_0: '06 Bendros lėšos'!$A$1:$J$27
Name Print_Area_0_0: '06 Išlaidų suvestinė'!$A$1:$U$9
Name Print_Area_0_0: '06 Programa'!$A$1:$AF$96
Name Print_Area_0_0_0: '06 Bendros lėšos'!$A$1:$J$27
Name Print_Area_0_0_0: '06 Išlaidų suvestinė'!$A$1:$U$9
Name Print_Area_0_0_0: '06 Programa'!$A$1:$AF$96
Name Print_Area_0_0_0_0: '06 Bendros lėšos'!$A$1:$J$27
Name Print_Area_0_0_0_0: '06 Išlaidų suvestinė'!$A$1:$U$9
Name Print_Area_0_0_0_0: '06 Programa'!$A$1:$AF$96
Name Print_Area_0_0_0_0_0: '06 Bendros lėšos'!$A$1:$J$27
Name Print_Area_0_0_0_0_0: '06 Išlaidų suvestinė'!$A$1:$U$9
Name Print_Area_0_0_0_0_0: '06 Programa'!$A$1:$AF$96
Name Print_Area_0_0_0_0_0_0: '06 Bendros lėšos'!$A$1:$J$27
Name Print_Area_0_0_0_0_0_0: '06 Išlaidų suvestinė'!$A$1:$U$9
Name Print_Area_0_0_0_0_0_0: '06 Programa'!$A$1:$AF$96
Name Print_Area_0_0_0_0_0_0_0: '06 Bendros lėšos'!$A$1:$J$27
Name Print_Area_0_0_0_0_0_0_0: '06 Išlaidų suvestinė'!$A$1:$U$9
Name Print_Area_0_0_0_0_0_0_0: '06 Programa'!$A$1:$AF$96
Name Print_Area_0_0_0_0_0_0_0_0: '06 Bendros lėšos'!$A$1:$J$27
Name Print_Area_0_0_0_0_0_0_0_0: '06 Išlaidų suvestinė'!$A$1:$U$9
Name Print_Area_0_0_0_0_0_0_0_0: '06 Programa'!$A$1:$AF$96

Sheet 06 Programa
AA1: PATVIRTINTA
AA2: Šilutės rajono savivaldybės tarybos 2022 m. gruodžio 22 d.
AA3: sprendimu Nr. T1-1169
AA4: (Šilutės rajono savivaldybės tarybos 2023 m. vasario 23 d.
AA5: sprendimo Nr. T1-1222 redakcija)
AA6: (Šilutės rajono savivaldybės tarybos 2023 m. gegužės 25 d.
AA7: sprendimo Nr. T1- redakcija)
AE8: (Nr. 06)
B9: 2023–2025 m. ŠILUTĖS RAJONO SAVIVALDYBĖS ADMINISTRACIJOS
B10: EFEKTYVAUS SAVIVALDYBĖS VALDYMO PROGRAMOS
B11: TIKSLŲ, PROGRAMŲ, PROGRAMŲ TIKSLŲ, UŽDAVINIŲ, UŽDAVINIŲ VERTINIMO KRITERIJŲ, PRIEMONIŲ IR PRIEMONIŲ IŠLAIDŲ SUVESTINĖ
AD12: tūkst. Eur
A13: Programos kodas | B13: Programos tikslo kodas | C13: Uždavinio kodas | D13: Priemonės kodas | E13: Priemonės pavadinimas | F13: Priemonės požymis | G13: Funkcinės klasifikacijos kodas | H13: Asignavimų valdytojo kodas | I13: Priemonės vykdytojo kodas | J13: Finansavimo šaltinis | K13: 2022 m. išlaidos | O13: 2023 m. išlaidų projektas | S13: 2023 m. patvirtinta Šilutės rajono savivaldybės taryboje | W13: 2023 m. faktiškai skirtas finansavimas | AA13: 2024-ųjų metų išlaidų projektas | AB13: 2025-ųjų metų išlaidų projektas | AC13: Uždavinio vertinimo kriterijus
K14: Iš viso | L14: Išlaidoms | N14: Turtui įsigyti ir finansiniams įsipareigojimams vykdyti | O14: Iš viso | P14: Išlaidoms | R14: Turtui įsigyti ir finansiniams įsipareigojimams vykdyti | S14: Iš viso | T14: Išlaidoms | V14: Turtui įsigyti ir finansiniams įsipareigojimams vykdyti | W14: Iš viso | X14: Išlaidoms | Z14: Turtui įsigyti ir finansiniams įsipareigojimams vykdyti | AC14: Pavadinimas | AD14: Planas
L15: Iš viso | M15: Darbo užmokesčiui | P15: Iš viso | Q15: Darbo užmokesčiui | T15: Iš viso | U15: Darbo užmokesčiui | X15: Iš viso | Y15: Darbo užmokesčiui | AD15: 2023 m. | AE15: 2024 m. | AF15: 2025 m.
A16: Strateginė sritis 02. Savivaldybės veiklos gerinimas/stiprinimas
A17: 06 Efektyvaus Savivaldybės valdymo programa
A18: 06 | B18: 01 | C18: Efektyviai vykdyti Savivaldybės veiklą
A19: 06 | B19: 01 | C19: 01 | D19: Sudaryti sąlygas kokybiškai įgyvendinti Savivaldybės funkcijas
A20: 06 | B20: 01 | C20: 01 | D20: 01 | E20: Mero institucijos išlaikymas | G20: 01.01.01.03 | H20: 188723322 | J20: SB | K20: =+L20+N20 -> 84.9 | L20: 84.9 | M20: 83.1 | N20: 0 | O20: =+P20+R20 -> 116.2 | P20: 116.2 | Q20: 108.3 | R20: 0 | S20: =+T20+V20 -> 116.2 | T20: 116.2 | U20: 108.3 | V20: 0 | W20: =+X20+Z20 -> 0 | X20: 0 | Y20: 0 | Z20: 0 | AA20: 102.1 | AB20: 102.1 | AC20: Išmokėtas darbo užmokestis, proc. | AD20: 100 | AE20: 100 | AF20: 100
J21: Iš viso: | K21: =SUM(K20:K20) -> 84.9 | L21: =SUM(L20:L20) -> 84.9 | M21: =SUM(M20:M20) -> 83.1 | N21: =SUM(N20:N20) -> 0 | O21: =SUM(O20:O20) -> 116.2 | P21: =SUM(P20:P20) -> 116.2 | Q21: =SUM(Q20:Q20) -> 108.3 | R21: =SUM(R20:R20) -> 0 | ... AB21: =SUM(AB20:AB20) -> 102.1
A22: 06 | B22: 01 | C22: 01 | D22: 02 | E22: Mero fondas | G22: 01.01.01.03 | H22: 188723322 | J22: SB | K22: =+L22+N22 -> 19.2 | L22: 19.2 | M22: 0 | N22: 0 | O22: =+P22+R22 -> 22 | P22: 22 | Q22: 0 | R22: 0 | S22: =+T22+V22 -> 22 | T22: 22 | U22: 0 | V22: 0 | W22: =+X22+Z22 -> 0 | X22: 0 | Y22: 0 | Z22: 0 | AA22: 22 | AB22: 22 | AC22: Panaudotos fondo lėšos, proc. | AD22: 100 | AE22: 100 | AF22: 100
J23: Iš viso: | K23: =SUM(K22:K22) -> 19.2 | L23: =SUM(L22:L22) -> 19.2 | M23: =SUM(M22:M22) -> 0 | N23: =SUM(N22:N22) -> 0 | O23: =SUM(O22:O22) -> 22 | P23: =SUM(P22:P22) -> 22 | Q23: =SUM(Q22:Q22) -> 0 | R23: =SUM(R22:R22) -> 0 | ... AB23: =SUM(AB22:AB22) -> 22
A24: 06 | B24: 01 | C24: 01 | D24: 03 | E24: Tarybos darbo organizavimas | G24: 01.01.01.03 | H24: 188723322 | J24: SB | K24: =+L24+N24 -> 185.9 | L24: 185.9 | M24: 10.8 | N24: 0 | O24: =+P24+R24 -> 267 | P24: 267 | Q24: 15 | R24: 0 | S24: =+T24+V24 -> 260 | T24: 260 | U24: 15 | V24: 0 | W24: =+X24+Z24 -> 0 | X24: 0 | Y24: 0 | Z24: 0 | AA24: 267 | AB24: 267 | AC24: Išmokėtas darbo užmokestis ir apmokėta už suteiktas paslaugas, proc. | AD24: 100 | AE24: 100 | AF24: 100
J25: Iš viso: | K25: =SUM(K24:K24) -> 185.9 | L25: =SUM(L24:L24) -> 185.9 | M25: =SUM(M24:M24) -> 10.8 | N25: =SUM(N24:N24) -> 0 | O25: =SUM(O24:O24) -> 267 | P25: =SUM(P24:P24) -> 267 | Q25: =SUM(Q24:Q24) -> 15 | R25: =SUM(R24:R24) -> 0 | ... AB25: =SUM(AB24:AB24) -> 267
A26: 06 | B26: 01 | C26: 01 | D26: 04 | E26: Asociacijos veikla | G26: 01.03.02.09 | H26: 188723322 | J26: SB | K26: =+L26+N26 -> 36.6 | L26: 36.6 | M26: 0 | N26: 0 | O26: =+P26+R26 -> 46 | P26: 46 | Q26: 0 | R26: 0 | S26: =+T26+V26 -> 46 | T26: 46 | U26: 0 | V26: 0 | W26: =+X26+Z26 -> 0 | X26: 0 | Y26: 0 | Z26: 0 | AA26: 46 | AB26: 46 | AC26: Atsiskaitymai už paslaugas, proc. | AD26: 100 | AE26: 100 | AF26: 100
J27: Iš viso: | K27: =SUM(K26:K26) -> 36.6 | L27: =SUM(L26:L26) -> 36.6 | M27: =SUM(M26:M26) -> 0 | N27: =SUM(N26:N26) -> 0 | O27: =SUM(O26:O26) -> 46 | P27: =SUM(P26:P26) -> 46 | Q27: =SUM(Q26:Q26) -> 0 | R27: =SUM(R26:R26) -> 0 | ... AB27: =SUM(AB26:AB26) -> 46
A28: 06 | B28: 01 | C28: 01 | D28: 05 | E28: Mero ir Tarybos veiklos administravimo skyriaus išlaikymas | G28: 01.01.01.02 | H28: 188723322 | J28: SB | K28: =+L28+N28 -> 157.9 | L28: 157.9 | M28: 155.5 | N28: 0 | O28: =+P28+R28 -> 176.8 | P28: 176.8 | Q28: 174 | R28: 0 | S28: =+T28+V28 -> 176.8 | T28: 176.8 | U28: 174 | V28: 0 | W28: =+X28+Z28 -> 0 | X28: 0 | Y28: 0 | Z28: 0 | AA28: 176.8 | AB28: 176.8 | AC28: Išmokėtas darbo užmokestis, proc. | AD28: 100 | AE28: 100 | AF28: 100
J29: Iš viso: | K29: =SUM(K28:K28) -> 157.9 | L29: =SUM(L28:L28) -> 157.9 | M29: =SUM(M28:M28) -> 155.5 | N29: =SUM(N28:N28) -> 0 | O29: =SUM(O28:O28) -> 176.8 | P29: =SUM(P28:P28) -> 176.8 | Q29: =SUM(Q28:Q28) -> 174 | R29: =SUM(R28:R28) -> 0 | ... AB29: =SUM(AB28:AB28) -> 176.8
A30: 06 | B30: 01 | C30: 01 | D30: 06 | E30: Ūkinės veiklos įgyvendinimas (savivaldybės administracija) | G30: 01.03.02.09 | H30: 188723322 | J30: SB | K30: =+L30+N30 -> 3490.9 | L30: 3217.7 | M30: 2409 | N30: 273.2 | O30: =+P30+R30 -> 4153.2 | P30: 4098.6 | Q30: 3008 | R30: 54.6 | S30: =+T30+V30 -> 4133.2 | T30: 4078.6 | U30: 3008 | V30: 54.6 | W30: =+X30+Z30 -> 0 | X30: 0 | Y30: 0 | Z30: 0 | AA30: 4088.2 | AB30: 4088.2 | AC30: Išmokėtas darbo užmokestis ir apmokėta už prekes ir suteiktas paslaugas, proc. | AD30: 100 | AE30: 100 | AF30: 100
J31: SB(VB) | K31: =+L31+N31 -> 27.4 | L31: 27.4 | M31: 0 | N31: 0 | O31: =+P31+R31 -> 0 | P31: 0 | Q31: 0 | R31: 0 | S31: =+T31+V31 -> 0 | T31: 0 | U31: 0 | V31: 0 | W31: =+X31+Z31 -> 0 | X31: 0 | Y31: 0 | Z31: 0 | AA31: 0 | AB31: 0
J32: Iš viso: | K32: =SUM(K30:K31) -> 3518.3 | L32: =SUM(L30:L31) -> 3245.1 | M32: =SUM(M30:M31) -> 2409 | N32: =SUM(N30:N31) -> 273.2 | O32: =SUM(O30:O31) -> 4153.2 | P32: =SUM(P30:P31) -> 4098.6 | Q32: =SUM(Q30:Q31) -> 3008 | R32: =SUM(R30:R31) -> 54.6 | ... AB32: =SUM(AB30:AB31) -> 4088.2
A33: 06 | B33: 01 | C33: 01 | D33: 07 | E33: Ūkinės veiklos įgyvendinimas (Švietimo ir kultūros skyrius Kultūros poskyris) | G33: 08.06.01.09 | H33: 188723322 | J33: SB | K33: =+L33+N33 -> 58.5 | L33: 58.5 | M33: 57.6 | N33: 0 | O33: =+P33+R33 -> 66.9 | P33: 66.9 | Q33: 65.7 | R33: 0 | S33: =+T33+V33 -> 66.9 | T33: 66.9 | U33: 65.7 | V33: 0 | W33: =+X33+Z33 -> 0 | X33: 0 | Y33: 0 | Z33: 0 | AA33: 66.9 | AB33: 66.9 | AC33: Įgyvendinta veikla, proc. | AD33: 100 | AE33: 100 | AF33: 100
J34: SB(VB) | K34: =+L34+N34 -> 0 | L34: 0 | M34: 0 | N34: 0 | O34: =+P34+R34 -> 0 | P34: 0 | Q34: 0 | R34: 0 | S34: =+T34+V34 -> 0 | T34: 0 | U34: 0 | V34: 0 | W34: =+X34+Z34 -> 0 | X34: 0 | Y34: 0 | Z34: 0 | AA34: 0 | AB34: 0
J35: Iš viso: | K35: =SUM(K33:K34) -> 58.5 | L35: =SUM(L33:L34) -> 58.5 | M35: =SUM(M33:M34) -> 57.6 | N35: =SUM(N33:N34) -> 0 | O35: =SUM(O33:O34) -> 66.9 | P35: =SUM(P33:P34) -> 66.9 | Q35: =SUM(Q33:Q34) -> 65.7 | R35: =SUM(R33:R34) -> 0 | ... AB35: =SUM(AB33:AB34) -> 66.9
A36: 06 | B36: 01 | C36: 01 | D36: 08 | E36: Ūkinės veiklos įgyvendinimas (Švietimo ir kultūros skyrius) | G36: 09.08.01.09 | H36: 188723322 | J36: SB | K36: =+L36+N36 -> 197.9 | L36: 197.9 | M36: 194.5 | N36: 0 | O36: =+P36+R36 -> 230.4 | P36: 230.4 | Q36: 226.8 | R36: 0 | S36: =+T36+V36 -> 230.4 | T36: 230.4 | U36: 226.8 | V36: 0 | W36: =+X36+Z36 -> 0 | X36: 0 | Y36: 0 | Z36: 0 | AA36: 230.4 | AB36: 230.4 | AC36: Įgyvendinta veikla, proc. | AD36: 100 | AE36: 100 | AF36: 100
J37: SB(VB) | K37: =+L37+N37 -> 0 | L37: 0 | M37: 0 | N37: 0 | O37: =+P37+R37 -> 0 | P37: 0 | Q37: 0 | R37: 0 | S37: =+T37+V37 -> 0 | T37: 0 | U37: 0 | V37: 0 | W37: =+X37+Z37 -> 0 | X37: 0 | Y37: 0 | Z37: 0 | AA37: 0 | AB37: 0
J38: Iš viso: | K38: =SUM(K36:K37) -> 197.9 | L38: =SUM(L36:L37) -> 197.9 | M38: =SUM(M36:M37) -> 194.5 | N38: =SUM(N36:N37) -> 0 | O38: =SUM(O36:O37) -> 230.4 | P38: =SUM(P36:P37) -> 230.4 | Q38: =SUM(Q36:Q37) -> 226.8 | R38: =SUM(R36:R37) -> 0 | ... AB38: =SUM(AB36:AB37) -> 230.4
A39: 06 | B39: 01 | C39: 01 | D39: 09 | E39: Ūkinės veiklos įgyvendinimas (Socialinės paramos skyrius) | G39: 10.09.01.09 | H39: 188723322 | J39: SB | K39: =+L39+N39 -> 368.2 | L39: 367 | M39: 324.9 | N39: 1.2 | O39: =+P39+R39 -> 423 | P39: 423 | Q39: 380 | R39: 0 | S39: =+T39+V39 -> 427.6 | T39: 427.6 | U39: 394.8 | V39: 0 | W39: =+X39+Z39 -> 0 | X39: 0 | Y39: 0 | Z39: 0 | AA39: 423 | AB39: 423 | AC39: Įgyvendinta veikla, proc. | AD39: 100 | AE39: 100 | AF39: 100
J40: SB(VB) | K40: =+L40+N40 -> 17.7 | L40: 17.7 | M40: 17.4 | N40: 0 | O40: =+P40+R40 -> 0 | P40: 0 | Q40: 0 | R40: 0 | S40: =+T40+V40 -> 12.5 | T40: 12.5 | U40: 12.3 | V40: 0 | W40: =+X40+Z40 -> 0 | X40: 0 | Y40: 0 | Z40: 0 | AA40: 0 | AB40: 0
J41: Iš viso: | K41: =SUM(K39:K40) -> 385.9 | L41: =SUM(L39:L40) -> 384.7 | M41: =SUM(M39:M40) -> 342.3 | N41: =SUM(N39:N40) -> 1.2 | O41: =SUM(O39:O40) -> 423 | P41: =SUM(P39:P40) -> 423 | Q41: =SUM(Q39:Q40) -> 380 | R41: =SUM(R39:R40) -> 0 | ... AB41: =SUM(AB39:AB40) -> 423
A42: 06 | B42: 01 | C42: 01 | D42: 10 | E42: Ūkinės veiklos įgyvendinimas (seniūnijų valdymas) | G42: 01.03.02.09 | H42: 188723322 | J42: SB | K42: =+L42+N42 -> 1063.3 | L42: 1061.2 | M42: 895.1 | N42: 2.1 | O42: =+P42+R42 -> 1320.3 | P42: 1320.3 | Q42: 1059.6 | R42: 0 | S42: =+T42+V42 -> 1290.9 | T42: 1290.9 | U42: 1059.6 | V42: 0 | W42: =+X42+Z42 -> 0 | X42: 0 | Y42: 0 | Z42: 0 | AA42: 1320.6 | AB42: 1332 | AC42: Įgyvendinta veikla, proc. | AD42: 100 | AE42: 100 | AF42: 100
J43: Iš viso: | K43: =SUM(K42:K42) -> 1063.3 | L43: =SUM(L42:L42) -> 1061.2 | M43: =SUM(M42:M42) -> 895.1 | N43: =SUM(N42:N42) -> 2.1 | O43: =+O42 -> 1320.3 | P43: =+P42 -> 1320.3 | Q43: =+Q42 -> 1059.6 | R43: =+R42 -> 0 | S43: =SUM(S42:S42) -> 1290.9 | T43: =SUM(T42:T42) -> 1290.9 | U43: =SUM(U42:U42) -> 1059.6 | V43: =SUM(V42:V42) -> 0 | W43: =SUM(W42:W42) -> 0 | X43: =SUM(X42:X42) -> 0 | Y43: =SUM(Y42:Y42) -> 0 | Z43: =SUM(Z42:Z42) -> 0 | AA43: =AA42 -> 1320.6 | AB43: =+AB42 -> 1332
A44: 06 | B44: 01 | C44: 01 | D44: 11 | E44: Savivaldybės Kontrolės ir audito tarnybos darbo užtikrinimas | G44: 01.01.01.03 | H44: 188698374 | I44: 1 | J44: SB | K44: =+L44+N44 -> 122 | L44: 122 | M44: 115.7 | N44: 0 | O44: =SUM(P44,R44) -> 135.6 | P44: 135.6 | Q44: 128.4 | R44: 0 | S44: =+T44+V44 -> 135.3 | T44: 135.3 | U44: 128.4 | V44: 0 | W44: =+X44+Z44 -> 0 | X44: 0 | Y44: 0 | Z44: 0 | AA44: 148.9 | AB44: 163.5 | AC44: Įgyvendinta veikla, proc. | AD44: 100 | AE44: 100 | AF44: 100
J45: Iš viso: | K45: =SUM(K44:K44) -> 122 | L45: =SUM(L44:L44) -> 122 | M45: =SUM(M44:M44) -> 115.7 | N45: =SUM(N44:N44) -> 0 | O45: =+O44 -> 135.6 | P45: =+P44 -> 135.6 | Q45: =+Q44 -> 128.4 | R45: =+R44 -> 0 | S45: =SUM(S44:S44) -> 135.3 | T45: =SUM(T44:T44) -> 135.3 | U45: =SUM(U44:U44) -> 128.4 | V45: =SUM(V44:V44) -> 0 | W45: =SUM(W44:W44) -> 0 | X45: =SUM(X44:X44) -> 0 | Y45: =SUM(Y44:Y44) -> 0 | Z45: =SUM(Z44:Z44) -> 0 | AA45: =AA44 -> 148.9 | AB45: =+AB44 -> 163.5
A46: 06 | B46: 01 | C46: 01 | D46: 14 | E46: Savivaldybės neprojektinių renginių organizavimas | G46: 01.03.02.09 | H46: 188723322 | I46: 13 | J46: SB | K46: =+L46+N46 -> 0 | L46: 0 | M46: 0 | N46: 0 | O46: =+P46+R46 -> 15 | P46: 15 | Q46: 0 | R46: 0 | S46: =+T46+V46 -> 15 | T46: 15 | U46: 0 | V46: 0 | W46: =+X46+Z46 -> 0 | X46: 0 | Y46: 0 | Z46: 0 | AA46: 20 | AB46: 22 | AC46: Suorganizuotas renginys, vnt. | AD46: 10 | AE46: 10 | AF46: 10
J47: Iš viso: | K47: =SUM(K46:K46) -> 0 | L47: =SUM(L46:L46) -> 0 | M47: =SUM(M46:M46) -> 0 | N47: =SUM(N46:N46) -> 0 | O47: =+O46 -> 15 | P47: =+P46 -> 15 | Q47: =+Q46 -> 0 | R47: =+R46 -> 0 | S47: =SUM(S46:S46) -> 15 | T47: =SUM(T46:T46) -> 15 | U47: =SUM(U46:U46) -> 0 | V47: =SUM(V46:V46) -> 0 | W47: =SUM(W46:W46) -> 0 | X47: =SUM(X46:X46) -> 0 | Y47: =SUM(Y46:Y46) -> 0 | Z47: =SUM(Z46:Z46) -> 0 | AA47: =AA46 -> 20 | AB47: =+AB46 -> 22
A48: 06 | B48: 01 | C48: 01 | D48: 15 | E48: Elektroninės demokratijos, viešųjų ir (arba) administracinių paslaugų plėtra, mažinant administracinę naštą juridiniams ir fiziniams asm. (komp. technikos, progr. įrangos įsigijimas ir eksloatavimas, licencijų įsigijimas). | G48: 01.03.02.09 | H48: 188723322 | I48: 13 | J48: SB | K48: =+L48+N48 -> 130.6 | L48: 105.9 | M48: 0 | N48: 24.7 | O48: =+P48+R48 -> 263 | P48: 226 | Q48: 0 | R48: 37 | S48: =+T48+V48 -> 263 | T48: 226 | U48: 0 | V48: 37 | W48: =+X48+Z48 -> 0 | X48: 0 | Y48: 0 | Z48: 0 | AA48: 253 | AB48: 253 | AC48: Įsigyta kompiuterių, vnt.; įsigyta serverių, vnt; | AD48: 20 0 | AE48: 20 0 | AF48: 20 0
J49: Iš viso: | K49: =SUM(K48:K48) -> 130.6 | L49: =SUM(L48:L48) -> 105.9 | M49: =SUM(M48:M48) -> 0 | N49: =SUM(N48:N48) -> 24.7 | O49: =+O48 -> 263 | P49: =+P48 -> 226 | Q49: =+Q48 -> 0 | R49: =+R48 -> 37 | S49: =SUM(S48:S48) -> 263 | T49: =SUM(T48:T48) -> 226 | U49: =SUM(U48:U48) -> 0 | V49: =SUM(V48:V48) -> 37 | W49: =SUM(W48:W48) -> 0 | X49: =SUM(X48:X48) -> 0 | Y49: =SUM(Y48:Y48) -> 0 | Z49: =SUM(Z48:Z48) -> 0 | AA49: =AA48 -> 253 | AB49: =+AB48 -> 253
A50: 06 | B50: 01 | C50: 01 | D50: 16 | E50: Savivaldybės veiklos viešinimas ir reprezentavimas | G50: 01.03.02.09 | H50: 188723322 | I50: 13 | J50: SB | K50: =+L50+N50 -> 61.4 | L50: 61.4 | M50: 0 | N50: 0 | O50: =+P50+R50 -> 90 | P50: 90 | Q50: 0 | R50: 0 | S50: =+T50+V50 -> 110 | T50: 110 | U50: 0 | V50: 0 | W50: =+X50+Z50 -> 0 | X50: 0 | Y50: 0 | Z50: 0 | AA50: 90 | AB50: 90 | AC50: Reprezentaciniai suvenyrai, vnt.; laikraščių prenumerata, vnt. | AD50: 1000; 2 | AE50: 1000; 2 | AF50: 1000; 2
J51: Iš viso: | K51: =SUM(K50:K50) -> 61.4 | L51: =SUM(L50:L50) -> 61.4 | M51: =SUM(M50:M50) -> 0 | N51: =SUM(N50:N50) -> 0 | O51: =+O50 -> 90 | P51: =+P50 -> 90 | Q51: =+Q50 -> 0 | R51: =+R50 -> 0 | S51: =SUM(S50:S50) -> 110 | T51: =SUM(T50:T50) -> 110 | U51: =SUM(U50:U50) -> 0 | V51: =SUM(V50:V50) -> 0 | W51: =SUM(W50:W50) -> 0 | X51: =SUM(X50:X50) -> 0 | Y51: =SUM(Y50:Y50) -> 0 | Z51: =SUM(Z50:Z50) -> 0 | AA51: =AA50 -> 90 | AB51: =+AB50 -> 90
A52: 06 | B52: 01 | C52: 01 | D52: Iš viso uždaviniui: | K52: =K45+K43+K41+K38+K35+K32+K29+K27+K25+K23+K21+K49+K51+K47 -> 6022.4 | L52: =L45+L43+L41+L38+L35+L32+L29+L27+L25+L23+L21+L49+L51+L47 -> 5721.2 | M52: =M45+M43+M41+M38+M35+M32+M29+M27+M25+M23+M21+M49+M51+M47 -> 4263.6 | N52: =N45+N43+N41+N38+N35+N32+N29+N27+N25+N23+N21+N49+N51+N47 -> 301.2 | O52: =O45+O43+O41+O38+O35+O32+O29+O27+O25+O23+O21+O49+O51+O47 -> 7325.4 | P52: =P45+P43+P41+P38+P35+P32+P29+P27+P25+P23+P21+P49+P51+P47 -> 7233.8 | Q52: =Q45+Q43+Q41+Q38+Q35+Q32+Q29+Q27+Q25+Q23+Q21+Q49+Q51+Q47 -> 5165.8 | R52: =R45+R43+R41+R38+R35+R32+R29+R27+R25+R23+R21+R49+R51+R47 -> 91.6 | ... AB52: =AB45+AB43+AB41+AB38+AB35+AB32+AB29+AB27+AB25+AB23+AB21+AB49+AB51+AB47 -> 7282.9
A53: 06 | B53: 01 | C53: 02 | D53: Vykdyti sprendimų priėmimo laisve perduotas vykdyti valstybines (perduotas Savivaldybei) funkcijas
A54: 06 | B54: 01 | C54: 02 | D54: 01 | E54: Civiliniu kodeksu priskirtas civilinės būklės aktų registravimas | G54: 01.06.01.02 | H54: 188723322 | I54: 3 | J54: SB(VB) | K54: =+L54+N54 -> 32.1 | L54: 32.1 | M54: 31.5 | N54: 0 | O54: =+P54+R54 -> 33.5 | P54: 33.5 | Q54: 33 | R54: 0 | S54: =+T54+V54 -> 33.8 | T54: 33.8 | U54: 33.3 | V54: 0 | W54: =+X54+Z54 -> 0 | X54: 0 | Y54: 0 | Z54: 0 | AA54: 34.5 | AB54: 34.5 | AC54: Išmokėtas darbo užmokestis, proc. | AD54: 100 | AE54: 100 | AF54: 100
J55: Iš viso: | K55: =SUM(K54) -> 32.1 | L55: =+L54 -> 32.1 | M55: =+M54 -> 31.5 | N55: =N54 -> 0 | O55: =+O54 -> 33.5 | P55: =+P54 -> 33.5 | Q55: =+Q54 -> 33 | R55: =R54 -> 0 | S55: =+S54 -> 33.8 | T55: =+T54 -> 33.8 | U55: =+U54 -> 33.3 | V55: =V54 -> 0 | W55: 0 | X55: 0 | Y55: 0 | Z55: 0 | AA55: =AA54 -> 34.5 | AB55: =AB54 -> 34.5
A56: 06 | B56: 01 | C56: 02 | D56: 02 | E56: Gyventojų registrų tvarkymas ir duomenų valstybės registrui teikimas | G56: 01.03.03.02 | H56: 188723322 | I56: 20 | J56: SB(VB) | K56: =+L56+N56 -> 0.8 | L56: 0.8 | M56: 0.8 | N56: 0 | O56: =+P56+R56 -> 0.8 | P56: 0.8 | Q56: 0.8 | R56: 0 | S56: =+T56+V56 -> 0.8 | T56: 0.8 | U56: 0.8 | V56: 0 | W56: =+X56+Z56 -> 0 | X56: 0 | Y56: 0 | Z56: 0 | AA56: 0.8 | AB56: 0.8 | AC56: Išmokėtas darbo užmokestis, proc. | AD56: 100 | AE56: 100 | AF56: 100
J57: Iš viso: | K57: =K56 -> 0.8 | L57: =L56 -> 0.8 | M57: =M56 -> 0.8 | N57: =N56 -> 0 | O57: =O56 -> 0.8 | P57: =P56 -> 0.8 | Q57: =Q56 -> 0.8 | R57: =R56 -> 0 | ... V57: =V56 -> 0 | W57: 0 | X57: 0 | Y57: 0 | Z57: 0 | AA57: =AA56 -> 0.8 | AB57: =AB56 -> 0.8
A58: 06 | B58: 01 | C58: 02 | D58: 03 | E58: Piliečių prašymų atkurti nuosavybės teises į gyvenamuosius namus, jų dalis, butus, ūkinės ir komercinės paskirties pastatus nagrinėjimas bei sprendimų dėl nuosavybės teisės atkūrimo priėmimas | G58: 01.06.01.02 | H58: 188723322 | I58: 16 | J58: SB(VB) | K58: =+L58+N58 -> 0 | L58: 0 | M58: 0 | N58: 0 | O58: =+P58+R58 -> 0 | P58: 0 | Q58: 0 | R58: 0 | S58: =+T58+V58 -> 0 | T58: 0 | U58: 0 | V58: 0 | W58: =+X58+Z58 -> 0 | X58: 0 | Y58: 0 | Z58: 0 | AA58: 0 | AB58: 0 | AC58: Išmokėtas darbo užmokestis ir apmokėta už suteiktas paslaugas, proc. | AD58: 0 | AE58: 0 | AF58: 0
J59: Iš viso: | K59: =K58 -> 0 | L59: =L58 -> 0 | M59: =M58 -> 0 | N59: =N58 -> 0 | O59: =O58 -> 0 | P59: =P58 -> 0 | Q59: =Q58 -> 0 | R59: =R58 -> 0 | ... V59: =V58 -> 0 | W59: 0 | X59: 0 | Y59: 0 | Z59: 0 | AA59: =SUM(AA58) -> 0 | AB59: =SUM(AB58) -> 0
A60: 06 | B60: 01 | C60: 02 | D60: 04 | E60: Valstybinės kalbos vartojimo ir taisyklingumo kontrolė | G60: 01.06.01.02 | H60: 188723322 | I60: 3 | J60: SB(VB) | K60: =+L60+N60 -> 8.4 | L60: 8.4 | M60: 8.3 | N60: 0 | O60: =+P60+R60 -> 8.6 | P60: 8.6 | Q60: 8.5 | R60: 0 | S60: =+T60+V60 -> 8 | T60: 8 | U60: 7.9 | V60: 0 | W60: =+X60+Z60 -> 0 | X60: 0 | Y60: 0 | Z60: 0 | AA60: 8.6 | AB60: 8.6 | AC60: Išmokėtas darbo užmokestis, proc. | AD60: 100 | AE60: 100 | AF60: 100
J61: Iš viso: | K61: =+K60 -> 8.4 | L61: =+L60 -> 8.4 | M61: =+M60 -> 8.3 | N61: =N60 -> 0 | O61: =+O60 -> 8.6 | P61: =+P60 -> 8.6 | Q61: =+Q60 -> 8.5 | R61: =R60 -> 0 | S61: =+S60 -> 8 | T61: =+T60 -> 8 | U61: =+U60 -> 7.9 | V61: =V60 -> 0 | W61: 0 | X61: 0 | Y61: 0 | Z61: 0 | AA61: =AA60 -> 8.6 | AB61: =AB60 -> 8.6
A62: 06 | B62: 01 | C62: 02 | D62: 05 | E62: Žemės ūkio funkcijų vykdymas | G62: 04.02.01.04 | H62: 188723322 | I62: 20 | J62: SB(VB) | K62: =+L62+N62 -> 260.6 | L62: 260.6 | M62: 251 | N62: 0 | O62: =+P62+R62 -> 363.3 | P62: 363.3 | Q62: 355.2 | R62: 0 | S62: =+T62+V62 -> 352.5 | T62: 352.5 | U62: 341.7 | V62: 0 | W62: =+X62+Z62 -> 0 | X62: 0 | Y62: 0 | Z62: 0 | AA62: 363.3 | AB62: 363.3 | AC62: Išmokėtas darbo užmokestis ir apmokėta už suteiktas paslaugas, proc. | AD62: 100 | AE62: 100 | AF62: 100
J63: SB | K63: 0 | L63: 0 | M63: 0 | N63: 0 | O63: 0 | P63: 0 | Q63: 0 | R63: 0 | S63: 0 | T63: 0 | U63: 0 | V63: 0 | W63: 0 | X63: 0 | Y63: 0 | Z63: 0 | AA63: 0 | AB63: 0
J64: Iš viso: | K64: =K62+K63 -> 260.6 | L64: =L62+L63 -> 260.6 | M64: =M62+M63 -> 251 | N64: =N62+N63 -> 0 | O64: =O62+O63 -> 363.3 | P64: =P62+P63 -> 363.3 | Q64: =Q62+Q63 -> 355.2 | R64: =R62+R63 -> 0 | ... V64: =V62+V63 -> 0 | W64: 0 | X64: 0 | Y64: 0 | Z64: 0 | AA64: =AA62+AA63 -> 363.3 | AB64: =AB62+AB63 -> 363.3
A65: 06 | B65: 01 | C65: 02 | D65: 06 | E65: Archyvinių dokumentų tvarkymas | G65: 01.03.03.02 | H65: 188723322 | I65: 13 | J65: SB(VB) | K65: =+L65+N65 -> 20.6 | L65: 20.6 | M65: 17.1 | N65: 0 | O65: =+P65+R65 -> 24.5 | P65: 24.5 | Q65: 20 | R65: 0 | S65: =+T65+V65 -> 21.2 | T65: 21.2 | U65: 17.6 | V65: 0 | W65: =+X65+Z65 -> 0 | X65: 0 | Y65: 0 | Z65: 0 | AA65: 24.5 | AB65: 24.5 | AC65: Išmokėtas darbo užmokestis ir apmokėta už suteiktas paslaugas, proc. | AD65: 100 | AE65: 100 | AF65: 100
J66: Iš viso: | K66: =K65 -> 20.6 | L66: =L65 -> 20.6 | M66: =M65 -> 17.1 | N66: =N65 -> 0 | O66: =O65 -> 24.5 | P66: =P65 -> 24.5 | Q66: =Q65 -> 20 | R66: =R65 -> 0 | ... V66: =V65 -> 0 | W66: 0 | X66: 0 | Y66: 0 | Z66: 0 | AA66: =AA65 -> 24.5 | AB66: =AB65 -> 24.5
A67: 06 | B67: 01 | C67: 02 | D67: 07 | E67: Jaunimo reikalų koordinatoriaus veikla | G67: 01.06.01.02 | H67: 188723322 | I67: 6 | J67: SB(VB) | K67: =+L67+N67 -> 21.7 | L67: 21.2 | M67: 20.7 | N67: 0.5 | O67: =+P67+R67 -> 24.8 | P67: 24.8 | Q67: 23.7 | R67: 0 | S67: =+T67+V67 -> 21.1 | T67: 21.1 | U67: 20.3 | V67: 0 | W67: =+X67+Z67 -> 0 | X67: 0 | Y67: 0 | Z67: 0 | AA67: 25.1 | AB67: 25.1 | AC67: Išmokėtas darbo užmokestis ir apmokėta už suteiktas paslaugas, proc. | AD67: 100 | AE67: 100 | AF67: 100
J68: Iš viso: | K68: =K67 -> 21.7 | L68: =L67 -> 21.2 | M68: =M67 -> 20.7 | N68: =N67 -> 0.5 | O68: =O67 -> 24.8 | P68: =P67 -> 24.8 | Q68: =Q67 -> 23.7 | R68: =R67 -> 0 | ... V68: =V67 -> 0 | W68: 0 | X68: 0 | Y68: 0 | Z68: 0 | AA68: =AA67 -> 25.1 | AB68: =AB67 -> 25.1
A69: 06 | B69: 01 | C69: 02 | D69: 08 | E69: Mobilizacijos administravimas | G69: 02.01.01.04 | H69: 188723322 | I69: 17 | J69: SB(VB) | K69: =+L69+N69 -> 25.1 | L69: 24.9 | M69: 23.3 | N69: 0.2 | O69: =+P69+R69 -> 30 | P69: 30 | Q69: 28.5 | R69: 0 | S69: =+T69+V69 -> 29.1 | T69: 29.1 | U69: 25.6 | V69: 0 | W69: =+X69+Z69 -> 0 | X69: 0 | Y69: 0 | Z69: 0 | AA69: 30.5 | AB69: 30.5 | AC69: Išmokėtas darbo užmokestis ir apmokėta už suteiktas paslaugas, proc. | AD69: 100 | AE69: 100 | AF69: 100
J70: Iš viso: | K70: =K69 -> 25.1 | L70: =L69 -> 24.9 | M70: =M69 -> 23.3 | N70: =N69 -> 0.2 | O70: =O69 -> 30 | P70: =P69 -> 30 | Q70: =Q69 -> 28.5 | R70: =R69 -> 0 | ... V70: =V69 -> 0 | W70: 0 | X70: 0 | Y70: 0 | Z70: 0 | AA70: =AA69 -> 30.5 | AB70: =AB69 -> 30.5
A71: 06 | B71: 01 | C71: 02 | D71: 10 | E71: Pirminė teisinė pagalba | G71: 01.06.01.02 | H71: 188723322 | I71: 3 | J71: SB(VB) | K71: =+L71+N71 -> 11.5 | L71: 11.5 | M71: 11.3 | N71: 0 | O71: =+P71+R71 -> 12.2 | P71: 12.2 | Q71: 12 | R71: 0 | S71: =+T71+V71 -> 8.7 | T71: 8.7 | U71: 8.6 | V71: 0 | W71: =+X71+Z71 -> 0 | X71: 0 | Y71: 0 | Z71: 0 | AA71: 12.2 | AB71: 12.2 | AC71: Išmokėtas darbo užmokestis, proc. | AD71: 100 | AE71: 100 | AF71: 100
J72: Iš viso: | K72: =K71 -> 11.5 | L72: =L71 -> 11.5 | M72: =M71 -> 11.3 | N72: =N71 -> 0 | O72: =O71 -> 12.2 | P72: =P71 -> 12.2 | Q72: =Q71 -> 12 | R72: =R71 -> 0 | ... V72: =V71 -> 0 | W72: 0 | X72: 0 | Y72: 0 | Z72: 0 | AA72: =AA71 -> 12.2 | AB72: =AB71 -> 12.2
A73: 06 | B73: 01 | C73: 02 | D73: 11 | E73: Gyvenamosios vietos deklaravimas | G73: 01.06.01.02 | H73: 188723322 | I73: 20 | J73: SB(VB) | K73: =+L73+N73 -> 5.9 | L73: 5.9 | M73: 5.6 | N73: 0 | O73: =+P73+R73 -> 6 | P73: 6 | Q73: 5.9 | R73: 0 | S73: =+T73+V73 -> 4.4 | T73: 4.4 | U73: 4.3 | V73: 0 | W73: =+X73+Z73 -> 0 | X73: 0 | Y73: 0 | Z73: 0 | AA73: 6.1 | AB73: 6.1 | AC73: Išmokėtas darbo užmokestis ir apmokėta už suteiktas paslaugas, proc. | AD73: 100 | AE73: 100 | AF73: 100
J74: Iš viso: | K74: =K73 -> 5.9 | L74: =L73 -> 5.9 | M74: =M73 -> 5.6 | N74: =N73 -> 0 | O74: =O73 -> 6 | P74: =P73 -> 6 | Q74: =Q73 -> 5.9 | R74: =R73 -> 0 | ... V74: =V73 -> 0 | W74: 0 | X74: 0 | Y74: 0 | Z74: 0 | AA74: =AA73 -> 6.1 | AB74: =AB73 -> 6.1
A75: 06 | B75: 01 | C75: 02 | D75: 12 | E75: Turto remontas | G75: 01.03.02.09 01.06.01.03 | H75: 188723322 | I75: 16 | J75: SB(SP) | K75: =+L75+N75 -> 50 | L75: 50 | M75: 0 | N75: 0 | O75: =+P75+R75 -> 60 | P75: 60 | Q75: 0 | R75: 0 | S75: =+T75+V75 -> 50 | T75: 50 | U75: 0 | V75: 0 | W75: =+X75+Z75 -> 0 | X75: 0 | Y75: 0 | Z75: 0 | AA75: 60 | AB75: 60 | AC75: Įgyvendinta veikla, proc. | AD75: 100 | AE75: 100 | AF75: 100
J76: SB(VB) | K76: =L76+N76 -> 2.9 | L76: 2.9 | M76: 2.9 | N76: 0 | O76: =P76+R76 -> 0 | P76: 0 | Q76: 0 | R76: 0 | S76: =T76+V76 -> 0 | T76: 0 | U76: 0 | V76: 0 | W76: =X76+Z76 -> 0 | X76: 0 | Y76: 0 | Z76: 0 | AA76: 0 | AB76: 0
J77: Iš viso: | K77: =SUM(K75:K76) -> 52.9 | L77: =SUM(L75:L76) -> 52.9 | M77: =SUM(M75:M76) -> 2.9 | N77: =SUM(N75:N76) -> 0 | O77: =SUM(O75:O76) -> 60 | P77: =SUM(P75:P76) -> 60 | Q77: =SUM(Q75:Q76) -> 0 | R77: =SUM(R75:R76) -> 0 | ... AB77: =SUM(AB75:AB76) -> 60
A78: 06 | B78: 01 | C78: 02 | D78: 19 | E78: Tarpinstitucinio bendradarbiavimo koordinatoriaus pareigybės finansavimas | G78: 01.03.02.09 | H78: 188723322 | I78: 11 | J78: SB(VB) | K78: =+L78+N78 -> 27.6 | L78: 27.6 | M78: 27.2 | N78: 0 | O78: =+P78+R78 -> 30.2 | P78: 30.2 | Q78: 29.8 | R78: 0 | S78: =+T78+V78 -> 31 | T78: 31 | U78: 30.6 | V78: 0 | W78: =+X78+Z78 -> 0 | X78: 0 | Y78: 0 | Z78: 0 | AA78: 30.4 | AB78: 30.4 | AC78: Išmokėtas darbo užmokestis, proc. | AD78: 100 | AE78: 100 | AF78: 100
J79: Iš viso: | K79: =SUM(K78:K78) -> 27.6 | L79: =SUM(L78:L78) -> 27.6 | M79: =SUM(M78:M78) -> 27.2 | N79: =SUM(N78:N78) -> 0 | O79: =+O78 -> 30.2 | P79: =+P78 -> 30.2 | Q79: =+Q78 -> 29.8 | R79: =+R78 -> 0 | S79: =SUM(S78:S78) -> 31 | T79: =SUM(T78:T78) -> 31 | U79: =SUM(U78:U78) -> 30.6 | V79: =SUM(V78:V78) -> 0 | W79: =SUM(W78:W78) -> 0 | X79: =SUM(X78:X78) -> 0 | Y79: =SUM(Y78:Y78) -> 0 | Z79: =SUM(Z78:Z78) -> 0 | AA79: =AA78 -> 30.4 | AB79: =+AB78 -> 30.4
A80: 06 | B80: 01 | C80: 02 | D80: 20 | E80: Savivaldybės erdvinių duomenų rinkinio tvarkymas | G80: 01.03.02.09 | H80: 188723322 | I80: 16 | J80: SB(VB) | K80: =L80+N80 -> 13.4 | L80: 13.4 | M80: 0 | N80: 0 | O80: =P80+Q80 -> 20 | P80: 20 | Q80: 0 | R80: 0 | S80: =T80+U80 -> 14.3 | T80: 14.3 | U80: 0 | V80: 0 | W80: =X80+Y80 -> 0 | X80: 0 | Y80: 0 | Z80: 0 | AA80: 20 | AB80: 20 | AC80: Topografinių planų kiekis, ha | AD80: 700 | AE80: 700 | AF80: 700
J81: Iš viso: | K81: =SUM(K80) -> 13.4 | L81: =SUM(L80) -> 13.4 | M81: =SUM(M80) -> 0 | N81: =SUM(N80) -> 0 | O81: =SUM(O80) -> 20 | P81: =SUM(P80) -> 20 | Q81: =SUM(Q80) -> 0 | R81: =SUM(R80) -> 0 | ... AB81: =SUM(AB80) -> 20 | AC81: Tiesinių (inžinerinių komunikacijų) planų kiekiai, km | AD81: 40 | AE81: 40 | AF81: 40
A82: 06 | B82: 01 | C82: 02 | D82: Iš viso uždaviniui: | K82: =K55+K57+K59+K61+K64+K66+K68+K70+K72+K74+K77+K79+K81 -> 480.6 | L82: =L55+L57+L59+L61+L64+L66+L68+L70+L72+L74+L77+L79+L81 -> 479.9 | M82: =M55+M57+M59+M61+M64+M66+M68+M70+M72+M74+M77+M79+M81 -> 399.7 | N82: =N55+N57+N59+N61+N64+N66+N68+N70+N72+N74+N77+N79+N81 -> 0.7 | O82: =O55+O57+O59+O61+O64+O66+O68+O70+O72+O74+O77+O79+O81 -> 613.9 | P82: =P55+P57+P59+P61+P64+P66+P68+P70+P72+P74+P77+P79+P81 -> 613.9 | Q82: =Q55+Q57+Q59+Q61+Q64+Q66+Q68+Q70+Q72+Q74+Q77+Q79+Q81 -> 517.4 | R82: =R55+R57+R59+R61+R64+R66+R68+R70+R72+R74+R77+R79+R81 -> 0 | ... AB82: =AB55+AB57+AB59+AB61+AB64+AB66+AB68+AB70+AB72+AB74+AB77+AB79+AB81 -> 616
A83: 06 | B83: 01 | C83: 03 | D83: Užtikrinti finansavimą nenumatytoms išlaidoms dengti
A84: 06 | B84: 01 | C84: 03 | D84: 01 | E84: Šilutės rajono savivaldybės mero rezervo lėšų panaudojimas | G84: 01.06.01.04 | H84: 188723322 | I84: 9 | J84: SB | K84: =+L84+N84 -> 0 | L84: 0 | M84: 0 | N84: 0 | O84: =+P84+R84 -> 50 | P84: 50 | Q84: 0 | R84: 0 | S84: =T84+V84 -> 95.8 | T84: 95.8 | U84: 0 | V84: 0 | W84: =+X84+Z84 -> 0 | X84: 0 | Y84: 0 | Z84: 0 | AA84: 50 | AB84: 50 | AC84: Panaudotos rezervo lėšos, proc. | AD84: 100 | AE84: 100 | AF84: 100
J85: Iš viso: | K85: =K84 -> 0 | L85: =L84 -> 0 | M85: 0 | N85: 0 | O85: =O84 -> 50 | P85: =P84 -> 50 | Q85: =Q84 -> 0 | R85: =R84 -> 0 | S85: =S84 -> 95.8 | T85: =T84 -> 95.8 | U85: =U84 -> 0 | V85: =V84 -> 0 | W85: 0 | X85: 0 | Y85: 0 | Z85: 0 | AA85: =AA84 -> 50 | AB85: =AB84 -> 50
A86: 06 | B86: 01 | C86: 03 | D86: Iš viso uždaviniui: | K86: =K85 -> 0 | L86: =L85 -> 0 | M86: =M85 -> 0 | N86: =N85 -> 0 | O86: =O85 -> 50 | P86: =P85 -> 50 | Q86: =Q85 -> 0 | R86: =R85 -> 0 | ... V86: =V85 -> 0 | W86: 0 | X86: 0 | Y86: 0 | Z86: 0 | AA86: =AA85 -> 50 | AB86: =AB85 -> 50
A87: 06 | B87: 01 | C87: Iš viso tikslui: | K87: =SUM(K52+K82+K86) -> 6503 | L87: =SUM(L52+L82+L86) -> 6201.1 | M87: =+M86+M82+M52 -> 4663.3 | N87: =+N86+N82+N52 -> 301.9 | O87: =SUM(O52+O82+O86) -> 7989.3 | P87: =SUM(P52+P82+P86) -> 7897.7 | Q87: =+Q86+Q82+Q52 -> 5683.2 | R87: =+R86+R82+R52 -> 91.6 | S87: =SUM(S52+S82+S86) -> 7976.5 | T87: =SUM(T52+T82+T86) -> 7884.9 | U87: =+U86+U82+U52 -> 5683.6 | V87: =+V86+V82+V52 -> 91.6 | W87: 0 | X87: 0 | Y87: 0 | Z87: 0 | AA87: =AA52+AA82+AA86 -> 7920.9 | AB87: =+AB86+AB82+AB52 -> 7948.9
A88: 06 | B88: 02 Savivaldybės paskolų dengimą finansuoti laiku, kuo mažesniais kaštais
A89: 06 | B89: 02 | C89: 01 | D89: Užtikrinti paskolų grąžinimą
A90: 06 | B90: 02 | C90: 01 | D90: 01 | E90: Paskolų grąžinimas | G90: 01.03.02.01 | H90: 188723322 | I90: 9 | J90: SB | K90: =L90+N90 -> 1655.9 | L90: 0 | M90: 0 | N90: 1655.9 | O90: =+P90+R90 -> 1568 | P90: 0 | Q90: 0 | R90: 1568 | S90: =T90+V90 -> 1783.6 | T90: 0 | U90: 0 | V90: 1783.6 | W90: =+X90+Z90 -> 0 | X90: 0 | Y90: 0 | Z90: 0 | AA90: 1708 | AB90: 1708 | AC90: Grąžintos paskolos, proc. | AD90: 100 | AE90: 100 | AF90: 100
J91: Iš viso: | K91: =+K90 -> 1655.9 | L91: =+L90 -> 0 | M91: =M90 -> 0 | N91: =N90 -> 1655.9 | O91: =+O90 -> 1568 | P91: =+P90 -> 0 | Q91: =Q90 -> 0 | R91: =R90 -> 1568 | S91: =+S90 -> 1783.6 | T91: =+T90 -> 0 | U91: =U90 -> 0 | V91: =V90 -> 1783.6 | W91: 0 | X91: 0 | Y91: 0 | Z91: 0 | AA91: =+AA90 -> 1708 | AB91: =+AB90 -> 1708
A92: 06 | B92: 02 | C92: 01 | D92: 02 | E92: Palūkanų mokėjimas | G92: 01.03.02.01 | H92: 188723322 | I92: 9 | J92: SB | K92: =L92+N92 -> 201.8 | L92: 201.8 | M92: 0 | N92: 0 | O92: =+P92+R92 -> 175 | P92: 175 | Q92: 0 | R92: 0 | S92: =T92+V92 -> 370 | T92: 370 | U92: 0 | V92: 0 | W92: =+X92+Z92 -> 0 | X92: 0 | Y92: 0 | Z92: 0 | AA92: 175 | AB92: 175 | AC92: Sumokėtos palūkanos, proc. | AD92: 100 | AE92: 100 | AF92: 100
J93: Iš viso: | K93: =SUM(K92) -> 201.8 | L93: =SUM(L92) -> 201.8 | M93: =SUM(M92) -> 0 | N93: =SUM(N92) -> 0 | O93: =SUM(O92) -> 175 | P93: =SUM(P92) -> 175 | Q93: =SUM(Q92) -> 0 | R93: =SUM(R92) -> 0 | ... AB93: =SUM(AB92) -> 175
A94: 06 | B94: 02 | C94: 01 | D94: Iš viso uždaviniui: | K94: =K91+K93 -> 1857.7 | L94: =L91+L93 -> 201.8 | M94: =M91+M93 -> 0 | N94: =N91+N93 -> 1655.9 | O94: =O91+O93 -> 1743 | P94: =P91+P93 -> 175 | Q94: =Q91+Q93 -> 0 | R94: =R91+R93 -> 1568 | ... AB94: =AB91+AB93 -> 1883
A95: 06 | B95: 02 | C95: Iš viso tikslui: | K95: =+K94 -> 1857.7 | L95: =L94 -> 201.8 | M95: =M94 -> 0 | N95: =N94 -> 1655.9 | O95: =+O94 -> 1743 | P95: =P94 -> 175 | Q95: =Q94 -> 0 | R95: =R94 -> 1568 | S95: =+S94 -> 2153.6 | T95: =T94 -> 370 | U95: =U94 -> 0 | V95: =V94 -> 1783.6 | W95: 0 | X95: 0 | Y95: 0 | Z95: 0 | AA95: =AA94 -> 1883 | AB95: =AB94 -> 1883
A96: 06 | B96: Iš viso 06 programai: | K96: =SUM(K87+K95) -> 8360.7 | L96: =+L95+L87 -> 6402.9 | M96: =+M95+M87 -> 4663.3 | N96: =+N95+N87 -> 1957.8 | O96: =SUM(O87+O95) -> 9732.3 | P96: =+P95+P87 -> 8072.7 | Q96: =+Q95+Q87 -> 5683.2 | R96: =+R95+R87 -> 1659.6 | S96: =SUM(S87+S95) -> 10130.1 | T96: =+T95+T87 -> 8254.9 | U96: =+U95+U87 -> 5683.6 | V96: =+V95+V87 -> 1875.2 | W96: =SUM(W87+W95) -> 0 | X96: =+X95+X87 -> 0 | Y96: =+Y95+Y87 -> 0 | Z96: =+Z95+Z87 -> 0 | AA96: =+AA95+AA87 -> 9803.9 | AB96: =+AB95+AB87 -> 9831.9

Sheet 06 Išlaidų suvestinė
A1: Šilutės rajono savivaldybės administracijos 2023–2025 m. Efektyvaus savivaldybės valdymo programa | T1: (Nr.06)
A3: tūkst. Eur
A4: Strateginio tikslo kodas | B4: Programos kodas | C4: Programos pavadinimas | D4: Funkcinės klasifikacijos kodas | E4: Asignavimų valdytojo kodas | F4: 2022 m. išlaidos | J4: 2023 m. išlaidų projektas | N4: 2023 m. patvirtinta Šilutės r. savivaldybės taryboje | R4: 2023 m. faktiškai skirtas finansavimas
F5: Iš viso | G5: Išlaidoms | I5: Turtui įsigyti ir finansiniams įsipareigojimams vykdyti | J5: Iš viso | K5: Išlaidoms | M5: Turtui įsigyti ir finansiniams įsipareigojimams vykdyti | N5: Iš viso | O5: Išlaidoms | Q5: Turtui įsigyti ir finansiniams įsipareigojimams vykdyti | R5: Iš viso | S5: Išlaidoms | U5: Turtui įsigyti ir finansiniams įsipareigojimams vykdyti
G6: Iš viso | H6: Iš jų darbo užmokesčiui | K6: Iš viso | L6: Iš jų darbo užmokesčiui | O6: Iš viso | P6: Iš jų darbo užmokesčiui | S6: Iš viso | T6: Iš jų darbo užmokesčiui
A7: 6 | B7: 6 | C7: Efektyvaus savivaldybės valdymo programa | D7: 01.01.01.03 01.03.02.09 08.06.01.09 09.08.01.09 10.09.01.09 01.06.01.02 01.03.03.02 04.02.01.04 02.01.01.04 01.06.01.03 01.06.01.04 01.03.02.01 | E7: 188723322 188698374 | F7: ='06 Programa'!K96 -> 8360.7 | G7: ='06 Programa'!L96 -> 6402.9 | H7: ='06 Programa'!M96 -> 4663.3 | I7: ='06 Programa'!N96 -> 1957.8 | J7: ='06 Programa'!O96 -> 9732.3 | K7: ='06 Programa'!P96 -> 8072.7 | L7: ='06 Programa'!Q96 -> 5683.2 | M7: ='06 Programa'!R96 -> 1659.6 | ... Q7: ='06 Programa'!V96 -> 1875.2
A8: IŠ VISO: | F8: =SUM(F7) -> 8360.7 | G8: =SUM(G7) -> 6402.9 | H8: =SUM(H7) -> 4663.3 | I8: =SUM(I7) -> 1957.8 | J8: =SUM(J7) -> 9732.3 | K8: =SUM(K7) -> 8072.7 | L8: =SUM(L7) -> 5683.2 | M8: =SUM(M7) -> 1659.6 | N8: =SUM(N7) -> 10130.1 | O8: =O7 -> 8254.9 | P8: =SUM(P7) -> 5683.6 | Q8: ='06 Programa'!V96 -> 1875.2 | R8: =SUM(R7) -> 0 | S8: =SUM(S7) -> 0 | T8: =SUM(T7) -> 0 | U8: =SUM(U7) -> 0

Sheet 06 Šaltiniai
A1: 06. Efektyvaus savivaldybės valdymo programa
A2: Finansavimo šaltiniai | J2: 2022 m. išlaidos, tūkst. Eur | K2: 2023 m. projektas, tūkst. Eur | L2: 2023 m. patvirtinta Šilutės r. savivaldybės taryboje, tūkst. Eur | U2: 2023 m. faktiškai skirtas finansavimas, tūkst. Eur
A3: Savivaldybės biudžetas SB | J3: ='06 Programa'!K92+'06 Programa'!K90+'06 Programa'!K84+'06 Programa'!K63+'06 Programa'!K50+'06 Programa'!K48+'06 Programa'!K46+'06 Programa'!K44+'06 Programa'!K42+'06 Programa'!K39+'06 Programa'!K36+'06 Programa'!K33+'06 Programa'!K30+'06 Programa'!K28+'06 Programa'!K26+'06 Programa'!K24+'06 Programa'!K22+'06 Programa'!K20 -> 7835 | K3: ='06 Programa'!O20+'06 Programa'!O22+'06 Programa'!O24+'06 Programa'!O26+'06 Programa'!O28+'06 Programa'!O30+'06 Programa'!O33+'06 Programa'!O36+'06 Programa'!O39+'06 Programa'!O42+'06 Programa'!O44+'06 Programa'!O46+'06 Programa'!O48+'06 Programa'!O50+'06 Programa'!O63+'06 Programa'!O84+'06 Programa'!O90+'06 Programa'!O92 -> 9118.4 | L3: ='06 Programa'!S92+'06 Programa'!S90+'06 Programa'!S84+'06 Programa'!S63+'06 Programa'!S50+'06 Programa'!S48+'06 Programa'!S46+'06 Programa'!S44+'06 Programa'!S42+'06 Programa'!S39+'06 Programa'!S36+'06 Programa'!S33+'06 Programa'!S30+'06 Programa'!S28+'06 Programa'!S26+'06 Programa'!S24+'06 Programa'!S22+'06 Programa'!S20 -> 9542.7
A4: Valstybės biudžeto specialioji tikslinė dotacija SB(VB) | J4: ='06 Programa'!K31+'06 Programa'!K34+'06 Programa'!K37+'06 Programa'!K40+'06 Programa'!K54+'06 Programa'!K56+'06 Programa'!K58+'06 Programa'!K60+'06 Programa'!K62+'06 Programa'!K67+'06 Programa'!K65+'06 Programa'!K69+'06 Programa'!K71+'06 Programa'!K73+'06 Programa'!K76+'06 Programa'!K78+'06 Programa'!K80 -> 475.7 | K4: ='06 Programa'!O34+'06 Programa'!O31+'06 Programa'!O37+'06 Programa'!O40+'06 Programa'!O54+'06 Programa'!O56+'06 Programa'!O58+'06 Programa'!O60+'06 Programa'!O62+'06 Programa'!O65+'06 Programa'!O67+'06 Programa'!O69+'06 Programa'!O71+'06 Programa'!O73+'06 Programa'!O78+'06 Programa'!O80 -> 553.9 | L4: ='06 Programa'!S80+'06 Programa'!S78+'06 Programa'!S76+'06 Programa'!S73+'06 Programa'!S71+'06 Programa'!S69+'06 Programa'!S67+'06 Programa'!S65+'06 Programa'!S62+'06 Programa'!S60+'06 Programa'!S58+'06 Programa'!S56+'06 Programa'!S54+'06 Programa'!S40+'06 Programa'!S37+'06 Programa'!S34+'06 Programa'!S31 -> 537.4
A5: Aplinkos apsaugos rėmimo specialioji programa SB(AA) | J5: 0 | K5: 0 | L5: 0
A6: Pajamos už suteiktas paslaugas SB(SP) | J6: ='06 Programa'!K75 -> 50 | K6: ='06 Programa'!O75 -> 60 | L6: ='06 Programa'!S75 -> 50
A7: Švietimo įstaigų modernizavimo programa SB(ŠIMP) | J7: 0 | K7: 0 | L7: 0
A8: Skolintos lėšos SL | J8: 0 | K8: 0 | L8: 0
A9: Užsienio valstybių, tarptautinių organizacijų ir Europos Sąjungos lėšos ES, EEE | J9: 0 | K9: 0 | L9: 0
A10: Visuomenės sveikatos apsaugos rėmimo specialioji programa SB(VS) | J10: 0 | K10: 0 | L10: 0
A11: Valstybės lėšos VL | J11: 0 | K11: 0 | L11: 0
A12: Kitos lėšos KTL | J12: 0 | K12: 0 | L12: 0
A13: Kelių priežiūros ir plėtros programa KPPP | J13: 0 | K13: 0 | L13: 0
A14: Valstybės investicijų programa VIP | J14: 0 | K14: 0 | L14: 0
A15: Iš viso: | J15: =SUM(J3:J14) -> 8360.7 | K15: =SUM(K3:K14) -> 9732.3 | L15: =SUM(L3:T14) -> 10130.1

Sheet 06 Bendros lėšos
A1: 06. Efektyvaus savivaldybės valdymo programa
A2: Bendras lėšų poreikis ir numatomi finansavimo šaltiniai
A3: tūkst. Eur
A4: Ekonominės klasifikacijos grupės | B4: Asignavimai 2022 m. | C4: Paraiška biudžetiniams | F4: 2023-iems m. patvirtinta Šilutės r. savivaldybės taryboje | G4: 2023-iems m. faktiškai skirta | H4: Projektas 2024 m. | I4: Projektas 2025 m.
C5: 2023 m.
C6: bazinis biudžetas | D6: pakeitimai/ (+padidėjimas -sumažėjimas) | E6: iš viso
A9: 1. Iš viso lėšų poreikis: | B9: ='06 Programa'!K96 -> 8360.7 | C9: =+B9 -> 8360.7 | D9: =E9-C9 -> 1371.6 | E9: ='06 Programa'!O96 -> 9732.3 | F9: ='06 Programa'!S96 -> 10130.1 | H9: ='06 Programa'!AA96 -> 9803.9 | I9: ='06 Programa'!AB96 -> 9831.9
A10: 1.1.išlaidoms | B10: ='06 Programa'!L96 -> 6402.9 | C10: =+B10 -> 6402.9 | D10: =E10-C10 -> 1669.8 | E10: ='06 Programa'!P96 -> 8072.7 | F10: ='06 Programa'!T96 -> 8254.9 | H10: =H9-H12 -> 7978.34 | I10: =I9-I12 -> 7823.784
A11: 1.1.1.iš jų darbo užmokesčiui | B11: ='06 Programa'!M96 -> 4663.3 | C11: =+B11 -> 4663.3 | D11: =E11-C11 -> 1019.9 | E11: ='06 Programa'!Q96 -> 5683.2 | F11: ='06 Programa'!U96 -> 5683.6 | H11: =E11*1.1 -> 6251.52 | I11: =H11*1.1 -> 6876.672
A12: 1.2. turtui įsigyti ir finansiniams įsipareigojimams vykdyti | B12: ='06 Programa'!N96 -> 1957.8 | C12: =+B12 -> 1957.8 | D12: =E12-C12 -> -298.2 | E12: ='06 Programa'!R96 -> 1659.6 | F12: ='06 Programa'!V96 -> 1875.2 | H12: =E12*1.1 -> 1825.56 | I12: =H12*1.1 -> 2008.116
A13: 2. Finansavimas | B13: ='06 Programa'!K96 -> 8360.7 | C13: =C14+C19 -> 8360.7 | D13: =E13-C13 -> 1371.6 | E13: ='06 Programa'!O96 -> 9732.3 | F13: ='06 Programa'!S96 -> 10130.1 | H13: =H9 -> 9803.9 | I13: =I9 -> 9831.9
A14: 2.1.Savivaldybės biudžetas: | B14: =B9-B19 -> 8360.7 | C14: =C9-C19 -> 8360.7 | D14: =E14-C14 -> 1371.6 | E14: =E9-E19 -> 9732.3 | F14: =+F9-F19 -> 10130.1 | H14: =H13-H19 -> 9803.9 | I14: =I13-I19 -> 9831.9
A15: 2.1.1. iš jo: valstybės biudžeto specialioji tikslinė dotacija | B15: ='06 Šaltiniai'!J4 -> 475.7 | C15: =B15 -> 475.7 | D15: =E15-C15 -> 78.2 | E15: ='06 Šaltiniai'!K4 -> 553.9 | F15: 537.3 | H15: ='06 Programa'!AA54+'06 Programa'!AA56+'06 Programa'!AA58+'06 Programa'!AA60+'06 Programa'!AA62+'06 Programa'!AA65+'06 Programa'!AA67+'06 Programa'!AA69+'06 Programa'!AA71+'06 Programa'!AA73 -> 505.6 | I15: ='06 Programa'!AB73+'06 Programa'!AB71+'06 Programa'!AB69+'06 Programa'!AB67+'06 Programa'!AB65+'06 Programa'!AB62+'06 Programa'!AB60+'06 Programa'!AB58+'06 Programa'!AB56+'06 Programa'!AB54 -> 505.6
A16: 2.1.2.iš jo: aplinkos apsaugos rėmimo specialiosios programos lėšos | B16: 0 | C16: 0 | D16: =E16-C16 -> 0 | E16: 0 | F16: 0 | H16: 0 | I16: 0
A17: 2.1.3. iš jo: visuomenės sveikatos rėmimo specialiosios programos lėšos | B17: 0 | C17: 0 | D17: =E17-C17 -> 0 | E17: 0 | F17: 0 | H17: 0 | I17: 0
A18: 2.1.4. iš jo: pajamos už suteiktas paslaugas | B18: 50 | C18: =+B18 -> 50 | D18: =E18-C18 -> 10 | E18: ='06 Šaltiniai'!K6 -> 60 | F18: 50 | H18: ='06 Programa'!AA75 -> 60 | I18: ='06 Programa'!AB75 -> 60
A19: 2.2. Kiti šaltiniai: | B19: =SUM(B20:B26) -> 0 | C19: =SUM(C20:C26) -> 0 | D19: =E19-C19 -> 0 | E19: =SUM(E20:E26) -> 0 | F19: =SUM(F20:F26) -> 0 | H19: =SUM(H20:H26) -> 0 | I19: =SUM(I20:I26) -> 0
A20: 2.2.1. švietimo įstaigų modernizavimo programa | B20: 0 | C20: 0 | D20: =E20-C20 -> 0 | E20: 0 | F20: 0 | H20: 0 | I20: 0
A21: 2.2.2. skolintos lėšos | B21: 0 | C21: 0 | D21: =E21-C21 -> 0 | E21: 0 | F21: 0 | H21: 0 | I21: 0
A22: 2.2.3. valstybės investicijų programa | B22: 0 | C22: 0 | D22: =E22-C22 -> 0 | E22: 0 | F22: 0 | H22: 0 | I22: 0
A23: 2.2.4. Užsienio valstybių, tarptautinių organizacijų ir Europos Sąjungos lėšos | B23: 0 | C23: =+B23 -> 0 | D23: =E23-C23 -> 0 | E23: =+[1]tikslai!N50 -> 0 | F23: 0 | H23: 0 | I23: 0
A24: 2.2.5. Valstybės lėšos | B24: ='06 Šaltiniai'!J11 -> 0 | C24: =B24 -> 0 | D24: =E24-C24 -> 0 | E24: ='06 Šaltiniai'!K12 -> 0 | F24: 0 | H24: 0 | I24: 0
A25: 2.2.6. Kelių priežiūros ir plėtros programos lėšos | B25: 0 | C25: 0 | D25: =E25-C25 -> 0 | E25: 0 | F25: 0 | H25: 0 | I25: 0
A26: 2.2.7. kitos lėšos | B26: 0 | C26: 0 | D26: 0 | E26: 0 | F26: =[2]Suvestine!L14 -> 0 | H26: 0 | I26: 0
