Workbook
Name Print_Area_0: '06 Bendros lėšos'!$A$1:$J$27
Name Print_Area_0: '06 Išlaidų suvestinė'!$A$1:$U$9
Name Print_Area_0: '06 Programa'!$A$1:$AF$96
Name Print_Area_0_0: '06 Bendros lėšos'!$A$1:$J$27
Name Print_Area_0_0: '06 Išlaidų suvestinė'!$A$1:$U$9
Name Print_Area_0_0: '06 Programa'!$A$1:$AF$96
Name Print_Area_0_0_0: '06 Bendros lėšos'!$A$1:$J$27
Name Print_Area_0_0_0: '06 Išlaidų suvestinė'!$A$1:$U$9
Name Print_Area_0_0_0: '06 Programa'!$A$1:$AF$96
Name Print_Area_0_0_0_0: '06 Bendros lėšos'!$A$1:$J$27
Name Print_Area_0_0_0_0: '06 Išlaidų suvestinė'!$A$1:$U$9
Name Print_Area_0_0_0_0: '06 Programa'!$A$1:$AF$96
Name Print_Area_0_0_0_0_0: '06 Bendros lėšos'!$A$1:$J$27
Name Print_Area_0_0_0_0_0: '06 Išlaidų suvestinė'!$A$1:$U$9
Name Print_Area_0_0_0_0_0: '06 Programa'!$A$1:$AF$96
Name Print_Area_0_0_0_0_0_0: '06 Bendros lėšos'!$A$1:$J$27
Name Print_Area_0_0_0_0_0_0: '06 Išlaidų suvestinė'!$A$1:$U$9
Name Print_Area_0_0_0_0_0_0: '06 Programa'!$A$1:$AF$96
Name Print_Area_0_0_0_0_0_0_0: '06 Bendros lėšos'!$A$1:$J$27
Name Print_Area_0_0_0_0_0_0_0: '06 Išlaidų suvestinė'!$A$1:$U$9
Name Print_Area_0_0_0_0_0_0_0: '06 Programa'!$A$1:$AF$96
Name Print_Area_0_0_0_0_0_0_0_0: '06 Bendros lėšos'!$A$1:$J$27
Name Print_Area_0_0_0_0_0_0_0_0: '06 Išlaidų suvestinė'!$A$1:$U$9
Name Print_Area_0_0_0_0_0_0_0_0: '06 Programa'!$A$1:$AF$96

Sheet 06 Programa
AA1: PATVIRTINTA
AA2: Šilutės rajono savivaldybės tarybos 2022 m. gruodžio 22 d.
AA3: sprendimu Nr. T1-1169
AA4: (Šilutės rajono savivaldybės tarybos 2023 m. vasario 23 d.
AA5: sprendimo Nr. T1-1222 redakcija)
AA6: (Šilutės rajono savivaldybės tarybos 2023 m. gegužės 25 d.
AA7: sprendimo Nr. T1- redakcija)
AE8: (Nr. 06)
B9: 2023–2025 m. ŠILUTĖS RAJONO SAVIVALDYBĖS ADMINISTRACIJOS
B10: EFEKTYVAUS SAVIVALDYBĖS VALDYMO PROGRAMOS
B11: TIKSLŲ, PROGRAMŲ, PROGRAMŲ TIKSLŲ, UŽDAVINIŲ, UŽDAVINIŲ VERTINIMO KRITERIJŲ, PRIEMONIŲ IR PRIEMONIŲ IŠLAIDŲ SUVESTINĖ
AD12: tūkst. Eur
A13: Programos kodas | B13: Programos tikslo kodas | C13: Uždavinio kodas | D13: Priemonės kodas | E13: Priemonės pavadinimas | F13: Priemonės požymis | G13: Funkcinės klasifikacijos kodas | H13: Asignavimų valdytojo kodas | I13: Priemonės vykdytojo kodas | J13: Finansavimo šaltinis | K13: 2022 m. išlaidos | O13: 2023 m. išlaidų projektas | S13: 2023 m. patvirtinta Šilutės rajono savivaldybės taryboje | W13: 2023 m. faktiškai skirtas finansavimas | AA13: 2024-ųjų metų išlaidų projektas | AB13: 2025-ųjų metų išlaidų projektas | AC13: Uždavinio vertinimo kriterijus
K14: Iš viso | L14: Išlaidoms | N14: Turtui įsigyti ir finansiniams įsipareigojimams vykdyti | O14: Iš viso | P14: Išlaidoms | R14: Turtui įsigyti ir finansiniams įsipareigojimams vykdyti | S14: Iš viso | T14: Išlaidoms | V14: Turtui įsigyti ir finansiniams įsipareigojimams vykdyti | W14: Iš viso | X14: Išlaidoms | Z14: Turtui įsigyti ir finansiniams įsipareigojimams vykdyti | AC14: Pavadinimas | AD14: Planas
L15: Iš viso | M15: Darbo užmokesčiui | P15: Iš viso | Q15: Darbo užmokesčiui | T15: Iš viso | U15: Darbo užmokesčiui | X15: Iš viso | Y15: Darbo užmokesčiui | AD15: 2023 m. | AE15: 2024 m. | AF15: 2025 m.
A16: Strateginė sritis 02. Savivaldybės veiklos gerinimas/stiprinimas
A17: 06 Efektyvaus Savivaldybės valdymo programa
A18: 06 | B18: 01 | C18: Efektyviai vykdyti Savivaldybės veiklą
A19: 06 | B19: 01 | C19: 01 | D19: Sudaryti sąlygas kokybiškai įgyvendinti Savivaldybės funkcijas
A20: 06 | B20: 01 | C20: 01 | D20: 01 | E20: Mero institucijos išlaikymas | G20: 01.01.01.03 | H20: 188723322 | J20: SB | K20: =+L20+N20 -> 84.9 | L20: 84.9 | M20: 83.1 | N20: 0 | O20: =+P20+R20 -> 116.2 | P20: 116.2 | Q20: 108.3 | R20: 0 | S20: =+T20+V20 -> 116.2 | T20: 116.2 | U20: 108.3 | V20: 0 | W20: =+X20+Z20 -> 0 | X20: 0 | Y20: 0 | Z20: 0 | AA20: 102.1 | AB20: 102.1 | AC20: Išmokėtas darbo užmokestis, proc. | AD20: 100 | AE20: 100 | AF20: 100
J21: Iš viso: | K21: =SUM(K20:K20) -> 84.9 | L21: =SUM(L20:L20) -> 84.9 | M21: =SUM(M20:M20) -> 83.1 | N21: =SUM(N20:N20) -> 0 | O21: =SUM(O20:O20) -> 116.2 | P21: =SUM(P20:P20) -> 116.2 | Q21: =SUM(Q20:Q20) -> 108.3 | R21: =SUM(R20:R20) -> 0 | ... AB21: =SUM(AB20:AB20) -> 102.1
A22: 06 | B22: 01 | C22: 01 | D22: 02 | E22: Mero fondas | G22: 01.01.01.03 | H22: 188723322 | J22: SB | K22: =+L22+N22 -> 19.2 | L22: 19.2 | M22: 0 | N22: 0 | O22: =+P22+R22 -> 22 | P22: 22 | Q22: 0 | R22: 0 | S22: =+T22+V22 -> 22 | T22: 22 | U22: 0 | V22: 0 | W22: =+X22+Z22 -> 0 | X22: 0 | Y22: 0 | Z22: 0 | AA22: 22 | AB22: 22 | AC22: Panaudotos fondo lėšos, proc. | AD22: 100 | AE22: 100 | AF22: 100
J23: Iš viso: | K23: =SUM(K22:K22) -> 19.2 | L23: =SUM(L22:L22) -> 19.2 | M23: =SUM(M22:M22) -> 0 | N23: =SUM(N22:N22) -> 0 | O23: =SUM(O22:O22) -> 22 | P23: =SUM(P22:P22) -> 22 | Q23: =SUM(Q22:Q22) -> 0 | R23: =SUM(R22:R22) -> 0 | ... AB23: =SUM(AB22:AB22) -> 22
A24: 06 | B24: 01 | C24: 01 | D24: 03 | E24: Tarybos darbo organizavimas | G24: 01.01.01.03 | H24: 188723322 | J24: SB | K24: =+L24+N24 -> 185.9 | L24: 185.9 | M24: 10.8 | N24: 0 | O24: =+P24+R24 -> 267 | P24: 267 | Q24: 15 | R24: 0 | S24: =+T24+V24 -> 260 | T24: 260 | U24: 15 | V24: 0 | W24: =+X24+Z24 -> 0 | X24: 0 | Y24: 0 | Z24: 0 | AA24: 267 | AB24: 267 | AC24: Išmokėtas darbo užmokestis ir apmokėta už suteiktas paslaugas, proc. | AD24: 100 | AE24: 100 | AF24: 100
J25: Iš viso: | K25: =SUM(K24:K24) -> 185.9 | L25: =SUM(L24:L24) -> 185.9 | M25: =SUM(M24:M24) -> 10.8 | N25: =SUM(N24:N24) -> 0 | O25: =SUM(O24:O24) -> 267 | P25: =SUM(P24:P24) -> 267 | Q25: =SUM(Q24:Q24) -> 15 | R25: =SUM(R24:R24) -> 0 | ... AB25: =SUM(AB24:AB24) -> 267
A26: 06 | B26: 01 | C26: 01 | D26: 04 | E26: Asociacijos veikla | G26: 01.03.02.09 | H26: 188723322 | J26: SB | K26: =+L26+N26 -> 36.6 | L26: 36.6 | M26: 0 | N26: 0 | O26: =+P26+R26 -> 46 | P26: 46 | Q26: 0 | R26: 0 | S26: =+T26+V26 -> 46 | T26: 46 | U26: 0 | V26: 0 | W26: =+X26+Z26 -> 0 | X26: 0 | Y26: 0 | Z26: 0 | AA26: 46 | AB26: 46 | AC26: Atsiskaitymai už paslaugas, proc. | AD26: 100 | AE26: 100 | AF26: 100
J27: Iš viso: | K27: =SUM(K26:K26) -> 36.6 | L27: =SUM(L26:L26) -> 36.6 | M27: =SUM(M26:M26) -> 0 | N27: =SUM(N26:N26) -> 0 | O27: =SUM(O26:O26) -> 46 | P27: =SUM(P26:P26) -> 46 | Q27: =SUM(Q26:Q26) -> 0 | R27: =SUM(R26:R26) -> 0 | ... AB27: =SUM(AB26:AB26) -> 46
A28: 06 | B28: 01 | C28: 01 | D28: 05 | E28: Mero ir Tarybos veiklos administravimo skyriaus išlaikymas | G28: 01.01.01.02 | H28: 188723322 | J28: SB | K28: =+L28+N28 -> 157.9 | L28: 157.9 | M28: 155.5 | N28: 0 | O28: =+P28+R28 -> 176.8 | P28: 176.8 | Q28: 174 | R28: 0 | S28: =+T28+V28 -> 176.8 | T28: 176.8 | U28: 174 | V28: 0 | W28: =+X28+Z28 -> 0 | X28: 0 | Y28: 0 | Z28: 0 | AA28: 176.8 | AB28: 176.8 | AC28: Išmokėtas darbo užmokestis, proc. | AD28: 100 | AE28: 100 | AF28: 100
J29: Iš viso: | K29: =SUM(K28:K28) -> 157.9 | L29: =SUM(L28:L28) -> 157.9 | M29: =SUM(M28:M28) -> 155.5 | N29: =SUM(N28:N28) -> 0 | O29: =SUM(O28:O28) -> 176.8 | P29: =SUM(P28:P28) -> 176.8 | Q29: =SUM(Q28:Q28) -> 174 | R29: =SUM(R28:R28) -> 0 | ... AB29: =SUM(AB28:AB28) -> 176.8
A30: 06 | B30: 01 | C30: 01 | D30: 06 | E30: Ūkinės veiklos įgyvendinimas (savivaldybės administracija) | G30: 01.03.02.09 | H30: 188723322 | J30: SB | K30: =+L30+N30 -> 3490.9 | L30: 3217.7 | M30: 2409 | N30: 273.2 | O30: =+P30+R30 -> 4153.2 | P30: 4098.6 | Q30: 3008 | R30: 54.6 | S30: =+T30+V30 -> 4133.2 | T30: 4078.6 | U30: 3008 | V30: 54.6 | W30: =+X30+Z30 -> 0 | X30: 0 | Y30: 0 | Z30: 0 | AA30: 4088.2 | AB30: 4088.2 | AC30: Išmokėtas darbo užmokestis ir apmokėta už prekes ir suteiktas paslaugas, proc. | AD30: 100 | AE30: 100 | AF30: 100
J31: SB(VB) | K31: =+L31+N31 -> 27.4 | L31: 27.4 | M31: 0 | N31: 0 | O31: =+P31+R31 -> 0 | P31: 0 | Q31: 0 | R31: 0 | S31: =+T31+V31 -> 0 | T31: 0 | U31: 0 | V31: 0 | W31: =+X31+Z31 -> 0 | X31: 0 | Y31: 0 | Z31: 0 | AA31: 0 | AB31: 0
J32: Iš viso: | K32: =SUM(K30:K31) -> 3518.3 | L32: =SUM(L30:L31) -> 3245.1 | M32: =SUM(M30:M31) -> 2409 | N32: =SUM(N30:N31) -> 273.2 | O32: =SUM(O30:O31) -> 4153.2 | P32: =SUM(P30:P31) -> 4098.6 | Q32: =SUM(Q30:Q31) -> 3008 | R32: =SUM(R30:R31) -> 54.6 | ... AB32: =SUM(AB30:AB31) -> 4088.2
A33: 06 | B33: 01 | C33: 01 | D33: 07 | E33: Ūkinės veiklos įgyvendinimas (Švietimo ir kultūros skyrius Kultūros poskyris) | G33: 08.06.01.09 | H33: 188723322 | J33: SB | K33: =+L33+N33 -> 58.5 | L33: 58.5 | M33: 57.6 | N33: 0 | O33: =+P33+R33 -> 66.9 | P33: 66.9 | Q33: 65.7 | R33: 0 | S33: =+T33+V33 -> 66.9 | T33: 66.9 | U33: 65.7 | V33: 0 | W33: =+X33+Z33 -> 0 | X33: 0 | Y33: 0 | Z33: 0 | AA33: 66.9 | AB33: 66.9 | AC33: Įgyvendinta veikla, proc. | AD33: 100 | AE33: 100 | AF33: 100
J34: SB(VB) | K34: =+L34+N34 -> 0 | L34: 0 | M34: 0 | N34: 0 | O34: =+P34+R34 -> 0 | P34: 0 | Q34: 0 | R34: 0 | S34: =+T34+V34 -> 0 | T34: 0 | U34: 0 | V34: 0 | W34: =+X34+Z34 -> 0 | X34: 0 | Y34: 0 | Z34: 0 | AA34: 0 | AB34: 0
J35: Iš viso: | K35: =SUM(K33:K34) -> 58.5 | L35: =SUM(L33:L34) -> 58.5 | M35: =SUM(M33:M34) -> 57.6 | N35: =SUM(N33:N34) -> 0 | O35: =SUM(O33:O34) -> 66.9 | P35: =SUM(P33:P34) -> 66.9 | Q35: =SUM(Q33:Q34) -> 65.7 | R35: =SUM(R33:R34) -> 0 | ... AB35: =SUM(AB33:AB34) -> 66.9
A36: 06 | B36: 01 | C36: 01 | D36: 08 | E36: Ūkinės veiklos įgyvendinimas (Švietimo ir kultūros skyrius) | G36: 09.08.01.09 | H36: 188723322 | J36: SB | K36: =+L36+N36 -> 197.9 | L36: 197.9 | M36: 194.5 | N36: 0 | O36: =+P36+R36 -> 230.4 | P36: 230.4 | Q36: 226.8 | R36: 0 | S36: =+T36+V36 -> 230.4 | T36: 230.4 | U36: 226.8 | V36: 0 | W36: =+X36+Z36 -> 0 | X36: 0 | Y36: 0 | Z36: 0 | AA36: 230.4 | AB36: 230.4 | AC36: Įgyvendinta veikla, proc. | AD36: 100 | AE36: 100 | AF36: 100
J37: SB(VB) | K37: =+L37+N37 -> 0 | L37: 0 | M37: 0 | N37: 0 | O37: =+P37+R37 -> 0 | P37: 0 | Q37: 0 | R37: 0 | S37: =+T37+V37 -> 0 | T37: 0 | U37: 0 | V37: 0 | W37: =+X37+Z37 -> 0 | X37: 0 | Y37: 0 | Z37: 0 | AA37: 0 | AB37: 0
J38: Iš viso: | K38: =SUM(K36:K37) -> 197.9 | L38: =SUM(L36:L37) -> 197.9 | M38: =SUM(M36:M37) -> 194.5 | N38: =SUM(N36:N37) -> 0 | O38: =SUM(O36:O37) -> 230.4 | P38: =SUM(P36:P37) -> 230.4 | Q38: =SUM(Q36:Q37) -> 226.8 | R38: =SUM(R36:R37) -> 0 | ... AB38: =SUM(AB36:AB37) -> 230.4
A39: 06 | B39: 01 | C39: 01 | D39: 09 | E39: Ūkinės veiklos įgyvendinimas (Socialinės paramos skyrius) | G39: 10.09.01.09 | H39: 188723322 | J39: SB | K39: =+L39+N39 -> 368.2 | L39: 367 | M39: 324.9 | N39: 1.2 | O39: =+P39+R39 -> 423 | P39: 423 | Q39: 380 | R39: 0 | S39: =+T39+V39 -> 427.6 | T39: 427.6 | U39: 394.8 | V39: 0 | W39: =+X39+Z39 -> 0 | X39: 0 | Y39: 0 | Z39: 0 | AA39: 423 | AB39: 423 | AC39: Įgyvendinta veikla, proc. | AD39: 100 | AE39: 100 | AF39: 100
J40: SB(VB) | K40: =+L40+N40 -> 17.7 | L40: 17.7 | M40: 17.4 | N40: 0 | O40: =+P40+R40 -> 0 | P40: 0 | Q40: 0 | R40: 0 | S40: =+T40+V40 -> 12.5 | T40: 12.5 | U40: 12.3 | V40: 0 | W40: =+X40+Z40 -> 0 | X40: 0 | Y40: 0 | Z40: 0 | AA40: 0 | AB40: 0
...

Sheet 06 Išlaidų suvestinė
A1: Šilutės rajono savivaldybės administracijos 2023–2025 m. Efektyvaus savivaldybės valdymo programa | T1: (Nr.06)
A3: tūkst. Eur
A4: Strateginio tikslo kodas | B4: Programos kodas | C4: Programos pavadinimas | D4: Funkcinės klasifikacijos kodas | E4: Asignavimų valdytojo kodas | F4: 2022 m. išlaidos | J4: 2023 m. išlaidų projektas | N4: 2023 m. patvirtinta Šilutės r. savivaldybės taryboje | R4: 2023 m. faktiškai skirtas finansavimas
F5: Iš viso | G5: Išlaidoms | I5: Turtui įsigyti ir finansiniams įsipareigojimams vykdyti | J5: Iš viso | K5: Išlaidoms | M5: Turtui įsigyti ir finansiniams įsipareigojimams vykdyti | N5: Iš viso | O5: Išlaidoms | Q5: Turtui įsigyti ir finansiniams įsipareigojimams vykdyti | R5: Iš viso | S5: Išlaidoms | U5: Turtui įsigyti ir finansiniams įsipareigojimams vykdyti
G6: Iš viso | H6: Iš jų darbo užmokesčiui | K6: Iš viso | L6: Iš jų darbo užmokesčiui | O6: Iš viso | P6: Iš jų darbo užmokesčiui | S6: Iš viso | T6: Iš jų darbo užmokesčiui
A7: 6 | B7: 6 | C7: Efektyvaus savivaldybės valdymo programa | D7: 01.01.01.03 01.03.02.09 08.06.01.09 09.08.01.09 10.09.01.09 01.06.01.02 01.03.03.02 04.02.01.04 02.01.01.04 01.06.01.03 01.06.01.04 01.03.02.01 | E7: 188723322 188698374 | F7: ='06 Programa'!K96 -> 8360.7 | G7: ='06 Programa'!L96 -> 6402.9 | H7: ='06 Programa'!M96 -> 4663.3 | I7: ='06 Programa'!N96 -> 1957.8 | J7: ='06 Programa'!O96 -> 9732.3 | K7: ='06 Programa'!P96 -> 8072.7 | L7: ='06 Programa'!Q96 -> 5683.2 | M7: ='06 Programa'!R96 -> 1659.6 | ... Q7: ='06 Programa'!V96 -> 1875.2
A8: IŠ VISO: | F8: =SUM(F7) -> 8360.7 | G8: =SUM(G7) -> 6402.9 | H8: =SUM(H7) -> 4663.3 | I8: =SUM(I7) -> 1957.8 | J8: =SUM(J7) -> 9732.3 | K8: =SUM(K7) -> 8072.7 | L8: =SUM(L7) -> 5683.2 | M8: =SUM(M7) -> 1659.6 | N8: =SUM(N7) -> 10130.1 | O8: =O7 -> 8254.9 | P8: =SUM(P7) -> 5683.6 | Q8: ='06 Programa'!V96 -> 1875.2 | R8: =SUM(R7) -> 0 | S8: =SUM(S7) -> 0 | T8: =SUM(T7) -> 0 | U8: =SUM(U7) -> 0

Sheet 06 Šaltiniai
A1: 06. Efektyvaus savivaldybės valdymo programa
A2: Finansavimo šaltiniai | J2: 2022 m. išlaidos, tūkst. Eur | K2: 2023 m. projektas, tūkst. Eur | L2: 2023 m. patvirtinta Šilutės r. savivaldybės taryboje, tūkst. Eur | U2: 2023 m. faktiškai skirtas finansavimas, tūkst. Eur
A3: Savivaldybės biudžetas SB | J3: ='06 Programa'!K92+'06 Programa'!K90+'06 Programa'!K84+'06 Programa'!K63+'06 Programa'!K50+'06 Programa'!K48+'06 Programa'!K46+'06 Programa'!K44+'06 Programa'!K42+'06 Programa'!K39+'06 Programa'!K36+'06 Programa'!K33+'06 Programa'!K30+'06 Programa'!K28+'06 Programa'!K26+'06 Programa'!K24+'06 Programa'!K22+'06 Programa'!K20 -> 7835 | K3: ='06 Programa'!O20+'06 Programa'!O22+'06 Programa'!O24+'06 Programa'!O26+'06 Programa'!O28+'06 Programa'!O30+'06 Programa'!O33+'06 Programa'!O36+'06 Programa'!O39+'06 Programa'!O42+'06 Programa'!O44+'06 Programa'!O46+'06 Programa'!O48+'06 Programa'!O50+'06 Programa'!O63+'06 Programa'!O84+'06 Programa'!O90+'06 Programa'!O92 -> 9118.4 | L3: ='06 Programa'!S92+'06 Programa'!S90+'06 Programa'!S84+'06 Programa'!S63+'06 Programa'!S50+'06 Programa'!S48+'06 Programa'!S46+'06 Programa'!S44+'06 Programa'!S42+'06 Programa'!S39+'06 Programa'!S36+'06 Programa'!S33+'06 Programa'!S30+'06 Programa'!S28+'06 Programa'!S26+'06 Programa'!S24+'06 Programa'!S22+'06 Programa'!S20 -> 9542.7
A4: Valstybės biudžeto specialioji tikslinė dotacija SB(VB) | J4: ='06 Programa'!K31+'06 Programa'!K34+'06 Programa'!K37+'06 Programa'!K40+'06 Programa'!K54+'06 Programa'!K56+'06 Programa'!K58+'06 Programa'!K60+'06 Programa'!K62+'06 Programa'!K67+'06 Programa'!K65+'06 Programa'!K69+'06 Programa'!K71+'06 Programa'!K73+'06 Programa'!K76+'06 Programa'!K78+'06 Programa'!K80 -> 475.7 | K4: ='06 Programa'!O34+'06 Programa'!O31+'06 Programa'!O37+'06 Programa'!O40+'06 Programa'!O54+'06 Programa'!O56+'06 Programa'!O58+'06 Programa'!O60+'06 Programa'!O62+'06 Programa'!O65+'06 Programa'!O67+'06 Programa'!O69+'06 Programa'!O71+'06 Programa'!O73+'06 Programa'!O78+'06 Programa'!O80 -> 553.9 | L4: ='06 Programa'!S80+'06 Programa'!S78+'06 Programa'!S76+'06 Programa'!S73+'06 Programa'!S71+'06 Programa'!S69+'06 Programa'!S67+'06 Programa'!S65+'06 Programa'!S62+'06 Programa'!S60+'06 Programa'!S58+'06 Programa'!S56+'06 Programa'!S54+'06 Programa'!S40+'06 Programa'!S37+'06 Programa'!S34+'06 Programa'!S31 -> 537.4
A5: Aplinkos apsaugos rėmimo specialioji programa SB(AA) | J5: 0 | K5: 0 | L5: 0
A6: Pajamos už suteiktas paslaugas SB(SP) | J6: ='06 Programa'!K75 -> 50 | K6: ='06 Programa'!O75 -> 60 | L6: ='06 Programa'!S75 -> 50
A7: Švietimo įstaigų modernizavimo programa SB(ŠIMP) | J7: 0 | K7: 0 | L7: 0
A8: Skolintos lėšos SL | J8: 0 | K8: 0 | L8: 0
A9: Užsienio valstybių, tarptautinių organizacijų ir Europos Sąjungos lėšos ES, EEE | J9: 0 | K9: 0 | L9: 0
A10: Visuomenės sveikatos apsaugos rėmimo specialioji programa SB(VS) | J10: 0 | K10: 0 | L10: 0
A11: Valstybės lėšos VL | J11: 0 | K11: 0 | L11: 0
A12: Kitos lėšos KTL | J12: 0 | K12: 0 | L12: 0
A13: Kelių priežiūros ir plėtros programa KPPP | J13: 0 | K13: 0 | L13: 0
A14: Valstybės investicijų programa VIP | J14: 0 | K14: 0 | L14: 0
A15: Iš viso: | J15: =SUM(J3:J14) -> 8360.7 | K15: =SUM(K3:K14) -> 9732.3 | L15: =SUM(L3:T14) -> 10130.1

Sheet 06 Bendros lėšos
A1: 06. Efektyvaus savivaldybės valdymo programa
A2: Bendras lėšų poreikis ir numatomi finansavimo šaltiniai
A3: tūkst. Eur
A4: Ekonominės klasifikacijos grupės | B4: Asignavimai 2022 m. | C4: Paraiška biudžetiniams | F4: 2023-iems m. patvirtinta Šilutės r. savivaldybės taryboje | G4: 2023-iems m. faktiškai skirta | H4: Projektas 2024 m. | I4: Projektas 2025 m.
C5: 2023 m.
C6: bazinis biudžetas | D6: pakeitimai/ (+padidėjimas -sumažėjimas) | E6: iš viso
A9: 1. Iš viso lėšų poreikis: | B9: ='06 Programa'!K96 -> 8360.7 | C9: =+B9 -> 8360.7 | D9: =E9-C9 -> 1371.6 | E9: ='06 Programa'!O96 -> 9732.3 | F9: ='06 Programa'!S96 -> 10130.1 | H9: ='06 Programa'!AA96 -> 9803.9 | I9: ='06 Programa'!AB96 -> 9831.9
A10: 1.1.išlaidoms | B10: ='06 Programa'!L96 -> 6402.9 | C10: =+B10 -> 6402.9 | D10: =E10-C10 -> 1669.8 | E10: ='06 Programa'!P96 -> 8072.7 | F10: ='06 Programa'!T96 -> 8254.9 | H10: =H9-H12 -> 7978.34 | I10: =I9-I12 -> 7823.784
A11: 1.1.1.iš jų darbo užmokesčiui | B11: ='06 Programa'!M96 -> 4663.3 | C11: =+B11 -> 4663.3 | D11: =E11-C11 -> 1019.9 | E11: ='06 Programa'!Q96 -> 5683.2 | F11: ='06 Programa'!U96 -> 5683.6 | H11: =E11*1.1 -> 6251.52 | I11: =H11*1.1 -> 6876.672
A12: 1.2. turtui įsigyti ir finansiniams įsipareigojimams vykdyti | B12: ='06 Programa'!N96 -> 1957.8 | C12: =+B12 -> 1957.8 | D12: =E12-C12 -> -298.2 | E12: ='06 Programa'!R96 -> 1659.6 | F12: ='06 Programa'!V96 -> 1875.2 | H12: =E12*1.1 -> 1825.56 | I12: =H12*1.1 -> 2008.116
A13: 2. Finansavimas | B13: ='06 Programa'!K96 -> 8360.7 | C13: =C14+C19 -> 8360.7 | D13: =E13-C13 -> 1371.6 | E13: ='06 Programa'!O96 -> 9732.3 | F13: ='06 Programa'!S96 -> 10130.1 | H13: =H9 -> 9803.9 | I13: =I9 -> 9831.9
A14: 2.1.Savivaldybės biudžetas: | B14: =B9-B19 -> 8360.7 | C14: =C9-C19 -> 8360.7 | D14: =E14-C14 -> 1371.6 | E14: =E9-E19 -> 9732.3 | F14: =+F9-F19 -> 10130.1 | H14: =H13-H19 -> 9803.9 | I14: =I13-I19 -> 9831.9
A15: 2.1.1. iš jo: valstybės biudžeto specialioji tikslinė dotacija | B15: ='06 Šaltiniai'!J4 -> 475.7 | C15: =B15 -> 475.7 | D15: =E15-C15 -> 78.2 | E15: ='06 Šaltiniai'!K4 -> 553.9 | F15: 537.3 | H15: ='06 Programa'!AA54+'06 Programa'!AA56+'06 Programa'!AA58+'06 Programa'!AA60+'06 Programa'!AA62+'06 Programa'!AA65+'06 Programa'!AA67+'06 Programa'!AA69+'06 Programa'!AA71+'06 Programa'!AA73 -> 505.6 | I15: ='06 Programa'!AB73+'06 Programa'!AB71+'06 Programa'!AB69+'06 Programa'!AB67+'06 Programa'!AB65+'06 Programa'!AB62+'06 Programa'!AB60+'06 Programa'!AB58+'06 Programa'!AB56+'06 Programa'!AB54 -> 505.6
A16: 2.1.2.iš jo: aplinkos apsaugos rėmimo specialiosios programos lėšos | B16: 0 | C16: 0 | D16: =E16-C16 -> 0 | E16: 0 | F16: 0 | H16: 0 | I16: 0
A17: 2.1.3. iš jo: visuomenės sveikatos rėmimo specialiosios programos lėšos | B17: 0 | C17: 0 | D17: =E17-C17 -> 0 | E17: 0 | F17: 0 | H17: 0 | I17: 0
A18: 2.1.4. iš jo: pajamos už suteiktas paslaugas | B18: 50 | C18: =+B18 -> 50 | D18: =E18-C18 -> 10 | E18: ='06 Šaltiniai'!K6 -> 60 | F18: 50 | H18: ='06 Programa'!AA75 -> 60 | I18: ='06 Programa'!AB75 -> 60
A19: 2.2. Kiti šaltiniai: | B19: =SUM(B20:B26) -> 0 | C19: =SUM(C20:C26) -> 0 | D19: =E19-C19 -> 0 | E19: =SUM(E20:E26) -> 0 | F19: =SUM(F20:F26) -> 0 | H19: =SUM(H20:H26) -> 0 | I19: =SUM(I20:I26) -> 0
A20: 2.2.1. švietimo įstaigų modernizavimo programa | B20: 0 | C20: 0 | D20: =E20-C20 -> 0 | E20: 0 | F20: 0 | H20: 0 | I20: 0
A21: 2.2.2. skolintos lėšos | B21: 0 | C21: 0 | D21: =E21-C21 -> 0 | E21: 0 | F21: 0 | H21: 0 | I21: 0
A22: 2.2.3. valstybės investicijų programa | B22: 0 | C22: 0 | D22: =E22-C22 -> 0 | E22: 0 | F22: 0 | H22: 0 | I22: 0
A23: 2.2.4. Užsienio valstybių, tarptautinių organizacijų ir Europos Sąjungos lėšos | B23: 0 | C23: =+B23 -> 0 | D23: =E23-C23 -> 0 | E23: =+[1]tikslai!N50 -> 0 | F23: 0 | H23: 0 | I23: 0
A24: 2.2.5. Valstybės lėšos | B24: ='06 Šaltiniai'!J11 -> 0 | C24: =B24 -> 0 | D24: =E24-C24 -> 0 | E24: ='06 Šaltiniai'!K12 -> 0 | F24: 0 | H24: 0 | I24: 0
A25: 2.2.6. Kelių priežiūros ir plėtros programos lėšos | B25: 0 | C25: 0 | D25: =E25-C25 -> 0 | E25: 0 | F25: 0 | H25: 0 | I25: 0
A26: 2.2.7. kitos lėšos | B26: 0 | C26: 0 | D26: 0 | E26: 0 | F26: =[2]Suvestine!L14 -> 0 | H26: 0 | I26: 0
