Workbook

Sheet 08 Programa
Z1: PATVIRTINTA
Z2: Šilutės rajono savivaldybės tarybos 2022 m. gruodžio 22 d.
Z3: sprendimu Nr. T1-1169
Z4: (Šilutės rajono savivaldybės tarybos 2023 m. sausio 26 d.
Z5: sprendimo Nr. T1-1200 redakcija)
Z6: (Šilutės rajono savivaldybės tarybos 2023 m. vasario 23 d.
Z7: sprendimo Nr. T1-1222 redakcija)
Z8: (Šilutės rajono savivaldybės tarybos 2023 m. gegužės 25 d.
Z9: sprendimo Nr. T1- redakcija)
AE10: (Nr. 08)
A11: 2023–2025 ŠILUTĖS RAJONO SAVIVALDYBĖS ADMINISTRACIJOS
A12: INVESTICIJŲ PRITRAUKIMO IR VERSLO VYSTYMO PROGRAMOS
A13: TIKSLŲ, PROGRAMŲ, PROGRAMŲ TIKSLŲ, UŽDAVINIŲ, UŽDAVINIŲ VERTINIMO KRITERIJŲ, PRIEMONIŲ IR PRIEMONIŲ IŠLAIDŲ SUVESTINĖ
A14: tūkst. Eur
A15: Programos kodas | B15: Programos tikslo kodas | C15: Uždavinio kodas | D15: Priemonės kodas | E15: Priemonės pavadinimas | F15: Priemonės požymis | G15: Funkcinės klasifikacijos kodas | H15: Asignavimų valdytojo kodas | I15: Priemonės vykdytojo kodas | J15: Finansavimo šaltinis | K15: 2022 m. išlaidos | O15: 2023 m. išlaidų projektas | S15: 2023 m. patvirtinta Šilutės r. savivaldybės taryboje | W15: 2023 m. faktiškai skirtas finansavimas | AA15: 2024-ųjų metų išlaidų projektas | AB15: 2025-ųjų metų išlaidų projektas | AC15: Uždavinio vertinimo kriterijus
K16: Iš viso | L16: Išlaidoms | N16: Turtui įsigyti ir finansiniams įsipareigojimams vykdyti | O16: Iš viso | P16: Išlaidoms | R16: Turtui įsigyti ir finansiniams įsipareigojimams vykdyti | S16: Iš viso | T16: Išlaidoms | V16: Turtui įsigyti ir finansiniams įsipareigojimams vykdyti | W16: Iš viso | X16: Išlaidoms | Z16: Turtui įsigyti ir finansiniams įsipareigojimams vykdyti | AC16: Pavadinimas | AD16: Planas
L17: Iš viso | M17: Darbo užmokesčiui | P17: Iš viso | Q17: Darbo užmokesčiui | T17: Iš viso | U17: Darbo užmokesčiui | X17: Iš viso | Y17: Darbo užmokesčiui | AD17: 2023 m. | AE17: 2024 m. | AF17: 2025 m.
A18: Strateginė sritis 03. Infrastruktūros gerinimas/plėtojimas ir žemės ūkio verslo plėtra
A19: 08 Investicijų pritraukimo ir verslo vystymo programa
A20: 08 | B20: 01 | C20: Gerinti infrastruktūrą darnoje su gamtine aplinka
A21: 08 | B21: 01 | C21: 01 | D21: Užtikrinti kuo didesnį parengtų ir įgyvendinamų projektų skaičių
A22: 08 | B22: 01 | C22: 01 | D22: 14 | E22: Bekontakčiai atsiskaitymai Šilutės rajono savivaldybės mokyklose | G22: 09.08.01.02 | H22: 188723322 | I22: 12 | J22: SB | K22: =+L22+N22 -> 0 | L22: 0 | M22: 0 | N22: 0 | O22: =+P22+R22 -> 0 | P22: 0 | Q22: 0 | R22: 0 | S22: =+T22+V22 -> 10 | T22: 10 | U22: 0 | V22: 0 | W22: =+X22+Z22 -> 0 | X22: 0 | Y22: 0 | Z22: 0 | AA22: 0 | AB22: 0 | AC22: Mokyklų, įsidiegusių bekontaktį atsiskaitymą, skaičius, vnt. | AD22: 15 | AE22: 15 | AF22: 0
J23: ES | K23: =+L23+N23 -> 0 | L23: 0 | M23: 0 | N23: 0 | O23: =P23+R23 -> 0 | P23: 0 | Q23: 0 | R23: 0 | S23: =+T23+V23 -> 107.5 | T23: 107.5 | U23: 0 | V23: 0 | W23: =+X23+Z23 -> 0 | X23: 0 | Y23: 0 | Z23: 0 | AA23: 0 | AB23: 0
J24: Iš viso: | K24: =SUM(K22:K23) -> 0 | L24: =SUM(L22:L23) -> 0 | M24: =SUM(M22:M23) -> 0 | N24: =SUM(N22:N23) -> 0 | O24: =SUM(O22:O23) -> 0 | P24: =SUM(P22:P23) -> 0 | Q24: =SUM(Q22:Q23) -> 0 | R24: =SUM(R22:R23) -> 0 | ... AB24: =SUM(AB22:AB23) -> 0
A25: 08 | B25: 01 | C25: 01 | D25: 15 | E25: Geresnis gyvenimas mažuose ir vidutinio dydžio miestuose: veiksmai, gerinantys strategijas („A better life in small and mid-sized cities: from Interregional actions to improved Revitalisation strategies“) | G25: 01.03.02.01 | H25: 188723322 | I25: 12 | J25: SB | K25: =+L25+N25 -> 0 | L25: 0 | M25: 0 | N25: 0 | O25: =+P25+R25 -> 0 | P25: 0 | Q25: 0 | R25: 0 | S25: =+T25+V25 -> 5 | T25: 5 | U25: 0 | V25: 0 | W25: =+X25+Z25 -> 0 | X25: 0 | Y25: 0 | Z25: 0 | AA25: 5 | AB25: 5.4 | AC25: Įgyvendintas projektas, proc. | AD25: 0 | AE25: 0 | AF25: 100
J26: VL | K26: =L26+N26 -> 0 | L26: 0 | M26: 0 | N26: 0 | O26: =P26+R26 -> 0 | P26: 0 | Q26: 0 | R26: 0 | S26: =T26+V26 -> 5 | T26: 5 | U26: 0 | V26: 0 | W26: =X26+Z26 -> 0 | X26: 0 | Y26: 0 | Z26: 0 | AA26: 5 | AB26: 5.4
J27: ES | K27: =+L27+N27 -> 0 | L27: 0 | M27: 0 | N27: 0 | O27: =P27+R27 -> 0 | P27: 0 | Q27: 0 | R27: 0 | S27: =+T27+V27 -> 41 | T27: 41 | U27: 0 | V27: 0 | W27: =+X27+Z27 -> 0 | X27: 0 | Y27: 0 | Z27: 0 | AA27: 41 | AB27: 41.2
J28: Iš viso: | K28: =SUM(K25:K27) -> 0 | L28: =SUM(L25:L27) -> 0 | M28: =SUM(M25:M27) -> 0 | N28: =SUM(N25:N27) -> 0 | O28: =SUM(O25:O27) -> 0 | P28: =SUM(P25:P27) -> 0 | Q28: =SUM(Q25:Q27) -> 0 | R28: =SUM(R25:R27) -> 0 | ... AB28: =SUM(AB25:AB27) -> 52
A29: 08 | B29: 01 | C29: 01 | D29: 16 | E29: Atvirų duomenų prieinamumo didinimas, siekiant pagerinti teikiamas viešąsias paslaugas („Strengthening the availability and processing of Open Data to support local growth and urban transformation“) | G29: 01.03.02.01 | H29: 188723322 | I29: 12 | J29: SB | K29: =+L29+N29 -> 0 | L29: 0 | M29: 0 | N29: 0 | O29: =+P29+R29 -> 0 | P29: 0 | Q29: 0 | R29: 0 | S29: =+T29+V29 -> 5.2 | T29: 5.2 | U29: 0 | V29: 0 | W29: =+X29+Z29 -> 0 | X29: 0 | Y29: 0 | Z29: 0 | AA29: 5.2 | AB29: 5.5 | AC29: Įgyvendintas projektas, proc. | AD29: 0 | AE29: 0 | AF29: 100
J30: VL | K30: =L30+N30 -> 0 | L30: 0 | M30: 0 | N30: 0 | O30: =P30+R30 -> 0 | P30: 0 | Q30: 0 | R30: 0 | S30: =T30+V30 -> 5.2 | T30: 5.2 | U30: 0 | V30: 0 | W30: =X30+Z30 -> 0 | X30: 0 | Y30: 0 | Z30: 0 | AA30: 5.2 | AB30: 5.5
J31: ES | K31: =+L31+N31 -> 0 | L31: 0 | M31: 0 | N31: 0 | O31: =P31+R31 -> 0 | P31: 0 | Q31: 0 | R31: 0 | S31: =+T31+V31 -> 42 | T31: 42 | U31: 0 | V31: 0 | W31: =+X31+Z31 -> 0 | X31: 0 | Y31: 0 | Z31: 0 | AA31: 42 | AB31: 43
J32: Iš viso: | K32: =SUM(K29:K31) -> 0 | L32: =SUM(L29:L31) -> 0 | M32: =SUM(M29:M31) -> 0 | N32: =SUM(N29:N31) -> 0 | O32: =SUM(O29:O31) -> 0 | P32: =SUM(P29:P31) -> 0 | Q32: =SUM(Q29:Q31) -> 0 | R32: =SUM(R29:R31) -> 0 | ... AB32: =SUM(AB29:AB31) -> 54
A33: 08 | B33: 01 | C33: 01 | D33: 17 | E33: Šilutės miesto stadiono infrastruktūros gerinimas | G33: 08.06.01.01 | H33: 188723322 | I33: 12 | J33: SB | K33: =+L33+N33 -> 0 | L33: 0 | M33: 0 | N33: 0 | O33: =+P33+R33 -> 0 | P33: 0 | Q33: 0 | R33: 0 | S33: =+T33+V33 -> 200 | T33: 0 | U33: 0 | V33: 200 | W33: =+X33+Z33 -> 0 | X33: 0 | Y33: 0 | Z33: 0 | AA33: 72.6 | AB33: 0 | AC33: Įgyvendintas projektas, vnt. | AD33: 0 | AE33: 1 | AF33: 0
J34: ES | K34: =+L34+N34 -> 0 | L34: 0 | M34: 0 | N34: 0 | O34: =P34+R34 -> 0 | P34: 0 | Q34: 0 | R34: 0 | S34: =+T34+V34 -> 360 | T34: 0 | U34: 0 | V34: 360 | W34: =+X34+Z34 -> 0 | X34: 0 | Y34: 0 | Z34: 0 | AA34: 90 | AB34: 0
J35: Iš viso: | K35: =SUM(K33:K34) -> 0 | L35: =SUM(L33:L34) -> 0 | M35: =SUM(M33:M34) -> 0 | N35: =SUM(N33:N34) -> 0 | O35: =SUM(O33:O34) -> 0 | P35: =SUM(P33:P34) -> 0 | Q35: =SUM(Q33:Q34) -> 0 | R35: =SUM(R33:R34) -> 0 | ... AB35: =SUM(AB33:AB34) -> 0
A36: 08 | B36: 01 | C36: 01 | D36: 18 | E36: Šilutės r. savivaldybės gatvių apšvietimo sistemos modernizavimas | G36: 06.04.01.01 | H36: 188723322 | I36: 12 | J36: SL | K36: =+L36+N36 -> 56.5 | L36: 0 | M36: 0 | N36: 56.5 | O36: =+P36+R36 -> 0 | P36: 0 | Q36: 0 | R36: 0 | S36: =+T36+V36 -> 0 | T36: 0 | U36: 0 | V36: 0 | W36: =+X36+Z36 -> 0 | X36: 0 | Y36: 0 | Z36: 0 | AA36: 0 | AB36: 0 | AC36: Modernizavimio metu pakeistų miesto gatvių šviestuvų kiekis, vnt. | AD36: 1443 | AE36: 0 | AF36: 0
J37: SB | K37: =+L37+N37 -> 103.6 | L37: 0 | M37: 0 | N37: 103.6 | O37: =+P37+R37 -> 377.1 | P37: 0 | Q37: 0 | R37: 377.1 | S37: =+T37+V37 -> 377.1 | T37: 0 | U37: 0 | V37: 377.1 | W37: =+X37+Z37 -> 0 | X37: 0 | Y37: 0 | Z37: 0 | AA37: 0 | AB37: 0
J38: ES | K38: =+L38+N38 -> 6.1 | L38: 0 | M38: 0 | N38: 6.1 | O38: =P38+R38 -> 377.1 | P38: 0 | Q38: 0 | R38: 377.1 | S38: =+T38+V38 -> 377.1 | T38: 0 | U38: 0 | V38: 377.1 | W38: =+X38+Z38 -> 0 | X38: 0 | Y38: 0 | Z38: 0 | AA38: 0 | AB38: 0
J39: Iš viso: | K39: =SUM(K36:K38) -> 166.2 | L39: =SUM(L36:L38) -> 0 | M39: =SUM(M36:M38) -> 0 | N39: =SUM(N36:N38) -> 166.2 | O39: =SUM(O36:O38) -> 754.2 | P39: =SUM(P36:P38) -> 0 | Q39: =SUM(Q36:Q38) -> 0 | R39: =SUM(R36:R38) -> 754.2 | ... AB39: =SUM(AB36:AB38) -> 0
A40: 08 | B40: 01 | C40: 01 | D40: 21 | E40: Projekto įgyvendinimo metu sukurto turto draudimas | G40: 01.03.02.09 | H40: 188723322 | I40: 12 | J40: ES | K40: =+L40+N40 -> 0 | L40: 0 | M40: 0 | N40: 0 | O40: =+P40+R40 -> 0 | P40: 0 | Q40: 0 | R40: 0 | S40: =+T40+V40 -> 0 | T40: 0 | U40: 0 | V40: 0 | W40: =+X40+Z40 -> 0 | X40: 0 | Y40: 0 | Z40: 0 | AA40: 0 | AB40: 0 | AC40: Apdraustas projekto įgyvendinimo metu įsigytas turtas, vnt. | AD40: 8 | AE40: 10 | AF40: 10
...

Sheet 08 Išlaidų suvestinė
A1: Šilutės rajono savivaldybės administracijos 2023–2025 m. Investicijų pritraukimo ir verslo vystymosi programos išlaidų suvestinė | T1: (Nr.0 8)
A3: tūkst. Eur
A4: Strateginio tikslo kodas | B4: Programos kodas | C4: Programos pavadinimas | D4: Funkcinės klasifikacijos kodas | E4: Asignavimų valdytojo kodas | F4: 2022 m. išlaidos | J4: 2023 m. išlaidų projektas | N4: 2023 m. patvirtinta Šilutės r. savivaldybės taryboje | R4: 2023 m. faktiškai skirtas finansavimas
F5: Iš viso | G5: Išlaidoms | I5: Turtui įsigyti ir finansiniams įsipareigojimams vykdyti | J5: Iš viso | K5: Išlaidoms | M5: Turtui įsigyti ir finansiniams įsipareigojimams vykdyti | N5: Iš viso | O5: Išlaidoms | Q5: Turtui įsigyti ir finansiniams įsipareigojimams vykdyti | R5: Iš viso | S5: Išlaidoms | U5: Turtui įsigyti ir finansiniams įsipareigojimams vykdyti
G6: Iš viso | H6: Iš jų darbo užmokesčiui | K6: Iš viso | L6: Iš jų darbo užmokesčiui | O6: Iš viso | P6: Iš jų darbo užmokesčiui | S6: Iš viso | T6: Iš jų darbo užmokesčiui
A7: 8 | B7: 8 | C7: Investicijų pritraukimo ir verslo vystymosi programa | D7: 04.07.03.01 06.04.01.01 01.03.02.09 04.07.04.01 08.02.01.02 08.06.01.01 08.02.01.08 08.02.01.01 04.05.01.02 10.06.01.01 05.06.01.01 10.02.01.03 09.05.01.01 05.02.01.01 09.02.02.01 09.01.01.01 07.06.01.06 04.06.01.01 01.03.02.01 01.06.01.02 09.08.01.02 09.02.01.01 09.01.02.01 08.01.01.02 06.01.01.01 10.01.02.01 06.02.01.01 01.03.02.01 | E7: 188723322 | F7: ='08 Programa'!K389 -> 13289 | G7: ='08 Programa'!L389 -> 1691 | H7: ='08 Programa'!M389 -> 2.2 | I7: ='08 Programa'!N389 -> 11598 | J7: ='08 Programa'!O389 -> 12879.8 | K7: ='08 Programa'!P389 -> 2135.7 | L7: ='08 Programa'!Q389 -> 0 | M7: ='08 Programa'!R389 -> 10744.1 | ... Q7: ='08 Programa'!V389 -> 10960.8
A8: IŠ VISO: | F8: =SUM(F7) -> 13289 | G8: =SUM(G7) -> 1691 | H8: =SUM(H7) -> 2.2 | I8: =SUM(I7) -> 11598 | J8: =SUM(J7) -> 12879.8 | K8: =SUM(K7) -> 2135.7 | L8: =SUM(L7) -> 0 | M8: =SUM(M7) -> 10744.1 | N8: =SUM(N7) -> 12840.4 | O8: =O7 -> 1879.6 | P8: =SUM(P7) -> 0 | Q8: =SUM(Q7) -> 10960.8 | R8: =SUM(R7) -> 0 | S8: =SUM(S7) -> 0 | T8: =SUM(T7) -> 0 | U8: =SUM(U7) -> 0

Sheet 08 Šaltiniai
A1: 08. Investicijų pritraukimo ir verslo vystymo programa
A2: Finansavimo šaltiniai | J2: 2022 m. išlaidos, tūkst. Eur | K2: 2023 m. projektas, tūkst. Eur | L2: 2023 m. patvirtinta Šilutės r. savivaldybės taryboje, tūkst. Eur | U2: 2023 m. faktiškai skirtas finansavimas, tūkst. Eur
A3: Savivaldybės biudžetas SB | J3: ='08 Programa'!K385+'08 Programa'!K381+'08 Programa'!K374+'08 Programa'!K371+'08 Programa'!K364+'08 Programa'!K362+'08 Programa'!K360+'08 Programa'!K357+'08 Programa'!K353+'08 Programa'!K351+'08 Programa'!K348+'08 Programa'!K344+'08 Programa'!K339+'08 Programa'!K337+'08 Programa'!K334+'08 Programa'!K332+'08 Programa'!K330+'08 Programa'!K327+'08 Programa'!K324+'08 Programa'!K320+'08 Programa'!K316+'08 Programa'!K313+'08 Programa'!K310+'08 Programa'!K305+'08 Programa'!K302+'08 Programa'!K298+'08 Programa'!K295+'08 Programa'!K292+'08 Programa'!K289+'08 Programa'!K287+'08 Programa'!K284+'08 Programa'!K281+'08 Programa'!K278+'08 Programa'!K274+'08 Programa'!K271+'08 Programa'!K268+'08 Programa'!K265+'08 Programa'!K262+'08 Programa'!K258+'08 Programa'!K255+'08 Programa'!K251+'08 Programa'!K245+'08 Programa'!K240+'08 Programa'!K237+'08 Programa'!K234+'08 Programa'!K231+'08 Programa'!K226+'08 Programa'!K223+'08 Programa'!K220+'08 Programa'!K216+'08 Programa'!K214+'08 Programa'!K209+'08 Programa'!K207+'08 Programa'!K204+'08 Programa'!K201+'08 Programa'!K198+'08 Programa'!K196+'08 Programa'!K193+'08 Programa'!K190+'08 Programa'!K185+'08 Programa'!K181+'08 Programa'!K176+'08 Programa'!K171+'08 Programa'!K166+'08 Programa'!K161+'08 Programa'!K156+'08 Programa'!K153+'08 Programa'!K148+'08 Programa'!K143+'08 Programa'!K138+'08 Programa'!K133+'08 Programa'!K128+'08 Programa'!K123+'08 Programa'!K118+'08 Programa'!K113+'08 Programa'!K108+'08 Programa'!K103+'08 Programa'!K98+'08 Programa'!K93+'08 Programa'!K88+'08 Programa'!K82+'08 Programa'!K77+'08 Programa'!K71+'08 Programa'!K66+'08 Programa'!K60+'08 Programa'!K55+'08 Programa'!K50+'08 Programa'!K44+'08 Programa'!K41+'08 Programa'!K37+'08 Programa'!K33+'08 Programa'!K29+'08 Programa'!K25+'08 Programa'!K22+'08 Programa'!K242 -> 5867.7 | K3: ='08 Programa'!O37+'08 Programa'!O41+'08 Programa'!O44+'08 Programa'!O50+'08 Programa'!O55+'08 Programa'!O60+'08 Programa'!O66+'08 Programa'!O71+'08 Programa'!O77+'08 Programa'!O82+'08 Programa'!O88+'08 Programa'!O93+'08 Programa'!O98+'08 Programa'!O103+'08 Programa'!O108+'08 Programa'!O113+'08 Programa'!O118+'08 Programa'!O123+'08 Programa'!O128+'08 Programa'!O133+'08 Programa'!O138+'08 Programa'!O143+'08 Programa'!O148+'08 Programa'!O153+'08 Programa'!O156+'08 Programa'!O161+'08 Programa'!O166+'08 Programa'!O171+'08 Programa'!O176+'08 Programa'!O181+'08 Programa'!O185+'08 Programa'!O190+'08 Programa'!O193+'08 Programa'!O196+'08 Programa'!O198+'08 Programa'!O201+'08 Programa'!O204+'08 Programa'!O207+'08 Programa'!O209+'08 Programa'!O214+'08 Programa'!O216+'08 Programa'!O220+'08 Programa'!O223+'08 Programa'!O226+'08 Programa'!O231+'08 Programa'!O234+'08 Programa'!O237+'08 Programa'!O240+'08 Programa'!O245+'08 Programa'!O251+'08 Programa'!O255+'08 Programa'!O258+'08 Programa'!O262+'08 Programa'!O265+'08 Programa'!O268+'08 Programa'!O271+'08 Programa'!O274+'08 Programa'!O278+'08 Programa'!O281+'08 Programa'!O284+'08 Programa'!O287+'08 Programa'!O289+'08 Programa'!O292+'08 Programa'!O295+'08 Programa'!O298+'08 Programa'!O302+'08 Programa'!O305+'08 Programa'!O310+'08 Programa'!O313+'08 Programa'!O316+'08 Programa'!O320+'08 Programa'!O324+'08 Programa'!O327+'08 Programa'!O330+'08 Programa'!O332+'08 Programa'!O334+'08 Programa'!O337+'08 Programa'!O339+'08 Programa'!O344+'08 Programa'!O348+'08 Programa'!O351+'08 Programa'!O353+'08 Programa'!O357+'08 Programa'!O360+'08 Programa'!O362+'08 Programa'!O364+'08 Programa'!O371+'08 Programa'!O374+'08 Programa'!O381+'08 Programa'!O385+'08 Programa'!O242 -> 7222.3 | L3: ='08 Programa'!S22+'08 Programa'!S25+'08 Programa'!S29+'08 Programa'!S33+'08 Programa'!S37+'08 Programa'!S41+'08 Programa'!S44+'08 Programa'!S50+'08 Programa'!S55+'08 Programa'!S60+'08 Programa'!S66+'08 Programa'!S71+'08 Programa'!S77+'08 Programa'!S82+'08 Programa'!S88+'08 Programa'!S93+'08 Programa'!S98+'08 Programa'!S103+'08 Programa'!S108+'08 Programa'!S113+'08 Programa'!S118+'08 Programa'!S123+'08 Programa'!S128+'08 Programa'!S133+'08 Programa'!S138+'08 Programa'!S143+'08 Programa'!S148+'08 Programa'!S153+'08 Programa'!S156+'08 Programa'!S161+'08 Programa'!S166+'08 Programa'!S171+'08 Programa'!S176+'08 Programa'!S181+'08 Programa'!S185+'08 Programa'!S190+'08 Programa'!S193+'08 Programa'!S196+'08 Programa'!S198+'08 Programa'!S201+'08 Programa'!S204+'08 Programa'!S207+'08 Programa'!S209+'08 Programa'!S214+'08 Programa'!S216+'08 Programa'!S220+'08 Programa'!S223+'08 Programa'!S226+'08 Programa'!S231+'08 Programa'!S234+'08 Programa'!S237+'08 Programa'!S240+'08 Programa'!S245+'08 Programa'!S251+'08 Programa'!S255+'08 Programa'!S258+'08 Programa'!S262+'08 Programa'!S265+'08 Programa'!S268+'08 Programa'!S271+'08 Programa'!S274+'08 Programa'!S278+'08 Programa'!S281+'08 Programa'!S284+'08 Programa'!S287+'08 Programa'!S289+'08 Programa'!S292+'08 Programa'!S295+'08 Programa'!S298+'08 Programa'!S302+'08 Programa'!S305+'08 Programa'!S310+'08 Programa'!S313+'08 Programa'!S316+'08 Programa'!S320+'08 Programa'!S324+'08 Programa'!S327+'08 Programa'!S330+'08 Programa'!S332+'08 Programa'!S334+'08 Programa'!S337+'08 Programa'!S339+'08 Programa'!S344+'08 Programa'!S348+'08 Programa'!S351+'08 Programa'!S353+'08 Programa'!S357+'08 Programa'!S360+'08 Programa'!S362+'08 Programa'!S364+'08 Programa'!S371+'08 Programa'!S374+'08 Programa'!S381+'08 Programa'!S385+'08 Programa'!S242 -> 4747.7
A4: Valstybės biudžeto specialioji tikslinė dotacija SB(VB) | J4: 0 | K4: 0 | L4: 0
A5: Aplinkos apsaugos rėmimo specialioji programa SB(AA) | J5: 0 | K5: 0 | L5: 0
A6: Pajamos už suteiktas paslaugas SB(SP) | J6: 0 | K6: 0 | L6: 0
A7: Švietimo įstaigų modernizavimo programa SB(ŠIMP) | J7: ='08 Programa'!K252 -> 0 | K7: 0 | L7: 0
A8: Skolintos lėšos SL | J8: ='08 Programa'!K36+'08 Programa'!K64+'08 Programa'!K76+'08 Programa'!K87+'08 Programa'!K272+'08 Programa'!K321+'08 Programa'!K345+'08 Programa'!K375 -> 2509.9 | K8: ='08 Programa'!O317 -> 0 | L8: ='08 Programa'!S375+'08 Programa'!S345 -> 1650
A9: Užsienio valstybių, tarptautinių organizacijų ir Europos Sąjungos lėšos ES, EEE | J9: ='08 Programa'!K318+'08 Programa'!K246+'08 Programa'!K239+'08 Programa'!K236+'08 Programa'!K233+'08 Programa'!K230+'08 Programa'!K228+'08 Programa'!K225+'08 Programa'!K222+'08 Programa'!K219+'08 Programa'!K212+'08 Programa'!K210+'08 Programa'!K206+'08 Programa'!K203+'08 Programa'!K200+'08 Programa'!K195+'08 Programa'!K192+'08 Programa'!K187+'08 Programa'!K183+'08 Programa'!K178+'08 Programa'!K173+'08 Programa'!K168+'08 Programa'!K163+'08 Programa'!K158+'08 Programa'!K155+'08 Programa'!K150+'08 Programa'!K145+'08 Programa'!K140+'08 Programa'!K135+'08 Programa'!K130+'08 Programa'!K125+'08 Programa'!K115+'08 Programa'!K110+'08 Programa'!K105+'08 Programa'!K100+'08 Programa'!K95+'08 Programa'!K90+'08 Programa'!K84+'08 Programa'!K79+'08 Programa'!K73+'08 Programa'!K68+'08 Programa'!K62+'08 Programa'!K57+'08 Programa'!K52+'08 Programa'!K46+'08 Programa'!K43+'08 Programa'!K40+'08 Programa'!K38+'08 Programa'!K243 -> 1840.5 | K9: ='08 Programa'!O246+'08 Programa'!O239+'08 Programa'!O236+'08 Programa'!O233+'08 Programa'!O230+'08 Programa'!O228+'08 Programa'!O225+'08 Programa'!O222+'08 Programa'!O219+'08 Programa'!O212+'08 Programa'!O210+'08 Programa'!O206+'08 Programa'!O203+'08 Programa'!O200+'08 Programa'!O195+'08 Programa'!O192+'08 Programa'!O187+'08 Programa'!O183+'08 Programa'!O178+'08 Programa'!O173+'08 Programa'!O168+'08 Programa'!O163+'08 Programa'!O158+'08 Programa'!O155+'08 Programa'!O150+'08 Programa'!O145+'08 Programa'!O140+'08 Programa'!O135+'08 Programa'!O130+'08 Programa'!O125+'08 Programa'!O120+'08 Programa'!O115+'08 Programa'!O110+'08 Programa'!O105+'08 Programa'!O100+'08 Programa'!O95+'08 Programa'!O90+'08 Programa'!O84+'08 Programa'!O79+'08 Programa'!O73+'08 Programa'!O68+'08 Programa'!O62+'08 Programa'!O57+'08 Programa'!O52+'08 Programa'!O46+'08 Programa'!O43+'08 Programa'!O40+'08 Programa'!O38+'08 Programa'!O318+'08 Programa'!O243 -> 2732.3 | L9: ='08 Programa'!S23+'08 Programa'!S27+'08 Programa'!S31+'08 Programa'!S34+'08 Programa'!S38+'08 Programa'!S62+'08 Programa'!S79+'08 Programa'!S150+'08 Programa'!S155+'08 Programa'!S158+'08 Programa'!S168+'08 Programa'!S195+'08 Programa'!S222+'08 Programa'!S236+'08 Programa'!S246+'08 Programa'!S318+'08 Programa'!S243 -> 3282.8
A10: Visuomenės sveikatos apsaugos rėmimo specialioji programa SB(VS) | J10: 0 | K10: 0 | L10: 0
A11: Valstybės lėšos VL | J11: ='08 Programa'!K358+'08 Programa'!K74+'08 Programa'!K47 -> 115.9 | K11: ='08 Programa'!O63+'08 Programa'!O159 -> 25.2 | L11: ='08 Programa'!S159+'08 Programa'!S63+'08 Programa'!S30+'08 Programa'!S26 -> 35.4
A12: Kelių priežiūros ir plėtros programa KPPP | J12: ='08 Programa'!K379+'08 Programa'!K377+'08 Programa'!K373+'08 Programa'!K369 -> 2900.1 | K12: ='08 Programa'!O369+'08 Programa'!O373+'08 Programa'!O377+'08 Programa'!O379 -> 2900 | L12: ='08 Programa'!S369+'08 Programa'!S373+'08 Programa'!S377+'08 Programa'!S379 -> 3000
A13: Kitos lėšos KTL | J13: 0 | K13: 0 | L13: 0
A14: Viešųjų investicijų plėtros agentūros lėšos VIPA | J14: ='08 Programa'!K65+'08 Programa'!K112+'08 Programa'!K117 -> 54.9 | K14: 0 | L14: ='08 Programa'!S65 -> 124.5
A15: Valstybės investicijų programa VIP | J15: ='08 Programa'!K75+'08 Programa'!K86+'08 Programa'!K250+'08 Programa'!K309+'08 Programa'!K322+'08 Programa'!K335+'08 Programa'!K343 -> 0 | K15: ='08 Programa'!O343+'08 Programa'!O322 -> 0 | L15: ='08 Programa'!S322+'08 Programa'!S343 -> 0
A16: Iš viso: | J16: =SUM(J3:J15) -> 13289 | K16: =SUM(K3:K15) -> 12879.8 | L16: =SUM(L3:T15) -> 12840.4

Sheet 08 Bendros lėšos
A1: 08. Investicijų pritraukimo ir verslo vystymosi programa
A2: Bendras lėšų poreikis ir numatomi finansavimo šaltiniai
A3: tūkst. Eur
A4: Ekonominės klasifikacijos grupės | B4: Asignavimai 2022 m. | C4: Paraiška biudžetiniams | F4: 2023-iems m. patvirtinta Šilutės r. savivaldybės taryboje | G4: 2023-iems m. faktiškai skirta | H4: Projektas 2024 m. | I4: Projektas 2025 m.
C5: 2023 m.
C6: bazinis biudžetas | D6: pakeitimai/ (+padidėjimas -sumažėjimas) | E6: iš viso
A9: 1. Iš viso lėšų poreikis: | B9: ='08 Programa'!K389 -> 13289 | C9: =+B9 -> 13289 | D9: =E9-C9 -> -409.2 | E9: ='08 Programa'!O389 -> 12879.8 | F9: ='08 Programa'!S389 -> 12840.4 | H9: ='08 Programa'!AA389 -> 5581.4 | I9: ='08 Programa'!AB389 -> 5772
A10: 1.1.išlaidoms | B10: ='08 Programa'!L389 -> 1691 | C10: =+B10 -> 1691 | D10: =E10-C10 -> 444.7 | E10: ='08 Programa'!P389 -> 2135.7 | F10: ='08 Programa'!T389 -> 1879.6 | H10: 990 | I10: 880
A11: 1.1.1.iš jų darbo užmokesčiui | B11: ='08 Programa'!M389 -> 2.2 | C11: =+B11 -> 2.2 | D11: =E11-C11 -> -2.2 | E11: ='08 Programa'!Q389 -> 0 | F11: ='08 Programa'!U389 -> 0 | H11: =F11*1.1 -> 0 | I11: =H11*1.1 -> 0
A12: 1.2. turtui įsigyti ir finansiniams įsipareigojimams vykdyti | B12: ='08 Programa'!N389 -> 11598 | C12: =+B12 -> 11598 | D12: =E12-C12 -> -853.9 | E12: ='08 Programa'!R389 -> 10744.1 | F12: ='08 Programa'!V389 -> 10960.8 | H12: =H9-H10 -> 4591.4 | I12: =I9-I10 -> 4892
A13: 2. Finansavimas | B13: ='08 Programa'!K389 -> 13289 | C13: =C14+C19 -> 13289 | D13: =E13-C13 -> -409.2 | E13: =E9 -> 12879.8 | F13: =F9 -> 12840.4 | H13: =H9 -> 5581.4 | I13: =I9 -> 5772
A14: 2.1.Savivaldybės biudžetas: | B14: =B9-B19 -> 5867.7 | C14: =C9-C19 -> 5867.7 | D14: =E14-C14 -> 1354.6 | E14: =+E9-E19 -> 7222.3 | F14: =F13-F19 -> 4747.7 | H14: =H13-H19 -> 2370.2 | I14: =I13-I19 -> 2476.9
A15: 2.1.1. iš jo: valstybės biudžeto specialioji tikslinė dotacija | B15: ='08 Šaltiniai'!J4 -> 0 | C15: =B15 -> 0 | D15: 0 | E15: 0 | F15: 0 | H15: 0 | I15: =+H15*1.1 -> 0
A16: 2.1.2.iš jo: aplinkos apsaugos rėmimo specialiosios programos lėšos | B16: 0 | C16: 0 | D16: =E16-C16 -> 0 | E16: ='08 Šaltiniai'!K5 -> 0 | F16: 0 | H16: 0 | I16: 0
A17: 2.1.3. iš jo: visuomenės sveikatos rėmimo specialiosios programos lėšos | B17: 0 | C17: 0 | D17: =E17-C17 -> 0 | E17: 0 | F17: 0 | H17: 0 | I17: 0
A18: 2.1.4. iš jo: pajamos už suteiktas paslaugas | B18: 0 | C18: =+B18 -> 0 | D18: =E18-C18 -> 0 | E18: 0 | F18: 0 | H18: 0 | I18: 0
A19: 2.2. Kiti šaltiniai: | B19: =SUM(B20:B27) -> 7421.3 | C19: =B19 -> 7421.3 | D19: =E19-C19 -> -1763.8 | E19: =SUM(E20:E27) -> 5657.5 | F19: =SUM(F20:F27) -> 8092.7 | H19: =SUM(H20:H27) -> 3211.2 | I19: =SUM(I20:I27) -> 3295.1
A20: 2.2.1. švietimo įstaigų modernizavimo programa | B20: ='08 Šaltiniai'!J7 -> 0 | C20: =B20 -> 0 | D20: =E20-C20 -> 0 | E20: ='08 Šaltiniai'!K7 -> 0 | F20: 0 | H20: 0 | I20: 0
A21: 2.2.2. skolintos lėšos | B21: ='08 Šaltiniai'!J8 -> 2509.9 | C21: =B21 -> 2509.9 | D21: =E21-C21 -> -2509.9 | E21: ='08 Šaltiniai'!K8 -> 0 | F21: 1650 | H21: 0 | I21: 0
A22: 2.2.3. Valstybės investicijų programa | B22: ='08 Šaltiniai'!J15 -> 0 | C22: =B22 -> 0 | D22: =E22-C22 -> 0 | E22: ='08 Šaltiniai'!K15 -> 0 | F22: 0 | H22: ='08 Programa'!AA343 -> 0 | I22: ='08 Programa'!AB343+'08 Programa'!AB322 -> 0
A23: 2.2.4. Užsienio valstybių, tarptautinių organizacijų ir Europos Sąjungos lėšos | B23: ='08 Šaltiniai'!J9 -> 1840.5 | C23: =+B23 -> 1840.5 | D23: =E23-C23 -> 891.8 | E23: ='08 Šaltiniai'!K9 -> 2732.3 | F23: 3282.8 | H23: ='08 Programa'!AA318+'08 Programa'!AA246+'08 Programa'!AA239+'08 Programa'!AA236+'08 Programa'!AA233+'08 Programa'!AA230+'08 Programa'!AA228+'08 Programa'!AA225+'08 Programa'!AA222+'08 Programa'!AA219+'08 Programa'!AA212+'08 Programa'!AA210+'08 Programa'!AA206+'08 Programa'!AA203+'08 Programa'!AA200+'08 Programa'!AA195+'08 Programa'!AA192+'08 Programa'!AA187+'08 Programa'!AA183+'08 Programa'!AA178+'08 Programa'!AA173+'08 Programa'!AA168+'08 Programa'!AA163+'08 Programa'!AA158+'08 Programa'!AA155+'08 Programa'!AA150+'08 Programa'!AA145+'08 Programa'!AA140+'08 Programa'!AA135+'08 Programa'!AA130+'08 Programa'!AA125+'08 Programa'!AA120+'08 Programa'!AA115+'08 Programa'!AA110+'08 Programa'!AA105+'08 Programa'!AA100+'08 Programa'!AA95+'08 Programa'!AA90+'08 Programa'!AA84+'08 Programa'!AA79+'08 Programa'!AA73+'08 Programa'!AA68+'08 Programa'!AA62+'08 Programa'!AA57+'08 Programa'!AA52+'08 Programa'!AA46+'08 Programa'!AA43+'08 Programa'!AA40+'08 Programa'!AA38+'08 Programa'!AA34+'08 Programa'!AA31+'08 Programa'!AA27+'08 Programa'!AA23 -> 201 | I23: ='08 Programa'!AB23+'08 Programa'!AB27+'08 Programa'!AB31+'08 Programa'!AB34 -> 84.2
A24: 2.2.5. Valstybės lėšos | B24: ='08 Šaltiniai'!J11 -> 115.9 | C24: =B24 -> 115.9 | D24: =E24-C24 -> -90.7 | E24: ='08 Šaltiniai'!K11 -> 25.2 | F24: 35.4 | H24: ='08 Programa'!AA26+'08 Programa'!AA30 -> 10.2 | I24: ='08 Programa'!AB26+'08 Programa'!AB30 -> 10.9
A25: 2.2.6. Kelių priežiūros ir plėtros programos lėšos | B25: ='08 Šaltiniai'!J12 -> 2900.1 | C25: =B25 -> 2900.1 | D25: =E25-C25 -> -0.1 | E25: ='08 Šaltiniai'!K12 -> 2900 | F25: 3000 | H25: ='08 Programa'!AA369+'08 Programa'!AA373+'08 Programa'!AA377+'08 Programa'!AA379 -> 3000 | I25: ='08 Programa'!AB379+'08 Programa'!AB377+'08 Programa'!AB373+'08 Programa'!AB369 -> 3200
A26: 2.2.7. Viešųjų investicijų plėtros agentūros lėšos | B26: ='08 Šaltiniai'!J14 -> 54.9 | C26: =B26 -> 54.9 | D26: =E26-C26 -> -54.9 | E26: ='08 Šaltiniai'!K14 -> 0 | F26: 124.5 | H26: 0 | I26: 0
A27: 2.2.8. kitos lėšos | B27: 0 | C27: 0 | D27: 0 | E27: ='08 Šaltiniai'!K13 -> 0 | F27: =[1]Suvestine!L14 -> 0 | H27: 0 | I27: 0
