Workbook

Sheet 08 Programa
Z1: PATVIRTINTA
Z2: Šilutės rajono savivaldybės tarybos 2022 m. gruodžio 22 d.
Z3: sprendimu Nr. T1-1169
Z4: (Šilutės rajono savivaldybės tarybos 2023 m. sausio 26 d.
Z5: sprendimo Nr. T1-1200 redakcija)
Z6: (Šilutės rajono savivaldybės tarybos 2023 m. vasario 23 d.
Z7: sprendimo Nr. T1-1222 redakcija)
Z8: (Šilutės rajono savivaldybės tarybos 2023 m. gegužės 25 d.
Z9: sprendimo Nr. T1-5 redakcija)
Z10: (Šilutės rajono savivaldybės tarybos 2023 m. rugsėjo 28 d.
Z11: sprendimo Nr. T1- redakcija)
AE12: (Nr. 08)
A13: 2023–2025 ŠILUTĖS RAJONO SAVIVALDYBĖS ADMINISTRACIJOS
A14: INVESTICIJŲ PRITRAUKIMO IR VERSLO VYSTYMO PROGRAMOS
A15: TIKSLŲ, PROGRAMŲ, PROGRAMŲ TIKSLŲ, UŽDAVINIŲ, UŽDAVINIŲ VERTINIMO KRITERIJŲ, PRIEMONIŲ IR PRIEMONIŲ IŠLAIDŲ SUVESTINĖ
A16: tūkst. Eur
A17: Programos kodas | B17: Programos tikslo kodas | C17: Uždavinio kodas | D17: Priemonės kodas | E17: Priemonės pavadinimas | F17: Priemonės požymis | G17: Funkcinės klasifikacijos kodas | H17: Asignavimų valdytojo kodas | I17: Priemonės vykdytojo kodas | J17: Finansavimo šaltinis | K17: 2022 m. išlaidos | O17: 2023 m. išlaidų projektas | S17: 2023 m. patvirtinta Šilutės r. savivaldybės taryboje | W17: 2023 m. faktiškai skirtas finansavimas | AA17: 2024-ųjų metų išlaidų projektas | AB17: 2025-ųjų metų išlaidų projektas | AC17: Uždavinio vertinimo kriterijus
K18: Iš viso | L18: Išlaidoms | N18: Turtui įsigyti ir finansiniams įsipareigojimams vykdyti | O18: Iš viso | P18: Išlaidoms | R18: Turtui įsigyti ir finansiniams įsipareigojimams vykdyti | S18: Iš viso | T18: Išlaidoms | V18: Turtui įsigyti ir finansiniams įsipareigojimams vykdyti | W18: Iš viso | X18: Išlaidoms | Z18: Turtui įsigyti ir finansiniams įsipareigojimams vykdyti | AC18: Pavadinimas | AD18: Planas
L19: Iš viso | M19: Darbo užmokesčiui | P19: Iš viso | Q19: Darbo užmokesčiui | T19: Iš viso | U19: Darbo užmokesčiui | X19: Iš viso | Y19: Darbo užmokesčiui | AD19: 2023 m. | AE19: 2024 m. | AF19: 2025 m.
A20: Strateginė sritis 03. Infrastruktūros gerinimas/plėtojimas ir žemės ūkio verslo plėtra
A21: 08 Investicijų pritraukimo ir verslo vystymo programa
A22: 08 | B22: 01 | C22: Gerinti infrastruktūrą darnoje su gamtine aplinka
A23: 08 | B23: 01 | C23: 01 | D23: Užtikrinti kuo didesnį parengtų ir įgyvendinamų projektų skaičių
A24: 08 | B24: 01 | C24: 01 | D24: 14 | E24: Bekontakčiai atsiskaitymai Šilutės rajono savivaldybės mokyklose | G24: 09.08.01.02 | H24: 188723322 | I24: 12 | J24: SB | K24: =+L24+N24 -> 0 | L24: 0 | M24: 0 | N24: 0 | O24: =+P24+R24 -> 0 | P24: 0 | Q24: 0 | R24: 0 | S24: =+T24+V24 -> 10 | T24: 10 | U24: 0 | V24: 0 | W24: =+X24+Z24 -> 0 | X24: 0 | Y24: 0 | Z24: 0 | AA24: 0 | AB24: 0 | AC24: Mokyklų, įsidiegusių bekontaktį atsiskaitymą, skaičius, vnt. | AD24: 15 | AE24: 15 | AF24: 0
J25: ES | K25: =+L25+N25 -> 0 | L25: 0 | M25: 0 | N25: 0 | O25: =P25+R25 -> 0 | P25: 0 | Q25: 0 | R25: 0 | S25: =+T25+V25 -> 107.5 | T25: 107.5 | U25: 0 | V25: 0 | W25: =+X25+Z25 -> 0 | X25: 0 | Y25: 0 | Z25: 0 | AA25: 0 | AB25: 0
J26: Iš viso: | K26: =SUM(K24:K25) -> 0 | L26: =SUM(L24:L25) -> 0 | M26: =SUM(M24:M25) -> 0 | N26: =SUM(N24:N25) -> 0 | O26: =SUM(O24:O25) -> 0 | P26: =SUM(P24:P25) -> 0 | Q26: =SUM(Q24:Q25) -> 0 | R26: =SUM(R24:R25) -> 0 | ... AB26: =SUM(AB24:AB25) -> 0
A27: 08 | B27: 01 | C27: 01 | D27: 15 | E27: Geresnis gyvenimas mažuose ir vidutinio dydžio miestuose: veiksmai, gerinantys strategijas („A better life in small and mid-sized cities: from Interregional actions to improved Revitalisation strategies“) | G27: 01.03.02.01 | H27: 188723322 | I27: 12 | J27: SB | K27: =+L27+N27 -> 0 | L27: 0 | M27: 0 | N27: 0 | O27: =+P27+R27 -> 0 | P27: 0 | Q27: 0 | R27: 0 | S27: =+T27+V27 -> 5 | T27: 5 | U27: 0 | V27: 0 | W27: =+X27+Z27 -> 0 | X27: 0 | Y27: 0 | Z27: 0 | AA27: 5 | AB27: 5.4 | AC27: Įgyvendintas projektas, proc. | AD27: 0 | AE27: 0 | AF27: 100
J28: VL | K28: =L28+N28 -> 0 | L28: 0 | M28: 0 | N28: 0 | O28: =P28+R28 -> 0 | P28: 0 | Q28: 0 | R28: 0 | S28: =T28+V28 -> 5 | T28: 5 | U28: 0 | V28: 0 | W28: =X28+Z28 -> 0 | X28: 0 | Y28: 0 | Z28: 0 | AA28: 5 | AB28: 5.4
J29: ES | K29: =+L29+N29 -> 0 | L29: 0 | M29: 0 | N29: 0 | O29: =P29+R29 -> 0 | P29: 0 | Q29: 0 | R29: 0 | S29: =+T29+V29 -> 41 | T29: 41 | U29: 0 | V29: 0 | W29: =+X29+Z29 -> 0 | X29: 0 | Y29: 0 | Z29: 0 | AA29: 41 | AB29: 41.2
J30: Iš viso: | K30: =SUM(K27:K29) -> 0 | L30: =SUM(L27:L29) -> 0 | M30: =SUM(M27:M29) -> 0 | N30: =SUM(N27:N29) -> 0 | O30: =SUM(O27:O29) -> 0 | P30: =SUM(P27:P29) -> 0 | Q30: =SUM(Q27:Q29) -> 0 | R30: =SUM(R27:R29) -> 0 | ... AB30: =SUM(AB27:AB29) -> 52
A31: 08 | B31: 01 | C31: 01 | D31: 16 | E31: Atvirų duomenų prieinamumo didinimas, siekiant pagerinti teikiamas viešąsias paslaugas („Strengthening the availability and processing of Open Data to support local growth and urban transformation“) | G31: 01.03.02.01 | H31: 188723322 | I31: 12 | J31: SB | K31: =+L31+N31 -> 0 | L31: 0 | M31: 0 | N31: 0 | O31: =+P31+R31 -> 0 | P31: 0 | Q31: 0 | R31: 0 | S31: =+T31+V31 -> 5.2 | T31: 5.2 | U31: 0 | V31: 0 | W31: =+X31+Z31 -> 0 | X31: 0 | Y31: 0 | Z31: 0 | AA31: 5.2 | AB31: 5.5 | AC31: Įgyvendintas projektas, proc. | AD31: 0 | AE31: 0 | AF31: 100
J32: VL | K32: =L32+N32 -> 0 | L32: 0 | M32: 0 | N32: 0 | O32: =P32+R32 -> 0 | P32: 0 | Q32: 0 | R32: 0 | S32: =T32+V32 -> 5.2 | T32: 5.2 | U32: 0 | V32: 0 | W32: =X32+Z32 -> 0 | X32: 0 | Y32: 0 | Z32: 0 | AA32: 5.2 | AB32: 5.5
J33: ES | K33: =+L33+N33 -> 0 | L33: 0 | M33: 0 | N33: 0 | O33: =P33+R33 -> 0 | P33: 0 | Q33: 0 | R33: 0 | S33: =+T33+V33 -> 42 | T33: 42 | U33: 0 | V33: 0 | W33: =+X33+Z33 -> 0 | X33: 0 | Y33: 0 | Z33: 0 | AA33: 42 | AB33: 43
J34: Iš viso: | K34: =SUM(K31:K33) -> 0 | L34: =SUM(L31:L33) -> 0 | M34: =SUM(M31:M33) -> 0 | N34: =SUM(N31:N33) -> 0 | O34: =SUM(O31:O33) -> 0 | P34: =SUM(P31:P33) -> 0 | Q34: =SUM(Q31:Q33) -> 0 | R34: =SUM(R31:R33) -> 0 | ... AB34: =SUM(AB31:AB33) -> 54
A35: 08 | B35: 01 | C35: 01 | D35: 17 | E35: Šilutės miesto stadiono infrastruktūros gerinimas | G35: 08.06.01.01 | H35: 188723322 | I35: 12 | J35: SB | K35: =+L35+N35 -> 0 | L35: 0 | M35: 0 | N35: 0 | O35: =+P35+R35 -> 0 | P35: 0 | Q35: 0 | R35: 0 | S35: =+T35+V35 -> 200 | T35: 0 | U35: 0 | V35: 200 | W35: =+X35+Z35 -> 0 | X35: 0 | Y35: 0 | Z35: 0 | AA35: 72.6 | AB35: 0 | AC35: Įgyvendintas projektas, vnt. | AD35: 0 | AE35: 1 | AF35: 0
J36: ES | K36: =+L36+N36 -> 0 | L36: 0 | M36: 0 | N36: 0 | O36: =P36+R36 -> 0 | P36: 0 | Q36: 0 | R36: 0 | S36: =+T36+V36 -> 360 | T36: 0 | U36: 0 | V36: 360 | W36: =+X36+Z36 -> 0 | X36: 0 | Y36: 0 | Z36: 0 | AA36: 90 | AB36: 0
J37: Iš viso: | K37: =SUM(K35:K36) -> 0 | L37: =SUM(L35:L36) -> 0 | M37: =SUM(M35:M36) -> 0 | N37: =SUM(N35:N36) -> 0 | O37: =SUM(O35:O36) -> 0 | P37: =SUM(P35:P36) -> 0 | Q37: =SUM(Q35:Q36) -> 0 | R37: =SUM(R35:R36) -> 0 | ... AB37: =SUM(AB35:AB36) -> 0
A38: 08 | B38: 01 | C38: 01 | D38: 18 | E38: Šilutės r. savivaldybės gatvių apšvietimo sistemos modernizavimas | G38: 06.04.01.01 | H38: 188723322 | I38: 12 | J38: SL | K38: =+L38+N38 -> 56.5 | L38: 0 | M38: 0 | N38: 56.5 | O38: =+P38+R38 -> 0 | P38: 0 | Q38: 0 | R38: 0 | S38: =+T38+V38 -> 0 | T38: 0 | U38: 0 | V38: 0 | W38: =+X38+Z38 -> 0 | X38: 0 | Y38: 0 | Z38: 0 | AA38: 0 | AB38: 0 | AC38: Modernizavimio metu pakeistų miesto gatvių šviestuvų kiekis, vnt. | AD38: 1443 | AE38: 0 | AF38: 0
J39: SB | K39: =+L39+N39 -> 103.6 | L39: 0 | M39: 0 | N39: 103.6 | O39: =+P39+R39 -> 377.1 | P39: 0 | Q39: 0 | R39: 377.1 | S39: =+T39+V39 -> 377.1 | T39: 0 | U39: 0 | V39: 377.1 | W39: =+X39+Z39 -> 0 | X39: 0 | Y39: 0 | Z39: 0 | AA39: 0 | AB39: 0
J40: ES | K40: =+L40+N40 -> 6.1 | L40: 0 | M40: 0 | N40: 6.1 | O40: =P40+R40 -> 377.1 | P40: 0 | Q40: 0 | R40: 377.1 | S40: =+T40+V40 -> 377.1 | T40: 0 | U40: 0 | V40: 377.1 | W40: =+X40+Z40 -> 0 | X40: 0 | Y40: 0 | Z40: 0 | AA40: 0 | AB40: 0
J41: Iš viso: | K41: =SUM(K38:K40) -> 166.2 | L41: =SUM(L38:L40) -> 0 | M41: =SUM(M38:M40) -> 0 | N41: =SUM(N38:N40) -> 166.2 | O41: =SUM(O38:O40) -> 754.2 | P41: =SUM(P38:P40) -> 0 | Q41: =SUM(Q38:Q40) -> 0 | R41: =SUM(R38:R40) -> 754.2 | ... AB41: =SUM(AB38:AB40) -> 0
A42: 08 | B42: 01 | C42: 01 | D42: 21 | E42: Projekto įgyvendinimo metu sukurto turto draudimas | G42: 01.03.02.09 | H42: 188723322 | I42: 12 | J42: ES | K42: =+L42+N42 -> 0 | L42: 0 | M42: 0 | N42: 0 | O42: =+P42+R42 -> 0 | P42: 0 | Q42: 0 | R42: 0 | S42: =+T42+V42 -> 0 | T42: 0 | U42: 0 | V42: 0 | W42: =+X42+Z42 -> 0 | X42: 0 | Y42: 0 | Z42: 0 | AA42: 0 | AB42: 0 | AC42: Apdraustas projekto įgyvendinimo metu įsigytas turtas, vnt. | AD42: 8 | AE42: 10 | AF42: 10
J43: SB | K43: =+L43+N43 -> 4 | L43: 4 | M43: 0 | N43: 0 | O43: =+P43+R43 -> 6 | P43: 6 | Q43: 0 | R43: 0 | S43: =+T43+V43 -> 6 | T43: 6 | U43: 0 | V43: 0 | W43: =+X43+Z43 -> 0 | X43: 0 | Y43: 0 | Z43: 0 | AA43: 6 | AB43: 6
J44: Iš viso: | K44: =SUM(K42:K43) -> 4 | L44: =SUM(L42:L43) -> 4 | M44: =SUM(M42:M43) -> 0 | N44: =SUM(N42:N43) -> 0 | O44: =SUM(O42:O43) -> 6 | P44: =SUM(P42:P43) -> 6 | Q44: =SUM(Q42:Q43) -> 0 | R44: =SUM(R42:R43) -> 0 | ... AB44: =SUM(AB42:AB43) -> 6
A45: 08 | B45: 01 | C45: 01 | D45: 26 | E45: Rezervas įgyvendinamiems projektams | G45: 01.03.02.09 | H45: 188723322 | I45: 12 | J45: ES | K45: =+L45+N45 -> 0 | L45: 0 | M45: 0 | N45: 0 | O45: =+P45+R45 -> 0 | P45: 0 | Q45: 0 | R45: 0 | S45: =+T45+V45 -> 0 | T45: 0 | U45: 0 | V45: 0 | W45: =+X45+Z45 -> 0 | X45: 0 | Y45: 0 | Z45: 0 | AA45: 0 | AB45: 0 | AC45: Įgyvendinti projektai, proc. | AD45: 100 | AE45: 100 | AF45: 100
J46: SB | K46: =+L46+N46 -> 38.8 | L46: 0 | M46: 0 | N46: 38.8 | O46: =+P46+R46 -> 150 | P46: 0 | Q46: 0 | R46: 150 | S46: =+T46+V46 -> 100 | T46: 0 | U46: 0 | V46: 100 | W46: =+X46+Z46 -> 0 | X46: 0 | Y46: 0 | Z46: 0 | AA46: 150 | AB46: 150
J47: Iš viso: | K47: =SUM(K45:K46) -> 38.8 | L47: =SUM(L45:L46) -> 0 | M47: =SUM(M45:M46) -> 0 | N47: =SUM(N45:N46) -> 38.8 | O47: =SUM(O45:O46) -> 150 | P47: =SUM(P45:P46) -> 0 | Q47: =SUM(Q45:Q46) -> 0 | R47: =SUM(R45:R46) -> 150 | ... AB47: =SUM(AB45:AB46) -> 150
A48: 08 | B48: 01 | C48: 01 | D48: 29 | E48: Šilutės miesto Šilokarčemos kvartalo kompleksinis sutvarkymas | G48: 04.07.04.01 | H48: 188723322 | I48: 12 | J48: ES | K48: =+L48+N48 -> 671.6 | L48: 0 | M48: 0 | N48: 671.6 | O48: =+P48+R48 -> 0 | P48: 0 | Q48: 0 | R48: 0 | S48: =+T48+V48 -> 0 | T48: 0 | U48: 0 | V48: 0 | W48: =+X48+Z48 -> 0 | X48: 0 | Y48: 0 | Z48: 0 | AA48: 0 | AB48: 0 | AC48: Sukurtos arba atnaujintos atviros erdvės miestų vietovėse, kv.m. | AD48: 0 | AE48: 0 | AF48: 0
J49: VL | K49: =+L49+N49 -> 54.5 | L49: 0 | M49: 0 | N49: 54.5 | O49: =+P49+R49 -> 0 | P49: 0 | Q49: 0 | R49: 0 | S49: =+T49+V49 -> 0 | T49: 0 | U49: 0 | V49: 0 | W49: =+X49+Z49 -> 0 | X49: 0 | Y49: 0 | Z49: 0 | AA49: 0 | AB49: 0
J50: SL | K50: =+L50+N50 -> 0 | L50: 0 | M50: 0 | N50: 0 | O50: =+P50+R50 -> 0 | P50: 0 | Q50: 0 | R50: 0 | S50: =+T50+V50 -> 0 | T50: 0 | U50: 0 | V50: 0 | W50: =+X50+Z50 -> 0 | X50: 0 | Y50: 0 | Z50: 0 | AA50: 0 | AB50: 0
J51: VIPA | K51: =L51+N51 -> 0 | L51: 0 | M51: 0 | N51: 0 | O51: =P51+R51 -> 0 | P51: 0 | Q51: 0 | R51: 0 | S51: =T51+V51 -> 0 | T51: 0 | U51: 0 | V51: 0 | W51: =X51+Z51 -> 0 | X51: 0 | Y51: 0 | Z51: 0 | AA51: 0 | AB51: 0
J52: SB | K52: =+L52+N52 -> 384.2 | L52: 0 | M52: 0 | N52: 384.2 | O52: =+P52+R52 -> 0 | P52: 0 | Q52: 0 | R52: 0 | S52: =+T52+V52 -> 0 | T52: 0 | U52: 0 | V52: 0 | W52: =+X52+Z52 -> 0 | X52: 0 | Y52: 0 | Z52: 0 | AA52: 0 | AB52: 0
J53: Iš viso: | K53: =SUM(K48:K52) -> 1110.3 | L53: =SUM(L48:L52) -> 0 | M53: =SUM(M48:M52) -> 0 | N53: =SUM(N48:N52) -> 1110.3 | O53: =SUM(O48:O52) -> 0 | P53: =SUM(P48:P52) -> 0 | Q53: =SUM(Q48:Q52) -> 0 | R53: =SUM(R48:R52) -> 0 | ... AB53: =SUM(AB48:AB52) -> 0
A54: 08 | B54: 01 | C54: 01 | D54: 30 | E54: Šilutės H. Šojaus dvaro parko teritorijos sutvarkymas ir pritaikymas rekreacijai | G54: 08.02.01.02 | H54: 188723322 | I54: 12 | J54: ES | K54: =+L54+N54 -> 0 | L54: 0 | M54: 0 | N54: 0 | O54: =+P54+R54 -> 0 | P54: 0 | Q54: 0 | R54: 0 | S54: =+T54+V54 -> 0 | T54: 0 | U54: 0 | V54: 0 | W54: =+X54+Z54 -> 0 | X54: 0 | Y54: 0 | Z54: 0 | AA54: 0 | AB54: 0 | AC54: Sukurtos arba atnaujintos atviros erdvės miestų vietovėse , kv. m | AD54: 0 | AE54: 0 | AF54: 0
J55: VL | K55: =+L55+N55 -> 0 | L55: 0 | M55: 0 | N55: 0 | O55: =+P55+R55 -> 0 | P55: 0 | Q55: 0 | R55: 0 | S55: =+T55+V55 -> 0 | T55: 0 | U55: 0 | V55: 0 | W55: =+X55+Z55 -> 0 | X55: 0 | Y55: 0 | Z55: 0 | AA55: 0 | AB55: 0
J56: SL | K56: =+L56+N56 -> 0 | L56: 0 | M56: 0 | N56: 0 | O56: =+P56+R56 -> 0 | P56: 0 | Q56: 0 | R56: 0 | S56: =+T56+V56 -> 0 | T56: 0 | U56: 0 | V56: 0 | W56: =+X56+Z56 -> 0 | X56: 0 | Y56: 0 | Z56: 0 | AA56: 0 | AB56: 0
J57: SB | K57: =+L57+N57 -> 1.9 | L57: 0 | M57: 0 | N57: 1.9 | O57: =+P57+R57 -> 1.9 | P57: 0 | Q57: 0 | R57: 1.9 | S57: =+T57+V57 -> 1.9 | T57: 0 | U57: 0 | V57: 1.9 | W57: =+X57+Z57 -> 0 | X57: 0 | Y57: 0 | Z57: 0 | AA57: 0 | AB57: 0
J58: Iš viso: | K58: =SUM(K54:K57) -> 1.9 | L58: =SUM(L54:L57) -> 0 | M58: =SUM(M54:M57) -> 0 | N58: =SUM(N54:N57) -> 1.9 | O58: =SUM(O54:O57) -> 1.9 | P58: =SUM(P54:P57) -> 0 | Q58: =SUM(Q54:Q57) -> 0 | R58: =SUM(R54:R57) -> 1.9 | ... AB58: =SUM(AB54:AB57) -> 0
A59: 08 | B59: 01 | C59: 01 | D59: 31 | E59: Šilutės miesto Lietuvininkų g. ir Tilžės g. gretutinių teritorijų viešųjų erdvių sutvarkymas, suformuojant rekreacijai ir aktyviai miestiečių veiklai patrauklias erdves | G59: 04.07.04.01 | H59: 188723322 | I59: 12 | J59: ES | K59: =+L59+N59 -> 124.5 | L59: 0 | M59: 0 | N59: 124.5 | O59: =+P59+R59 -> 0 | P59: 0 | Q59: 0 | R59: 0 | S59: =+T59+V59 -> 0 | T59: 0 | U59: 0 | V59: 0 | W59: =+X59+Z59 -> 0 | X59: 0 | Y59: 0 | Z59: 0 | AA59: 0 | AB59: 0 | AC59: Sukurtos arba atnaujintos atviros erdvės miestų vietovėse , kv. m | AD59: 0 | AE59: 0 | AF59: 0
J60: VL | K60: =+L60+N60 -> 0 | L60: 0 | M60: 0 | N60: 0 | O60: =+P60+R60 -> 0 | P60: 0 | Q60: 0 | R60: 0 | S60: =+T60+V60 -> 0 | T60: 0 | U60: 0 | V60: 0 | W60: =+X60+Z60 -> 0 | X60: 0 | Y60: 0 | Z60: 0 | AA60: 0 | AB60: 0
J61: SL | K61: =+L61+N61 -> 0 | L61: 0 | M61: 0 | N61: 0 | O61: =+P61+R61 -> 0 | P61: 0 | Q61: 0 | R61: 0 | S61: =+T61+V61 -> 0 | T61: 0 | U61: 0 | V61: 0 | W61: =+X61+Z61 -> 0 | X61: 0 | Y61: 0 | Z61: 0 | AA61: 0 | AB61: 0
J62: SB | K62: =+L62+N62 -> 0 | L62: 0 | M62: 0 | N62: 0 | O62: =+P62+R62 -> 0 | P62: 0 | Q62: 0 | R62: 0 | S62: =+T62+V62 -> 0 | T62: 0 | U62: 0 | V62: 0 | W62: =+X62+Z62 -> 0 | X62: 0 | Y62: 0 | Z62: 0 | AA62: 0 | AB62: 0
J63: Iš viso: | K63: =SUM(K59:K62) -> 124.5 | L63: =SUM(L59:L62) -> 0 | M63: =SUM(M59:M62) -> 0 | N63: =SUM(N59:N62) -> 124.5 | O63: =SUM(O59:O62) -> 0 | P63: =SUM(P59:P62) -> 0 | Q63: =SUM(Q59:Q62) -> 0 | R63: =SUM(R59:R62) -> 0 | ... AB63: =SUM(AB59:AB62) -> 0
A64: 08 | B64: 01 | C64: 01 | D64: 32 | E64: Šilutės miesto istorinio parko infrastruktūros sutvarkymas, sukuriant sąlygas aktyviam poilsiui, sveikatingumo renginiams | G64: 08.06.01.01 | H64: 188723322 | I64: 12 | J64: ES | K64: =+L64+N64 -> 0 | L64: 0 | M64: 0 | N64: 0 | O64: =+P64+R64 -> 255.8 | P64: 0 | Q64: 0 | R64: 255.8 | S64: =+T64+V64 -> 255.8 | T64: 0 | U64: 0 | V64: 255.8 | W64: =+X64+Z64 -> 0 | X64: 0 | Y64: 0 | Z64: 0 | AA64: 0 | AB64: 0 | AC64: Sukurtos arba atnaujintos atviros erdvės miestų vietovėse, kv. m | AD64: 400690 | AE64: 0 | AF64: 0
J65: VL | K65: =+L65+N65 -> 0 | L65: 0 | M65: 0 | N65: 0 | O65: =+P65+R65 -> 20.7 | P65: 0 | Q65: 0 | R65: 20.7 | S65: =+T65+V65 -> 20.7 | T65: 0 | U65: 0 | V65: 20.7 | W65: =+X65+Z65 -> 0 | X65: 0 | Y65: 0 | Z65: 0 | AA65: 0 | AB65: 0
J66: SL | K66: =L66+N66 -> 370.3 | L66: 0 | M66: 0 | N66: 370.3 | O66: =P66+R66 -> 0 | P66: 0 | Q66: 0 | R66: 0 | S66: =T66+V66 -> 0 | T66: 0 | U66: 0 | V66: 0 | W66: =X66+Z66 -> 0 | X66: 0 | Y66: 0 | Z66: 0 | AA66: 0 | AB66: 0
J67: VIPA | K67: =+L67+N67 -> 20.9 | L67: 0 | M67: 0 | N67: 20.9 | O67: =+P67+R67 -> 0 | P67: 0 | Q67: 0 | R67: 0 | S67: =+T67+V67 -> 124.5 | T67: 0 | U67: 0 | V67: 124.5 | W67: =+X67+Z67 -> 0 | X67: 0 | Y67: 0 | Z67: 0 | AA67: 0 | AB67: 0
J68: SB | K68: =+L68+N68 -> 527 | L68: 0 | M68: 0 | N68: 527 | O68: =+P68+R68 -> 326.7 | P68: 0 | Q68: 0 | R68: 326.7 | S68: =+T68+V68 -> 326.7 | T68: 0 | U68: 0 | V68: 326.7 | W68: =+X68+Z68 -> 0 | X68: 0 | Y68: 0 | Z68: 0 | AA68: 0 | AB68: 0
J69: Iš viso: | K69: =SUM(K64:K68) -> 918.2 | L69: =SUM(L64:L68) -> 0 | M69: =SUM(M64:M68) -> 0 | N69: =SUM(N64:N68) -> 918.2 | O69: =SUM(O64:O68) -> 603.2 | P69: =SUM(P64:P68) -> 0 | Q69: =SUM(Q64:Q68) -> 0 | R69: =SUM(R64:R68) -> 603.2 | ... AB69: =SUM(AB64:AB68) -> 0
A70: 08 | B70: 01 | C70: 01 | D70: 33 | E70: Daugiabučių gyvenamųjų namų kvartalo, esančio Šilutės mieste, tarp Parko g., Lietuvininkų g. ir Liepų g., kompleksinis sutvarkymas | G70: 04.07.04.01 | H70: 188723322 | I70: 12 | J70: ES | K70: =+L70+N70 -> 0 | L70: 0 | M70: 0 | N70: 0 | O70: =+P70+R70 -> 0 | P70: 0 | Q70: 0 | R70: 0 | S70: =+T70+V70 -> 0 | T70: 0 | U70: 0 | V70: 0 | W70: =+X70+Z70 -> 0 | X70: 0 | Y70: 0 | Z70: 0 | AA70: 0 | AB70: 0 | AC70: Sukurtos arba atnaujintos atviros erdvės miestų vietovėse, kv. m | AD70: 0 | AE70: 0 | AF70: 0
J71: VL | K71: =+L71+N71 -> 0 | L71: 0 | M71: 0 | N71: 0 | O71: =+P71+R71 -> 0 | P71: 0 | Q71: 0 | R71: 0 | S71: =+T71+V71 -> 0 | T71: 0 | U71: 0 | V71: 0 | W71: =+X71+Z71 -> 0 | X71: 0 | Y71: 0 | Z71: 0 | AA71: 0 | AB71: 0
J72: SL | K72: =+L72+N72 -> 0 | L72: 0 | M72: 0 | N72: 0 | O72: =+P72+R72 -> 0 | P72: 0 | Q72: 0 | R72: 0 | S72: =+T72+V72 -> 0 | T72: 0 | U72: 0 | V72: 0 | W72: =+X72+Z72 -> 0 | X72: 0 | Y72: 0 | Z72: 0 | AA72: 0 | AB72: 0
J73: SB | K73: =+L73+N73 -> 2 | L73: 0 | M73: 0 | N73: 2 | O73: =+P73+R73 -> 2 | P73: 0 | Q73: 0 | R73: 2 | S73: =+T73+V73 -> 2 | T73: 0 | U73: 0 | V73: 2 | W73: =+X73+Z73 -> 0 | X73: 0 | Y73: 0 | Z73: 0 | AA73: 2 | AB73: 2
J74: Iš viso: | K74: =SUM(K70:K73) -> 2 | L74: =SUM(L70:L73) -> 0 | M74: =SUM(M70:M73) -> 0 | N74: =SUM(N70:N73) -> 2 | O74: =SUM(O70:O73) -> 2 | P74: =SUM(P70:P73) -> 0 | Q74: =SUM(Q70:Q73) -> 0 | R74: =SUM(R70:R73) -> 2 | ... AB74: =SUM(AB70:AB73) -> 2
A75: 08 | B75: 01 | C75: 01 | D75: 34 | E75: Šilutės kultūros ir pramogų centro ir bibliotekos pastato, esančio Tilžės g. 12, pritaikymas bendruomenės poreikiams | G75: 08.02.01.08; 08.02.01.01 | H75: 188723322 | I75: 12 | J75: ES | K75: =+L75+N75 -> 25.4 | L75: 0 | M75: 0 | N75: 25.4 | O75: =+P75+R75 -> 0 | P75: 0 | Q75: 0 | R75: 0 | S75: =+T75+V75 -> 0 | T75: 0 | U75: 0 | V75: 0 | W75: =+X75+Z75 -> 0 | X75: 0 | Y75: 0 | Z75: 0 | AA75: 0 | AB75: 0 | AC75: Pastatyti arba atnaujinti viešieji arba komerciniai pastatai miestų vietovėse, kv.m. | AD75: 0 | AE75: 0 | AF75: 0
J76: VL | K76: =+L76+N76 -> 2.1 | L76: 0 | M76: 0 | N76: 2.1 | O76: =+P76+R76 -> 0 | P76: 0 | Q76: 0 | R76: 0 | S76: =+T76+V76 -> 0 | T76: 0 | U76: 0 | V76: 0 | W76: =+X76+Z76 -> 0 | X76: 0 | Y76: 0 | Z76: 0 | AA76: 0 | AB76: 0
J77: VIP | K77: =L77+N77 -> 0 | L77: 0 | M77: 0 | N77: 0 | O77: =P77+R77 -> 0 | P77: 0 | Q77: 0 | R77: 0 | S77: =T77+V77 -> 0 | T77: 0 | U77: 0 | V77: 0 | W77: =X77+Z77 -> 0 | X77: 0 | Y77: 0 | Z77: 0 | AA77: 0 | AB77: 0
J78: SL | K78: =+L78+N78 -> 35.6 | L78: 0 | M78: 0 | N78: 35.6 | O78: =+P78+R78 -> 0 | P78: 0 | Q78: 0 | R78: 0 | S78: =+T78+V78 -> 0 | T78: 0 | U78: 0 | V78: 0 | W78: =+X78+Z78 -> 0 | X78: 0 | Y78: 0 | Z78: 0 | AA78: 0 | AB78: 0
J79: SB | K79: =+L79+N79 -> 24.3 | L79: 0 | M79: 0 | N79: 24.3 | O79: =+P79+R79 -> 0 | P79: 0 | Q79: 0 | R79: 0 | S79: =+T79+V79 -> 0 | T79: 0 | U79: 0 | V79: 0 | W79: =+X79+Z79 -> 0 | X79: 0 | Y79: 0 | Z79: 0 | AA79: 0 | AB79: 0
J80: Iš viso: | K80: =SUM(K75:K79) -> 87.4 | L80: =SUM(L75:L79) -> 0 | M80: =SUM(M75:M79) -> 0 | N80: =SUM(N75:N79) -> 87.4 | O80: =SUM(O75:O79) -> 0 | P80: =SUM(P75:P79) -> 0 | Q80: =SUM(Q75:Q79) -> 0 | R80: =SUM(R75:R79) -> 0 | ... AB80: =SUM(AB75:AB79) -> 0
A81: 08 | B81: 01 | C81: 01 | D81: 35 | E81: Šilutės H.Šojaus dvaro pastatų komplekso įveiklinimas, pritaikant viešiems kultūros poreikiams | G81: 08.02.01.02 | H81: 188723322 | I81: 12 | J81: ES | K81: =+L81+N81 -> 0 | L81: 0 | M81: 0 | N81: 0 | O81: =+P81+R81 -> 143.1 | P81: 0 | Q81: 0 | R81: 143.1 | S81: =+T81+V81 -> 143.1 | T81: 0 | U81: 0 | V81: 143.1 | W81: =+X81+Z81 -> 0 | X81: 0 | Y81: 0 | Z81: 0 | AA81: 0 | AB81: 0 | AC81: Sutvarkyti, įrengti ir pritaikyti lankymui kultūros paveldo objektai, vnt. | AD81: 3 | AE81: 0 | AF81: 0
J82: VL | K82: =+L82+N82 -> 0 | L82: 0 | M82: 0 | N82: 0 | O82: =+P82+R82 -> 0 | P82: 0 | Q82: 0 | R82: 0 | S82: =+T82+V82 -> 0 | T82: 0 | U82: 0 | V82: 0 | W82: =+X82+Z82 -> 0 | X82: 0 | Y82: 0 | Z82: 0 | AA82: 0 | AB82: 0
J83: VIPA | K83: =+L83+N83 -> 0 | L83: 0 | M83: 0 | N83: 0 | O83: =+P83+R83 -> 0 | P83: 0 | Q83: 0 | R83: 0 | S83: =+T83+V83 -> 0 | T83: 0 | U83: 0 | V83: 0 | W83: =+X83+Z83 -> 0 | X83: 0 | Y83: 0 | Z83: 0 | AA83: 0 | AB83: 0
J84: SB | K84: =+L84+N84 -> 15.8 | L84: 0 | M84: 0 | N84: 15.8 | O84: =+P84+R84 -> 33.3 | P84: 0 | Q84: 0 | R84: 33.3 | S84: =+T84+V84 -> 33.3 | T84: 0 | U84: 0 | V84: 33.3 | W84: =+X84+Z84 -> 0 | X84: 0 | Y84: 0 | Z84: 0 | AA84: 0 | AB84: 0
J85: Iš viso: | K85: =SUM(K81:K84) -> 15.8 | L85: =SUM(L81:L84) -> 0 | M85: =SUM(M81:M84) -> 0 | N85: =SUM(N81:N84) -> 15.8 | O85: =SUM(O81:O84) -> 176.4 | P85: =SUM(P81:P84) -> 0 | Q85: =SUM(Q81:Q84) -> 0 | R85: =SUM(R81:R84) -> 176.4 | ... AB85: =SUM(AB81:AB84) -> 0
A86: 08 | B86: 01 | C86: 01 | D86: 36 | E86: Šilutės kultūros ir pramogų centro modernizavimas, siekiant didinti kultūrinių paslaugų prieinamumą | G86: 08.02.01.08 | H86: 188723322 | I86: 12 | J86: ES | K86: =+L86+N86 -> 41.6 | L86: 0 | M86: 0 | N86: 41.6 | O86: =+P86+R86 -> 0 | P86: 0 | Q86: 0 | R86: 0 | S86: =+T86+V86 -> 0 | T86: 0 | U86: 0 | V86: 0 | W86: =+X86+Z86 -> 0 | X86: 0 | Y86: 0 | Z86: 0 | AA86: 0 | AB86: 0 | AC86: Modernizuoti kultūros infrastruktūros objektai, vnt. | AD86: 0 | AE86: 0 | AF86: 0
J87: VL | K87: =+L87+N87 -> 0 | L87: 0 | M87: 0 | N87: 0 | O87: =+P87+R87 -> 0 | P87: 0 | Q87: 0 | R87: 0 | S87: =+T87+V87 -> 0 | T87: 0 | U87: 0 | V87: 0 | W87: =+X87+Z87 -> 0 | X87: 0 | Y87: 0 | Z87: 0 | AA87: 0 | AB87: 0
J88: VIP | K88: =L88+N88 -> 0 | L88: 0 | M88: 0 | N88: 0 | O88: =P88+R88 -> 0 | P88: 0 | Q88: 0 | R88: 0 | S88: =T88+V88 -> 0 | T88: 0 | U88: 0 | V88: 0 | W88: =X88+Z88 -> 0 | X88: 0 | Y88: 0 | Z88: 0 | AA88: 0 | AB88: 0
J89: SL | K89: =+L89+N89 -> 567.6 | L89: 94 | M89: 0 | N89: 473.6 | O89: =+P89+R89 -> 0 | P89: 0 | Q89: 0 | R89: 0 | S89: =+T89+V89 -> 0 | T89: 0 | U89: 0 | V89: 0 | W89: =+X89+Z89 -> 0 | X89: 0 | Y89: 0 | Z89: 0 | AA89: 0 | AB89: 0
J90: SB | K90: =+L90+N90 -> 318.4 | L90: 0 | M90: 0 | N90: 318.4 | O90: =+P90+R90 -> 0 | P90: 0 | Q90: 0 | R90: 0 | S90: =+T90+V90 -> 0 | T90: 0 | U90: 0 | V90: 0 | W90: =+X90+Z90 -> 0 | X90: 0 | Y90: 0 | Z90: 0 | AA90: 0 | AB90: 0
J91: Iš viso: | K91: =SUM(K86:K90) -> 927.6 | L91: =SUM(L86:L90) -> 94 | M91: =SUM(M86:M90) -> 0 | N91: =SUM(N86:N90) -> 833.6 | O91: =SUM(O86:O90) -> 0 | P91: =SUM(P86:P90) -> 0 | Q91: =SUM(Q86:Q90) -> 0 | R91: =SUM(R86:R90) -> 0 | ... AB91: =SUM(AB86:AB90) -> 0
A92: 08 | B92: 01 | C92: 01 | D92: 37 | E92: Šilutės miesto Lietuvininkų, Tilžės gatvių eismo saugos gerinimas ir P. Jakšto, H. Zudermano, Knygnešių, M. Jankaus, Lauko, Miško gatvių rekonstravimas | G92: 04.05.01.02 | H92: 188723322 | I92: 12 | J92: ES | K92: =+L92+N92 -> 0 | L92: 0 | M92: 0 | N92: 0 | O92: =+P92+R92 -> 0 | P92: 0 | Q92: 0 | R92: 0 | S92: =+T92+V92 -> 0 | T92: 0 | U92: 0 | V92: 0 | W92: =+X92+Z92 -> 0 | X92: 0 | Y92: 0 | Z92: 0 | AA92: 0 | AB92: 0 | AC92: Bendras rekonstruotų arba atnaujintų kelių ilgis, km | AD92: 0 | AE92: 0 | AF92: 0
J93: VIPA | K93: =+L93+N93 -> 0 | L93: 0 | M93: 0 | N93: 0 | O93: =+P93+R93 -> 0 | P93: 0 | Q93: 0 | R93: 0 | S93: =+T93+V93 -> 0 | T93: 0 | U93: 0 | V93: 0 | W93: =+X93+Z93 -> 0 | X93: 0 | Y93: 0 | Z93: 0 | AA93: 0 | AB93: 0
J94: SL | K94: =+L94+N94 -> 0 | L94: 0 | M94: 0 | N94: 0 | O94: =+P94+R94 -> 0 | P94: 0 | Q94: 0 | R94: 0 | S94: =+T94+V94 -> 0 | T94: 0 | U94: 0 | V94: 0 | W94: =+X94+Z94 -> 0 | X94: 0 | Y94: 0 | Z94: 0 | AA94: 0 | AB94: 0
J95: SB | K95: =+L95+N95 -> 0 | L95: 0 | M95: 0 | N95: 0 | O95: =+P95+R95 -> 0 | P95: 0 | Q95: 0 | R95: 0 | S95: =+T95+V95 -> 0 | T95: 0 | U95: 0 | V95: 0 | W95: =+X95+Z95 -> 0 | X95: 0 | Y95: 0 | Z95: 0 | AA95: 0 | AB95: 0
J96: Iš viso: | K96: =SUM(K92:K95) -> 0 | L96: =SUM(L92:L95) -> 0 | M96: =SUM(M92:M95) -> 0 | N96: =SUM(N92:N95) -> 0 | O96: =SUM(O92:O95) -> 0 | P96: =SUM(P92:P95) -> 0 | Q96: =SUM(Q92:Q95) -> 0 | R96: =SUM(R92:R95) -> 0 | ... AB96: =SUM(AB92:AB95) -> 0
A97: 08 | B97: 01 | C97: 01 | D97: 38 | E97: Švėkšnos miestelio infrastruktūros atnaujinimas | G97: 04.07.04.01 | H97: 188723322 | I97: 12 | J97: ES | K97: =+L97+N97 -> 0 | L97: 0 | M97: 0 | N97: 0 | O97: =+P97+R97 -> 0 | P97: 0 | Q97: 0 | R97: 0 | S97: =+T97+V97 -> 0 | T97: 0 | U97: 0 | V97: 0 | W97: =+X97+Z97 -> 0 | X97: 0 | Y97: 0 | Z97: 0 | AA97: 0 | AB97: 0 | AC97: Sutvarkytos viešosios erdvės, kv. m | AD97: 0 | AE97: 0 | AF97: 0
J98: VL | K98: =+L98+N98 -> 0 | L98: 0 | M98: 0 | N98: 0 | O98: =+P98+R98 -> 0 | P98: 0 | Q98: 0 | R98: 0 | S98: =+T98+V98 -> 0 | T98: 0 | U98: 0 | V98: 0 | W98: =+X98+Z98 -> 0 | X98: 0 | Y98: 0 | Z98: 0 | AA98: 0 | AB98: 0
J99: SL | K99: =+L99+N99 -> 0 | L99: 0 | M99: 0 | N99: 0 | O99: =+P99+R99 -> 0 | P99: 0 | Q99: 0 | R99: 0 | S99: =+T99+V99 -> 0 | T99: 0 | U99: 0 | V99: 0 | W99: =+X99+Z99 -> 0 | X99: 0 | Y99: 0 | Z99: 0 | AA99: 0 | AB99: 0
J100: SB | K100: =+L100+N100 -> 0 | L100: 0 | M100: 0 | N100: 0 | O100: =+P100+R100 -> 0 | P100: 0 | Q100: 0 | R100: 0 | S100: =+T100+V100 -> 0 | T100: 0 | U100: 0 | V100: 0 | W100: =+X100+Z100 -> 0 | X100: 0 | Y100: 0 | Z100: 0 | AA100: 0 | AB100: 0
...

Sheet 08 Išlaidų suvestinė
A1: Šilutės rajono savivaldybės administracijos 2023–2025 m. Investicijų pritraukimo ir verslo vystymosi programos išlaidų suvestinė | T1: (Nr.0 8)
A3: tūkst. Eur
A4: Strateginio tikslo kodas | B4: Programos kodas | C4: Programos pavadinimas | D4: Funkcinės klasifikacijos kodas | E4: Asignavimų valdytojo kodas | F4: 2022 m. išlaidos | J4: 2023 m. išlaidų projektas | N4: 2023 m. patvirtinta Šilutės r. savivaldybės taryboje | R4: 2023 m. faktiškai skirtas finansavimas
F5: Iš viso | G5: Išlaidoms | I5: Turtui įsigyti ir finansiniams įsipareigojimams vykdyti | J5: Iš viso | K5: Išlaidoms | M5: Turtui įsigyti ir finansiniams įsipareigojimams vykdyti | N5: Iš viso | O5: Išlaidoms | Q5: Turtui įsigyti ir finansiniams įsipareigojimams vykdyti | R5: Iš viso | S5: Išlaidoms | U5: Turtui įsigyti ir finansiniams įsipareigojimams vykdyti
G6: Iš viso | H6: Iš jų darbo užmokesčiui | K6: Iš viso | L6: Iš jų darbo užmokesčiui | O6: Iš viso | P6: Iš jų darbo užmokesčiui | S6: Iš viso | T6: Iš jų darbo užmokesčiui
A7: 8 | B7: 8 | C7: Investicijų pritraukimo ir verslo vystymosi programa | D7: 04.07.03.01 06.04.01.01 01.03.02.09 04.07.04.01 08.02.01.02 08.06.01.01 08.02.01.08 08.02.01.01 04.05.01.02 10.06.01.01 05.06.01.01 10.02.01.03 09.05.01.01 05.02.01.01 09.02.02.01 09.01.01.01 07.06.01.06 04.06.01.01 01.03.02.01 01.06.01.02 09.08.01.02 09.02.01.01 09.01.02.01 08.01.01.02 06.01.01.01 10.01.02.01 06.02.01.01 01.03.02.01 | E7: 188723322 | F7: ='08 Programa'!K391 -> 13289 | G7: ='08 Programa'!L391 -> 1691 | H7: ='08 Programa'!M391 -> 2.2 | I7: ='08 Programa'!N391 -> 11598 | J7: ='08 Programa'!O391 -> 12879.8 | K7: ='08 Programa'!P391 -> 2135.7 | L7: ='08 Programa'!Q391 -> 0 | M7: ='08 Programa'!R391 -> 10744.1 | ... Q7: ='08 Programa'!V391 -> 11128.8
A8: IŠ VISO: | F8: =SUM(F7) -> 13289 | G8: =SUM(G7) -> 1691 | H8: =SUM(H7) -> 2.2 | I8: =SUM(I7) -> 11598 | J8: =SUM(J7) -> 12879.8 | K8: =SUM(K7) -> 2135.7 | L8: =SUM(L7) -> 0 | M8: =SUM(M7) -> 10744.1 | N8: =SUM(N7) -> 13008.4 | O8: =O7 -> 1879.6 | P8: =SUM(P7) -> 0 | Q8: =SUM(Q7) -> 11128.8 | R8: =SUM(R7) -> 0 | S8: =SUM(S7) -> 0 | T8: =SUM(T7) -> 0 | U8: =SUM(U7) -> 0

Sheet 08 Šaltiniai
A1: 08. Investicijų pritraukimo ir verslo vystymo programa
A2: Finansavimo šaltiniai | J2: 2022 m. išlaidos, tūkst. Eur | K2: 2023 m. projektas, tūkst. Eur | L2: 2023 m. patvirtinta Šilutės r. savivaldybės taryboje, tūkst. Eur | U2: 2023 m. faktiškai skirtas finansavimas, tūkst. Eur
A3: Savivaldybės biudžetas SB | J3: ='08 Programa'!K387+'08 Programa'!K383+'08 Programa'!K376+'08 Programa'!K373+'08 Programa'!K366+'08 Programa'!K364+'08 Programa'!K362+'08 Programa'!K359+'08 Programa'!K355+'08 Programa'!K353+'08 Programa'!K350+'08 Programa'!K346+'08 Programa'!K341+'08 Programa'!K339+'08 Programa'!K336+'08 Programa'!K334+'08 Programa'!K332+'08 Programa'!K329+'08 Programa'!K326+'08 Programa'!K322+'08 Programa'!K318+'08 Programa'!K315+'08 Programa'!K312+'08 Programa'!K307+'08 Programa'!K304+'08 Programa'!K300+'08 Programa'!K297+'08 Programa'!K294+'08 Programa'!K291+'08 Programa'!K289+'08 Programa'!K286+'08 Programa'!K283+'08 Programa'!K280+'08 Programa'!K276+'08 Programa'!K273+'08 Programa'!K270+'08 Programa'!K267+'08 Programa'!K264+'08 Programa'!K260+'08 Programa'!K257+'08 Programa'!K253+'08 Programa'!K247+'08 Programa'!K242+'08 Programa'!K239+'08 Programa'!K236+'08 Programa'!K233+'08 Programa'!K228+'08 Programa'!K225+'08 Programa'!K222+'08 Programa'!K218+'08 Programa'!K216+'08 Programa'!K211+'08 Programa'!K209+'08 Programa'!K206+'08 Programa'!K203+'08 Programa'!K200+'08 Programa'!K198+'08 Programa'!K195+'08 Programa'!K192+'08 Programa'!K187+'08 Programa'!K183+'08 Programa'!K178+'08 Programa'!K173+'08 Programa'!K168+'08 Programa'!K163+'08 Programa'!K158+'08 Programa'!K155+'08 Programa'!K150+'08 Programa'!K145+'08 Programa'!K140+'08 Programa'!K135+'08 Programa'!K130+'08 Programa'!K125+'08 Programa'!K120+'08 Programa'!K115+'08 Programa'!K110+'08 Programa'!K105+'08 Programa'!K100+'08 Programa'!K95+'08 Programa'!K90+'08 Programa'!K84+'08 Programa'!K79+'08 Programa'!K73+'08 Programa'!K68+'08 Programa'!K62+'08 Programa'!K57+'08 Programa'!K52+'08 Programa'!K46+'08 Programa'!K43+'08 Programa'!K39+'08 Programa'!K35+'08 Programa'!K31+'08 Programa'!K27+'08 Programa'!K24+'08 Programa'!K244 -> 5867.7 | K3: ='08 Programa'!O39+'08 Programa'!O43+'08 Programa'!O46+'08 Programa'!O52+'08 Programa'!O57+'08 Programa'!O62+'08 Programa'!O68+'08 Programa'!O73+'08 Programa'!O79+'08 Programa'!O84+'08 Programa'!O90+'08 Programa'!O95+'08 Programa'!O100+'08 Programa'!O105+'08 Programa'!O110+'08 Programa'!O115+'08 Programa'!O120+'08 Programa'!O125+'08 Programa'!O130+'08 Programa'!O135+'08 Programa'!O140+'08 Programa'!O145+'08 Programa'!O150+'08 Programa'!O155+'08 Programa'!O158+'08 Programa'!O163+'08 Programa'!O168+'08 Programa'!O173+'08 Programa'!O178+'08 Programa'!O183+'08 Programa'!O187+'08 Programa'!O192+'08 Programa'!O195+'08 Programa'!O198+'08 Programa'!O200+'08 Programa'!O203+'08 Programa'!O206+'08 Programa'!O209+'08 Programa'!O211+'08 Programa'!O216+'08 Programa'!O218+'08 Programa'!O222+'08 Programa'!O225+'08 Programa'!O228+'08 Programa'!O233+'08 Programa'!O236+'08 Programa'!O239+'08 Programa'!O242+'08 Programa'!O247+'08 Programa'!O253+'08 Programa'!O257+'08 Programa'!O260+'08 Programa'!O264+'08 Programa'!O267+'08 Programa'!O270+'08 Programa'!O273+'08 Programa'!O276+'08 Programa'!O280+'08 Programa'!O283+'08 Programa'!O286+'08 Programa'!O289+'08 Programa'!O291+'08 Programa'!O294+'08 Programa'!O297+'08 Programa'!O300+'08 Programa'!O304+'08 Programa'!O307+'08 Programa'!O312+'08 Programa'!O315+'08 Programa'!O318+'08 Programa'!O322+'08 Programa'!O326+'08 Programa'!O329+'08 Programa'!O332+'08 Programa'!O334+'08 Programa'!O336+'08 Programa'!O339+'08 Programa'!O341+'08 Programa'!O346+'08 Programa'!O350+'08 Programa'!O353+'08 Programa'!O355+'08 Programa'!O359+'08 Programa'!O362+'08 Programa'!O364+'08 Programa'!O366+'08 Programa'!O373+'08 Programa'!O376+'08 Programa'!O383+'08 Programa'!O387+'08 Programa'!O244 -> 7222.3 | L3: ='08 Programa'!S24+'08 Programa'!S27+'08 Programa'!S31+'08 Programa'!S35+'08 Programa'!S39+'08 Programa'!S43+'08 Programa'!S46+'08 Programa'!S52+'08 Programa'!S57+'08 Programa'!S62+'08 Programa'!S68+'08 Programa'!S73+'08 Programa'!S79+'08 Programa'!S84+'08 Programa'!S90+'08 Programa'!S95+'08 Programa'!S100+'08 Programa'!S105+'08 Programa'!S110+'08 Programa'!S115+'08 Programa'!S120+'08 Programa'!S125+'08 Programa'!S130+'08 Programa'!S135+'08 Programa'!S140+'08 Programa'!S145+'08 Programa'!S150+'08 Programa'!S155+'08 Programa'!S158+'08 Programa'!S163+'08 Programa'!S168+'08 Programa'!S173+'08 Programa'!S178+'08 Programa'!S183+'08 Programa'!S187+'08 Programa'!S192+'08 Programa'!S195+'08 Programa'!S198+'08 Programa'!S200+'08 Programa'!S203+'08 Programa'!S206+'08 Programa'!S209+'08 Programa'!S211+'08 Programa'!S216+'08 Programa'!S218+'08 Programa'!S222+'08 Programa'!S225+'08 Programa'!S228+'08 Programa'!S233+'08 Programa'!S236+'08 Programa'!S239+'08 Programa'!S242+'08 Programa'!S247+'08 Programa'!S253+'08 Programa'!S257+'08 Programa'!S260+'08 Programa'!S264+'08 Programa'!S267+'08 Programa'!S270+'08 Programa'!S273+'08 Programa'!S276+'08 Programa'!S280+'08 Programa'!S283+'08 Programa'!S286+'08 Programa'!S289+'08 Programa'!S291+'08 Programa'!S294+'08 Programa'!S297+'08 Programa'!S300+'08 Programa'!S304+'08 Programa'!S307+'08 Programa'!S312+'08 Programa'!S315+'08 Programa'!S318+'08 Programa'!S322+'08 Programa'!S326+'08 Programa'!S329+'08 Programa'!S332+'08 Programa'!S334+'08 Programa'!S336+'08 Programa'!S339+'08 Programa'!S341+'08 Programa'!S346+'08 Programa'!S350+'08 Programa'!S353+'08 Programa'!S355+'08 Programa'!S359+'08 Programa'!S362+'08 Programa'!S364+'08 Programa'!S366+'08 Programa'!S373+'08 Programa'!S376+'08 Programa'!S383+'08 Programa'!S387+'08 Programa'!S244 -> 4747.7
A4: Valstybės biudžeto specialioji tikslinė dotacija SB(VB) | J4: 0 | K4: 0 | L4: 0
A5: Aplinkos apsaugos rėmimo specialioji programa SB(AA) | J5: 0 | K5: 0 | L5: 0
A6: Pajamos už suteiktas paslaugas SB(SP) | J6: 0 | K6: 0 | L6: 0
A7: Švietimo įstaigų modernizavimo programa SB(ŠIMP) | J7: ='08 Programa'!K254 -> 0 | K7: 0 | L7: 0
A8: Skolintos lėšos SL | J8: ='08 Programa'!K38+'08 Programa'!K66+'08 Programa'!K78+'08 Programa'!K89+'08 Programa'!K274+'08 Programa'!K323+'08 Programa'!K347+'08 Programa'!K377 -> 2509.9 | K8: ='08 Programa'!O319 -> 0 | L8: ='08 Programa'!S377+'08 Programa'!S347+'08 Programa'!S256 -> 1818
A9: Užsienio valstybių, tarptautinių organizacijų ir Europos Sąjungos lėšos ES, EEE | J9: ='08 Programa'!K320+'08 Programa'!K248+'08 Programa'!K241+'08 Programa'!K238+'08 Programa'!K235+'08 Programa'!K232+'08 Programa'!K230+'08 Programa'!K227+'08 Programa'!K224+'08 Programa'!K221+'08 Programa'!K214+'08 Programa'!K212+'08 Programa'!K208+'08 Programa'!K205+'08 Programa'!K202+'08 Programa'!K197+'08 Programa'!K194+'08 Programa'!K189+'08 Programa'!K185+'08 Programa'!K180+'08 Programa'!K175+'08 Programa'!K170+'08 Programa'!K165+'08 Programa'!K160+'08 Programa'!K157+'08 Programa'!K152+'08 Programa'!K147+'08 Programa'!K142+'08 Programa'!K137+'08 Programa'!K132+'08 Programa'!K127+'08 Programa'!K117+'08 Programa'!K112+'08 Programa'!K107+'08 Programa'!K102+'08 Programa'!K97+'08 Programa'!K92+'08 Programa'!K86+'08 Programa'!K81+'08 Programa'!K75+'08 Programa'!K70+'08 Programa'!K64+'08 Programa'!K59+'08 Programa'!K54+'08 Programa'!K48+'08 Programa'!K45+'08 Programa'!K42+'08 Programa'!K40+'08 Programa'!K245 -> 1840.5 | K9: ='08 Programa'!O248+'08 Programa'!O241+'08 Programa'!O238+'08 Programa'!O235+'08 Programa'!O232+'08 Programa'!O230+'08 Programa'!O227+'08 Programa'!O224+'08 Programa'!O221+'08 Programa'!O214+'08 Programa'!O212+'08 Programa'!O208+'08 Programa'!O205+'08 Programa'!O202+'08 Programa'!O197+'08 Programa'!O194+'08 Programa'!O189+'08 Programa'!O185+'08 Programa'!O180+'08 Programa'!O175+'08 Programa'!O170+'08 Programa'!O165+'08 Programa'!O160+'08 Programa'!O157+'08 Programa'!O152+'08 Programa'!O147+'08 Programa'!O142+'08 Programa'!O137+'08 Programa'!O132+'08 Programa'!O127+'08 Programa'!O122+'08 Programa'!O117+'08 Programa'!O112+'08 Programa'!O107+'08 Programa'!O102+'08 Programa'!O97+'08 Programa'!O92+'08 Programa'!O86+'08 Programa'!O81+'08 Programa'!O75+'08 Programa'!O70+'08 Programa'!O64+'08 Programa'!O59+'08 Programa'!O54+'08 Programa'!O48+'08 Programa'!O45+'08 Programa'!O42+'08 Programa'!O40+'08 Programa'!O320+'08 Programa'!O245 -> 2732.3 | L9: ='08 Programa'!S25+'08 Programa'!S29+'08 Programa'!S33+'08 Programa'!S36+'08 Programa'!S40+'08 Programa'!S64+'08 Programa'!S81+'08 Programa'!S152+'08 Programa'!S157+'08 Programa'!S160+'08 Programa'!S170+'08 Programa'!S197+'08 Programa'!S224+'08 Programa'!S238+'08 Programa'!S248+'08 Programa'!S320+'08 Programa'!S245 -> 3282.8
A10: Visuomenės sveikatos apsaugos rėmimo specialioji programa SB(VS) | J10: 0 | K10: 0 | L10: 0
A11: Valstybės lėšos VL | J11: ='08 Programa'!K360+'08 Programa'!K76+'08 Programa'!K49 -> 115.9 | K11: ='08 Programa'!O65+'08 Programa'!O161 -> 25.2 | L11: ='08 Programa'!S161+'08 Programa'!S65+'08 Programa'!S32+'08 Programa'!S28 -> 35.4
A12: Kelių priežiūros ir plėtros programa KPPP | J12: ='08 Programa'!K381+'08 Programa'!K379+'08 Programa'!K375+'08 Programa'!K371 -> 2900.1 | K12: ='08 Programa'!O371+'08 Programa'!O375+'08 Programa'!O379+'08 Programa'!O381 -> 2900 | L12: ='08 Programa'!S371+'08 Programa'!S375+'08 Programa'!S379+'08 Programa'!S381 -> 3000
A13: Kitos lėšos KTL | J13: 0 | K13: 0 | L13: 0
A14: Viešųjų investicijų plėtros agentūros lėšos VIPA | J14: ='08 Programa'!K67+'08 Programa'!K114+'08 Programa'!K119 -> 54.9 | K14: 0 | L14: ='08 Programa'!S67 -> 124.5
A15: Valstybės investicijų programa VIP | J15: ='08 Programa'!K77+'08 Programa'!K88+'08 Programa'!K252+'08 Programa'!K311+'08 Programa'!K324+'08 Programa'!K337+'08 Programa'!K345 -> 0 | K15: ='08 Programa'!O345+'08 Programa'!O324 -> 0 | L15: ='08 Programa'!S324+'08 Programa'!S345 -> 0
A16: Iš viso: | J16: =SUM(J3:J15) -> 13289 | K16: =SUM(K3:K15) -> 12879.8 | L16: =SUM(L3:T15) -> 13008.4

Sheet 08 Bendros lėšos
A1: 08. Investicijų pritraukimo ir verslo vystymosi programa
A2: Bendras lėšų poreikis ir numatomi finansavimo šaltiniai
A3: tūkst. Eur
A4: Ekonominės klasifikacijos grupės | B4: Asignavimai 2022 m. | C4: Paraiška biudžetiniams | F4: 2023-iems m. patvirtinta Šilutės r. savivaldybės taryboje | G4: 2023-iems m. faktiškai skirta | H4: Projektas 2024 m. | I4: Projektas 2025 m.
C5: 2023 m.
C6: bazinis biudžetas | D6: pakeitimai/ (+padidėjimas -sumažėjimas) | E6: iš viso
A9: 1. Iš viso lėšų poreikis: | B9: ='08 Programa'!K391 -> 13289 | C9: =+B9 -> 13289 | D9: =E9-C9 -> -409.2 | E9: ='08 Programa'!O391 -> 12879.8 | F9: ='08 Programa'!S391 -> 13008.4 | H9: ='08 Programa'!AA391 -> 5581.4 | I9: ='08 Programa'!AB391 -> 5772
A10: 1.1.išlaidoms | B10: ='08 Programa'!L391 -> 1691 | C10: =+B10 -> 1691 | D10: =E10-C10 -> 444.7 | E10: ='08 Programa'!P391 -> 2135.7 | F10: ='08 Programa'!T391 -> 1879.6 | H10: 990 | I10: 880
A11: 1.1.1.iš jų darbo užmokesčiui | B11: ='08 Programa'!M391 -> 2.2 | C11: =+B11 -> 2.2 | D11: =E11-C11 -> -2.2 | E11: ='08 Programa'!Q391 -> 0 | F11: ='08 Programa'!U391 -> 0 | H11: =F11*1.1 -> 0 | I11: =H11*1.1 -> 0
A12: 1.2. turtui įsigyti ir finansiniams įsipareigojimams vykdyti | B12: ='08 Programa'!N391 -> 11598 | C12: =+B12 -> 11598 | D12: =E12-C12 -> -853.9 | E12: ='08 Programa'!R391 -> 10744.1 | F12: ='08 Programa'!V391 -> 11128.8 | H12: =H9-H10 -> 4591.4 | I12: =I9-I10 -> 4892
A13: 2. Finansavimas | B13: ='08 Programa'!K391 -> 13289 | C13: =C14+C19 -> 13289 | D13: =E13-C13 -> -409.2 | E13: =E9 -> 12879.8 | F13: =F9 -> 13008.4 | H13: =H9 -> 5581.4 | I13: =I9 -> 5772
A14: 2.1.Savivaldybės biudžetas: | B14: =B9-B19 -> 5867.7 | C14: =C9-C19 -> 5867.7 | D14: =E14-C14 -> 1354.6 | E14: =+E9-E19 -> 7222.3 | F14: =F13-F19 -> 4747.7 | H14: =H13-H19 -> 2370.2 | I14: =I13-I19 -> 2476.9
A15: 2.1.1. iš jo: valstybės biudžeto specialioji tikslinė dotacija | B15: ='08 Šaltiniai'!J4 -> 0 | C15: =B15 -> 0 | D15: 0 | E15: 0 | F15: 0 | H15: 0 | I15: =+H15*1.1 -> 0
A16: 2.1.2.iš jo: aplinkos apsaugos rėmimo specialiosios programos lėšos | B16: 0 | C16: 0 | D16: =E16-C16 -> 0 | E16: ='08 Šaltiniai'!K5 -> 0 | F16: 0 | H16: 0 | I16: 0
A17: 2.1.3. iš jo: visuomenės sveikatos rėmimo specialiosios programos lėšos | B17: 0 | C17: 0 | D17: =E17-C17 -> 0 | E17: 0 | F17: 0 | H17: 0 | I17: 0
A18: 2.1.4. iš jo: pajamos už suteiktas paslaugas | B18: 0 | C18: =+B18 -> 0 | D18: =E18-C18 -> 0 | E18: 0 | F18: 0 | H18: 0 | I18: 0
A19: 2.2. Kiti šaltiniai: | B19: =SUM(B20:B27) -> 7421.3 | C19: =B19 -> 7421.3 | D19: =E19-C19 -> -1763.8 | E19: =SUM(E20:E27) -> 5657.5 | F19: =SUM(F20:F27) -> 8260.7 | H19: =SUM(H20:H27) -> 3211.2 | I19: =SUM(I20:I27) -> 3295.1
A20: 2.2.1. švietimo įstaigų modernizavimo programa | B20: ='08 Šaltiniai'!J7 -> 0 | C20: =B20 -> 0 | D20: =E20-C20 -> 0 | E20: ='08 Šaltiniai'!K7 -> 0 | F20: 0 | H20: 0 | I20: 0
A21: 2.2.2. skolintos lėšos | B21: ='08 Šaltiniai'!J8 -> 2509.9 | C21: =B21 -> 2509.9 | D21: =E21-C21 -> -2509.9 | E21: ='08 Šaltiniai'!K8 -> 0 | F21: 1818 | H21: 0 | I21: 0
A22: 2.2.3. Valstybės investicijų programa | B22: ='08 Šaltiniai'!J15 -> 0 | C22: =B22 -> 0 | D22: =E22-C22 -> 0 | E22: ='08 Šaltiniai'!K15 -> 0 | F22: 0 | H22: ='08 Programa'!AA345 -> 0 | I22: ='08 Programa'!AB345+'08 Programa'!AB324 -> 0
A23: 2.2.4. Užsienio valstybių, tarptautinių organizacijų ir Europos Sąjungos lėšos | B23: ='08 Šaltiniai'!J9 -> 1840.5 | C23: =+B23 -> 1840.5 | D23: =E23-C23 -> 891.8 | E23: ='08 Šaltiniai'!K9 -> 2732.3 | F23: 3282.8 | H23: ='08 Programa'!AA320+'08 Programa'!AA248+'08 Programa'!AA241+'08 Programa'!AA238+'08 Programa'!AA235+'08 Programa'!AA232+'08 Programa'!AA230+'08 Programa'!AA227+'08 Programa'!AA224+'08 Programa'!AA221+'08 Programa'!AA214+'08 Programa'!AA212+'08 Programa'!AA208+'08 Programa'!AA205+'08 Programa'!AA202+'08 Programa'!AA197+'08 Programa'!AA194+'08 Programa'!AA189+'08 Programa'!AA185+'08 Programa'!AA180+'08 Programa'!AA175+'08 Programa'!AA170+'08 Programa'!AA165+'08 Programa'!AA160+'08 Programa'!AA157+'08 Programa'!AA152+'08 Programa'!AA147+'08 Programa'!AA142+'08 Programa'!AA137+'08 Programa'!AA132+'08 Programa'!AA127+'08 Programa'!AA122+'08 Programa'!AA117+'08 Programa'!AA112+'08 Programa'!AA107+'08 Programa'!AA102+'08 Programa'!AA97+'08 Programa'!AA92+'08 Programa'!AA86+'08 Programa'!AA81+'08 Programa'!AA75+'08 Programa'!AA70+'08 Programa'!AA64+'08 Programa'!AA59+'08 Programa'!AA54+'08 Programa'!AA48+'08 Programa'!AA45+'08 Programa'!AA42+'08 Programa'!AA40+'08 Programa'!AA36+'08 Programa'!AA33+'08 Programa'!AA29+'08 Programa'!AA25 -> 201 | I23: ='08 Programa'!AB25+'08 Programa'!AB29+'08 Programa'!AB33+'08 Programa'!AB36 -> 84.2
A24: 2.2.5. Valstybės lėšos | B24: ='08 Šaltiniai'!J11 -> 115.9 | C24: =B24 -> 115.9 | D24: =E24-C24 -> -90.7 | E24: ='08 Šaltiniai'!K11 -> 25.2 | F24: 35.4 | H24: ='08 Programa'!AA28+'08 Programa'!AA32 -> 10.2 | I24: ='08 Programa'!AB28+'08 Programa'!AB32 -> 10.9
A25: 2.2.6. Kelių priežiūros ir plėtros programos lėšos | B25: ='08 Šaltiniai'!J12 -> 2900.1 | C25: =B25 -> 2900.1 | D25: =E25-C25 -> -0.1 | E25: ='08 Šaltiniai'!K12 -> 2900 | F25: 3000 | H25: ='08 Programa'!AA371+'08 Programa'!AA375+'08 Programa'!AA379+'08 Programa'!AA381 -> 3000 | I25: ='08 Programa'!AB381+'08 Programa'!AB379+'08 Programa'!AB375+'08 Programa'!AB371 -> 3200
A26: 2.2.7. Viešųjų investicijų plėtros agentūros lėšos | B26: ='08 Šaltiniai'!J14 -> 54.9 | C26: =B26 -> 54.9 | D26: =E26-C26 -> -54.9 | E26: ='08 Šaltiniai'!K14 -> 0 | F26: 124.5 | H26: 0 | I26: 0
A27: 2.2.8. kitos lėšos | B27: 0 | C27: 0 | D27: 0 | E27: ='08 Šaltiniai'!K13 -> 0 | F27: =[1]Suvestine!L14 -> 0 | H27: 0 | I27: 0
