Workbook

Sheet 08 Programa
Z1: PATVIRTINTA
Z2: Šilutės rajono savivaldybės tarybos 2022 m. gruodžio 22 d.
Z3: sprendimu Nr. T1-1169
Z4: (Šilutės rajono savivaldybės tarybos 2023 m. sausio 26 d.
Z5: sprendimo Nr. T1-1200 redakcija)
Z6: (Šilutės rajono savivaldybės tarybos 2023 m. vasario 23 d.
Z7: sprendimo Nr. T1-1222 redakcija)
Z8: (Šilutės rajono savivaldybės tarybos 2023 m. gegužės 25 d.
Z9: sprendimo Nr. T1-5 redakcija)
Z10: (Šilutės rajono savivaldybės tarybos 2023 m. rugsėjo 28 d.
Z11: sprendimo Nr. T1- redakcija)
AE12: (Nr. 08)
A13: 2023–2025 ŠILUTĖS RAJONO SAVIVALDYBĖS ADMINISTRACIJOS
A14: INVESTICIJŲ PRITRAUKIMO IR VERSLO VYSTYMO PROGRAMOS
A15: TIKSLŲ, PROGRAMŲ, PROGRAMŲ TIKSLŲ, UŽDAVINIŲ, UŽDAVINIŲ VERTINIMO KRITERIJŲ, PRIEMONIŲ IR PRIEMONIŲ IŠLAIDŲ SUVESTINĖ
A16: tūkst. Eur
A17: Programos kodas | B17: Programos tikslo kodas | C17: Uždavinio kodas | D17: Priemonės kodas | E17: Priemonės pavadinimas | F17: Priemonės požymis | G17: Funkcinės klasifikacijos kodas | H17: Asignavimų valdytojo kodas | I17: Priemonės vykdytojo kodas | J17: Finansavimo šaltinis | K17: 2022 m. išlaidos | O17: 2023 m. išlaidų projektas | S17: 2023 m. patvirtinta Šilutės r. savivaldybės taryboje | W17: 2023 m. faktiškai skirtas finansavimas | AA17: 2024-ųjų metų išlaidų projektas | AB17: 2025-ųjų metų išlaidų projektas | AC17: Uždavinio vertinimo kriterijus
K18: Iš viso | L18: Išlaidoms | N18: Turtui įsigyti ir finansiniams įsipareigojimams vykdyti | O18: Iš viso | P18: Išlaidoms | R18: Turtui įsigyti ir finansiniams įsipareigojimams vykdyti | S18: Iš viso | T18: Išlaidoms | V18: Turtui įsigyti ir finansiniams įsipareigojimams vykdyti | W18: Iš viso | X18: Išlaidoms | Z18: Turtui įsigyti ir finansiniams įsipareigojimams vykdyti | AC18: Pavadinimas | AD18: Planas
L19: Iš viso | M19: Darbo užmokesčiui | P19: Iš viso | Q19: Darbo užmokesčiui | T19: Iš viso | U19: Darbo užmokesčiui | X19: Iš viso | Y19: Darbo užmokesčiui | AD19: 2023 m. | AE19: 2024 m. | AF19: 2025 m.
A20: Strateginė sritis 03. Infrastruktūros gerinimas/plėtojimas ir žemės ūkio verslo plėtra
A21: 08 Investicijų pritraukimo ir verslo vystymo programa
A22: 08 | B22: 01 | C22: Gerinti infrastruktūrą darnoje su gamtine aplinka
A23: 08 | B23: 01 | C23: 01 | D23: Užtikrinti kuo didesnį parengtų ir įgyvendinamų projektų skaičių
A24: 08 | B24: 01 | C24: 01 | D24: 14 | E24: Bekontakčiai atsiskaitymai Šilutės rajono savivaldybės mokyklose | G24: 09.08.01.02 | H24: 188723322 | I24: 12 | J24: SB | K24: =+L24+N24 -> 0 | L24: 0 | M24: 0 | N24: 0 | O24: =+P24+R24 -> 0 | P24: 0 | Q24: 0 | R24: 0 | S24: =+T24+V24 -> 10 | T24: 10 | U24: 0 | V24: 0 | W24: =+X24+Z24 -> 0 | X24: 0 | Y24: 0 | Z24: 0 | AA24: 0 | AB24: 0 | AC24: Mokyklų, įsidiegusių bekontaktį atsiskaitymą, skaičius, vnt. | AD24: 15 | AE24: 15 | AF24: 0
J25: ES | K25: =+L25+N25 -> 0 | L25: 0 | M25: 0 | N25: 0 | O25: =P25+R25 -> 0 | P25: 0 | Q25: 0 | R25: 0 | S25: =+T25+V25 -> 107.5 | T25: 107.5 | U25: 0 | V25: 0 | W25: =+X25+Z25 -> 0 | X25: 0 | Y25: 0 | Z25: 0 | AA25: 0 | AB25: 0
J26: Iš viso: | K26: =SUM(K24:K25) -> 0 | L26: =SUM(L24:L25) -> 0 | M26: =SUM(M24:M25) -> 0 | N26: =SUM(N24:N25) -> 0 | O26: =SUM(O24:O25) -> 0 | P26: =SUM(P24:P25) -> 0 | Q26: =SUM(Q24:Q25) -> 0 | R26: =SUM(R24:R25) -> 0 | ... AB26: =SUM(AB24:AB25) -> 0
A27: 08 | B27: 01 | C27: 01 | D27: 15 | E27: Geresnis gyvenimas mažuose ir vidutinio dydžio miestuose: veiksmai, gerinantys strategijas („A better life in small and mid-sized cities: from Interregional actions to improved Revitalisation strategies“) | G27: 01.03.02.01 | H27: 188723322 | I27: 12 | J27: SB | K27: =+L27+N27 -> 0 | L27: 0 | M27: 0 | N27: 0 | O27: =+P27+R27 -> 0 | P27: 0 | Q27: 0 | R27: 0 | S27: =+T27+V27 -> 5 | T27: 5 | U27: 0 | V27: 0 | W27: =+X27+Z27 -> 0 | X27: 0 | Y27: 0 | Z27: 0 | AA27: 5 | AB27: 5.4 | AC27: Įgyvendintas projektas, proc. | AD27: 0 | AE27: 0 | AF27: 100
J28: VL | K28: =L28+N28 -> 0 | L28: 0 | M28: 0 | N28: 0 | O28: =P28+R28 -> 0 | P28: 0 | Q28: 0 | R28: 0 | S28: =T28+V28 -> 5 | T28: 5 | U28: 0 | V28: 0 | W28: =X28+Z28 -> 0 | X28: 0 | Y28: 0 | Z28: 0 | AA28: 5 | AB28: 5.4
J29: ES | K29: =+L29+N29 -> 0 | L29: 0 | M29: 0 | N29: 0 | O29: =P29+R29 -> 0 | P29: 0 | Q29: 0 | R29: 0 | S29: =+T29+V29 -> 41 | T29: 41 | U29: 0 | V29: 0 | W29: =+X29+Z29 -> 0 | X29: 0 | Y29: 0 | Z29: 0 | AA29: 41 | AB29: 41.2
J30: Iš viso: | K30: =SUM(K27:K29) -> 0 | L30: =SUM(L27:L29) -> 0 | M30: =SUM(M27:M29) -> 0 | N30: =SUM(N27:N29) -> 0 | O30: =SUM(O27:O29) -> 0 | P30: =SUM(P27:P29) -> 0 | Q30: =SUM(Q27:Q29) -> 0 | R30: =SUM(R27:R29) -> 0 | ... AB30: =SUM(AB27:AB29) -> 52
A31: 08 | B31: 01 | C31: 01 | D31: 16 | E31: Atvirų duomenų prieinamumo didinimas, siekiant pagerinti teikiamas viešąsias paslaugas („Strengthening the availability and processing of Open Data to support local growth and urban transformation“) | G31: 01.03.02.01 | H31: 188723322 | I31: 12 | J31: SB | K31: =+L31+N31 -> 0 | L31: 0 | M31: 0 | N31: 0 | O31: =+P31+R31 -> 0 | P31: 0 | Q31: 0 | R31: 0 | S31: =+T31+V31 -> 5.2 | T31: 5.2 | U31: 0 | V31: 0 | W31: =+X31+Z31 -> 0 | X31: 0 | Y31: 0 | Z31: 0 | AA31: 5.2 | AB31: 5.5 | AC31: Įgyvendintas projektas, proc. | AD31: 0 | AE31: 0 | AF31: 100
J32: VL | K32: =L32+N32 -> 0 | L32: 0 | M32: 0 | N32: 0 | O32: =P32+R32 -> 0 | P32: 0 | Q32: 0 | R32: 0 | S32: =T32+V32 -> 5.2 | T32: 5.2 | U32: 0 | V32: 0 | W32: =X32+Z32 -> 0 | X32: 0 | Y32: 0 | Z32: 0 | AA32: 5.2 | AB32: 5.5
J33: ES | K33: =+L33+N33 -> 0 | L33: 0 | M33: 0 | N33: 0 | O33: =P33+R33 -> 0 | P33: 0 | Q33: 0 | R33: 0 | S33: =+T33+V33 -> 42 | T33: 42 | U33: 0 | V33: 0 | W33: =+X33+Z33 -> 0 | X33: 0 | Y33: 0 | Z33: 0 | AA33: 42 | AB33: 43
J34: Iš viso: | K34: =SUM(K31:K33) -> 0 | L34: =SUM(L31:L33) -> 0 | M34: =SUM(M31:M33) -> 0 | N34: =SUM(N31:N33) -> 0 | O34: =SUM(O31:O33) -> 0 | P34: =SUM(P31:P33) -> 0 | Q34: =SUM(Q31:Q33) -> 0 | R34: =SUM(R31:R33) -> 0 | ... AB34: =SUM(AB31:AB33) -> 54
A35: 08 | B35: 01 | C35: 01 | D35: 17 | E35: Šilutės miesto stadiono infrastruktūros gerinimas | G35: 08.06.01.01 | H35: 188723322 | I35: 12 | J35: SB | K35: =+L35+N35 -> 0 | L35: 0 | M35: 0 | N35: 0 | O35: =+P35+R35 -> 0 | P35: 0 | Q35: 0 | R35: 0 | S35: =+T35+V35 -> 200 | T35: 0 | U35: 0 | V35: 200 | W35: =+X35+Z35 -> 0 | X35: 0 | Y35: 0 | Z35: 0 | AA35: 72.6 | AB35: 0 | AC35: Įgyvendintas projektas, vnt. | AD35: 0 | AE35: 1 | AF35: 0
J36: ES | K36: =+L36+N36 -> 0 | L36: 0 | M36: 0 | N36: 0 | O36: =P36+R36 -> 0 | P36: 0 | Q36: 0 | R36: 0 | S36: =+T36+V36 -> 360 | T36: 0 | U36: 0 | V36: 360 | W36: =+X36+Z36 -> 0 | X36: 0 | Y36: 0 | Z36: 0 | AA36: 90 | AB36: 0
J37: Iš viso: | K37: =SUM(K35:K36) -> 0 | L37: =SUM(L35:L36) -> 0 | M37: =SUM(M35:M36) -> 0 | N37: =SUM(N35:N36) -> 0 | O37: =SUM(O35:O36) -> 0 | P37: =SUM(P35:P36) -> 0 | Q37: =SUM(Q35:Q36) -> 0 | R37: =SUM(R35:R36) -> 0 | ... AB37: =SUM(AB35:AB36) -> 0
A38: 08 | B38: 01 | C38: 01 | D38: 18 | E38: Šilutės r. savivaldybės gatvių apšvietimo sistemos modernizavimas | G38: 06.04.01.01 | H38: 188723322 | I38: 12 | J38: SL | K38: =+L38+N38 -> 56.5 | L38: 0 | M38: 0 | N38: 56.5 | O38: =+P38+R38 -> 0 | P38: 0 | Q38: 0 | R38: 0 | S38: =+T38+V38 -> 0 | T38: 0 | U38: 0 | V38: 0 | W38: =+X38+Z38 -> 0 | X38: 0 | Y38: 0 | Z38: 0 | AA38: 0 | AB38: 0 | AC38: Modernizavimio metu pakeistų miesto gatvių šviestuvų kiekis, vnt. | AD38: 1443 | AE38: 0 | AF38: 0
J39: SB | K39: =+L39+N39 -> 103.6 | L39: 0 | M39: 0 | N39: 103.6 | O39: =+P39+R39 -> 377.1 | P39: 0 | Q39: 0 | R39: 377.1 | S39: =+T39+V39 -> 377.1 | T39: 0 | U39: 0 | V39: 377.1 | W39: =+X39+Z39 -> 0 | X39: 0 | Y39: 0 | Z39: 0 | AA39: 0 | AB39: 0
J40: ES | K40: =+L40+N40 -> 6.1 | L40: 0 | M40: 0 | N40: 6.1 | O40: =P40+R40 -> 377.1 | P40: 0 | Q40: 0 | R40: 377.1 | S40: =+T40+V40 -> 377.1 | T40: 0 | U40: 0 | V40: 377.1 | W40: =+X40+Z40 -> 0 | X40: 0 | Y40: 0 | Z40: 0 | AA40: 0 | AB40: 0
...

Sheet 08 Išlaidų suvestinė
A1: Šilutės rajono savivaldybės administracijos 2023–2025 m. Investicijų pritraukimo ir verslo vystymosi programos išlaidų suvestinė | T1: (Nr.0 8)
A3: tūkst. Eur
A4: Strateginio tikslo kodas | B4: Programos kodas | C4: Programos pavadinimas | D4: Funkcinės klasifikacijos kodas | E4: Asignavimų valdytojo kodas | F4: 2022 m. išlaidos | J4: 2023 m. išlaidų projektas | N4: 2023 m. patvirtinta Šilutės r. savivaldybės taryboje | R4: 2023 m. faktiškai skirtas finansavimas
F5: Iš viso | G5: Išlaidoms | I5: Turtui įsigyti ir finansiniams įsipareigojimams vykdyti | J5: Iš viso | K5: Išlaidoms | M5: Turtui įsigyti ir finansiniams įsipareigojimams vykdyti | N5: Iš viso | O5: Išlaidoms | Q5: Turtui įsigyti ir finansiniams įsipareigojimams vykdyti | R5: Iš viso | S5: Išlaidoms | U5: Turtui įsigyti ir finansiniams įsipareigojimams vykdyti
G6: Iš viso | H6: Iš jų darbo užmokesčiui | K6: Iš viso | L6: Iš jų darbo užmokesčiui | O6: Iš viso | P6: Iš jų darbo užmokesčiui | S6: Iš viso | T6: Iš jų darbo užmokesčiui
A7: 8 | B7: 8 | C7: Investicijų pritraukimo ir verslo vystymosi programa | D7: 04.07.03.01 06.04.01.01 01.03.02.09 04.07.04.01 08.02.01.02 08.06.01.01 08.02.01.08 08.02.01.01 04.05.01.02 10.06.01.01 05.06.01.01 10.02.01.03 09.05.01.01 05.02.01.01 09.02.02.01 09.01.01.01 07.06.01.06 04.06.01.01 01.03.02.01 01.06.01.02 09.08.01.02 09.02.01.01 09.01.02.01 08.01.01.02 06.01.01.01 10.01.02.01 06.02.01.01 01.03.02.01 | E7: 188723322 | F7: ='08 Programa'!K391 -> 13289 | G7: ='08 Programa'!L391 -> 1691 | H7: ='08 Programa'!M391 -> 2.2 | I7: ='08 Programa'!N391 -> 11598 | J7: ='08 Programa'!O391 -> 12879.8 | K7: ='08 Programa'!P391 -> 2135.7 | L7: ='08 Programa'!Q391 -> 0 | M7: ='08 Programa'!R391 -> 10744.1 | ... Q7: ='08 Programa'!V391 -> 11128.8
A8: IŠ VISO: | F8: =SUM(F7) -> 13289 | G8: =SUM(G7) -> 1691 | H8: =SUM(H7) -> 2.2 | I8: =SUM(I7) -> 11598 | J8: =SUM(J7) -> 12879.8 | K8: =SUM(K7) -> 2135.7 | L8: =SUM(L7) -> 0 | M8: =SUM(M7) -> 10744.1 | N8: =SUM(N7) -> 13008.4 | O8: =O7 -> 1879.6 | P8: =SUM(P7) -> 0 | Q8: =SUM(Q7) -> 11128.8 | R8: =SUM(R7) -> 0 | S8: =SUM(S7) -> 0 | T8: =SUM(T7) -> 0 | U8: =SUM(U7) -> 0

Sheet 08 Šaltiniai
A1: 08. Investicijų pritraukimo ir verslo vystymo programa
A2: Finansavimo šaltiniai | J2: 2022 m. išlaidos, tūkst. Eur | K2: 2023 m. projektas, tūkst. Eur | L2: 2023 m. patvirtinta Šilutės r. savivaldybės taryboje, tūkst. Eur | U2: 2023 m. faktiškai skirtas finansavimas, tūkst. Eur
A3: Savivaldybės biudžetas SB | J3: ='08 Programa'!K387+'08 Programa'!K383+'08 Programa'!K376+'08 Programa'!K373+'08 Programa'!K366+'08 Programa'!K364+'08 Programa'!K362+'08 Programa'!K359+'08 Programa'!K355+'08 Programa'!K353+'08 Programa'!K350+'08 Programa'!K346+'08 Programa'!K341+'08 Programa'!K339+'08 Programa'!K336+'08 Programa'!K334+'08 Programa'!K332+'08 Programa'!K329+'08 Programa'!K326+'08 Programa'!K322+'08 Programa'!K318+'08 Programa'!K315+'08 Programa'!K312+'08 Programa'!K307+'08 Programa'!K304+'08 Programa'!K300+'08 Programa'!K297+'08 Programa'!K294+'08 Programa'!K291+'08 Programa'!K289+'08 Programa'!K286+'08 Programa'!K283+'08 Programa'!K280+'08 Programa'!K276+'08 Programa'!K273+'08 Programa'!K270+'08 Programa'!K267+'08 Programa'!K264+'08 Programa'!K260+'08 Programa'!K257+'08 Programa'!K253+'08 Programa'!K247+'08 Programa'!K242+'08 Programa'!K239+'08 Programa'!K236+'08 Programa'!K233+'08 Programa'!K228+'08 Programa'!K225+'08 Programa'!K222+'08 Programa'!K218+'08 Programa'!K216+'08 Programa'!K211+'08 Programa'!K209+'08 Programa'!K206+'08 Programa'!K203+'08 Programa'!K200+'08 Programa'!K198+'08 Programa'!K195+'08 Programa'!K192+'08 Programa'!K187+'08 Programa'!K183+'08 Programa'!K178+'08 Programa'!K173+'08 Programa'!K168+'08 Programa'!K163+'08 Programa'!K158+'08 Programa'!K155+'08 Programa'!K150+'08 Programa'!K145+'08 Programa'!K140+'08 Programa'!K135+'08 Programa'!K130+'08 Programa'!K125+'08 Programa'!K120+'08 Programa'!K115+'08 Programa'!K110+'08 Programa'!K105+'08 Programa'!K100+'08 Programa'!K95+'08 Programa'!K90+'08 Programa'!K84+'08 Programa'!K79+'08 Programa'!K73+'08 Programa'!K68+'08 Programa'!K62+'08 Programa'!K57+'08 Programa'!K52+'08 Programa'!K46+'08 Programa'!K43+'08 Programa'!K39+'08 Programa'!K35+'08 Programa'!K31+'08 Programa'!K27+'08 Programa'!K24+'08 Programa'!K244 -> 5867.7 | K3: ='08 Programa'!O39+'08 Programa'!O43+'08 Programa'!O46+'08 Programa'!O52+'08 Programa'!O57+'08 Programa'!O62+'08 Programa'!O68+'08 Programa'!O73+'08 Programa'!O79+'08 Programa'!O84+'08 Programa'!O90+'08 Programa'!O95+'08 Programa'!O100+'08 Programa'!O105+'08 Programa'!O110+'08 Programa'!O115+'08 Programa'!O120+'08 Programa'!O125+'08 Programa'!O130+'08 Programa'!O135+'08 Programa'!O140+'08 Programa'!O145+'08 Programa'!O150+'08 Programa'!O155+'08 Programa'!O158+'08 Programa'!O163+'08 Programa'!O168+'08 Programa'!O173+'08 Programa'!O178+'08 Programa'!O183+'08 Programa'!O187+'08 Programa'!O192+'08 Programa'!O195+'08 Programa'!O198+'08 Programa'!O200+'08 Programa'!O203+'08 Programa'!O206+'08 Programa'!O209+'08 Programa'!O211+'08 Programa'!O216+'08 Programa'!O218+'08 Programa'!O222+'08 Programa'!O225+'08 Programa'!O228+'08 Programa'!O233+'08 Programa'!O236+'08 Programa'!O239+'08 Programa'!O242+'08 Programa'!O247+'08 Programa'!O253+'08 Programa'!O257+'08 Programa'!O260+'08 Programa'!O264+'08 Programa'!O267+'08 Programa'!O270+'08 Programa'!O273+'08 Programa'!O276+'08 Programa'!O280+'08 Programa'!O283+'08 Programa'!O286+'08 Programa'!O289+'08 Programa'!O291+'08 Programa'!O294+'08 Programa'!O297+'08 Programa'!O300+'08 Programa'!O304+'08 Programa'!O307+'08 Programa'!O312+'08 Programa'!O315+'08 Programa'!O318+'08 Programa'!O322+'08 Programa'!O326+'08 Programa'!O329+'08 Programa'!O332+'08 Programa'!O334+'08 Programa'!O336+'08 Programa'!O339+'08 Programa'!O341+'08 Programa'!O346+'08 Programa'!O350+'08 Programa'!O353+'08 Programa'!O355+'08 Programa'!O359+'08 Programa'!O362+'08 Programa'!O364+'08 Programa'!O366+'08 Programa'!O373+'08 Programa'!O376+'08 Programa'!O383+'08 Programa'!O387+'08 Programa'!O244 -> 7222.3 | L3: ='08 Programa'!S24+'08 Programa'!S27+'08 Programa'!S31+'08 Programa'!S35+'08 Programa'!S39+'08 Programa'!S43+'08 Programa'!S46+'08 Programa'!S52+'08 Programa'!S57+'08 Programa'!S62+'08 Programa'!S68+'08 Programa'!S73+'08 Programa'!S79+'08 Programa'!S84+'08 Programa'!S90+'08 Programa'!S95+'08 Programa'!S100+'08 Programa'!S105+'08 Programa'!S110+'08 Programa'!S115+'08 Programa'!S120+'08 Programa'!S125+'08 Programa'!S130+'08 Programa'!S135+'08 Programa'!S140+'08 Programa'!S145+'08 Programa'!S150+'08 Programa'!S155+'08 Programa'!S158+'08 Programa'!S163+'08 Programa'!S168+'08 Programa'!S173+'08 Programa'!S178+'08 Programa'!S183+'08 Programa'!S187+'08 Programa'!S192+'08 Programa'!S195+'08 Programa'!S198+'08 Programa'!S200+'08 Programa'!S203+'08 Programa'!S206+'08 Programa'!S209+'08 Programa'!S211+'08 Programa'!S216+'08 Programa'!S218+'08 Programa'!S222+'08 Programa'!S225+'08 Programa'!S228+'08 Programa'!S233+'08 Programa'!S236+'08 Programa'!S239+'08 Programa'!S242+'08 Programa'!S247+'08 Programa'!S253+'08 Programa'!S257+'08 Programa'!S260+'08 Programa'!S264+'08 Programa'!S267+'08 Programa'!S270+'08 Programa'!S273+'08 Programa'!S276+'08 Programa'!S280+'08 Programa'!S283+'08 Programa'!S286+'08 Programa'!S289+'08 Programa'!S291+'08 Programa'!S294+'08 Programa'!S297+'08 Programa'!S300+'08 Programa'!S304+'08 Programa'!S307+'08 Programa'!S312+'08 Programa'!S315+'08 Programa'!S318+'08 Programa'!S322+'08 Programa'!S326+'08 Programa'!S329+'08 Programa'!S332+'08 Programa'!S334+'08 Programa'!S336+'08 Programa'!S339+'08 Programa'!S341+'08 Programa'!S346+'08 Programa'!S350+'08 Programa'!S353+'08 Programa'!S355+'08 Programa'!S359+'08 Programa'!S362+'08 Programa'!S364+'08 Programa'!S366+'08 Programa'!S373+'08 Programa'!S376+'08 Programa'!S383+'08 Programa'!S387+'08 Programa'!S244 -> 4747.7
A4: Valstybės biudžeto specialioji tikslinė dotacija SB(VB) | J4: 0 | K4: 0 | L4: 0
A5: Aplinkos apsaugos rėmimo specialioji programa SB(AA) | J5: 0 | K5: 0 | L5: 0
A6: Pajamos už suteiktas paslaugas SB(SP) | J6: 0 | K6: 0 | L6: 0
A7: Švietimo įstaigų modernizavimo programa SB(ŠIMP) | J7: ='08 Programa'!K254 -> 0 | K7: 0 | L7: 0
A8: Skolintos lėšos SL | J8: ='08 Programa'!K38+'08 Programa'!K66+'08 Programa'!K78+'08 Programa'!K89+'08 Programa'!K274+'08 Programa'!K323+'08 Programa'!K347+'08 Programa'!K377 -> 2509.9 | K8: ='08 Programa'!O319 -> 0 | L8: ='08 Programa'!S377+'08 Programa'!S347+'08 Programa'!S256 -> 1818
A9: Užsienio valstybių, tarptautinių organizacijų ir Europos Sąjungos lėšos ES, EEE | J9: ='08 Programa'!K320+'08 Programa'!K248+'08 Programa'!K241+'08 Programa'!K238+'08 Programa'!K235+'08 Programa'!K232+'08 Programa'!K230+'08 Programa'!K227+'08 Programa'!K224+'08 Programa'!K221+'08 Programa'!K214+'08 Programa'!K212+'08 Programa'!K208+'08 Programa'!K205+'08 Programa'!K202+'08 Programa'!K197+'08 Programa'!K194+'08 Programa'!K189+'08 Programa'!K185+'08 Programa'!K180+'08 Programa'!K175+'08 Programa'!K170+'08 Programa'!K165+'08 Programa'!K160+'08 Programa'!K157+'08 Programa'!K152+'08 Programa'!K147+'08 Programa'!K142+'08 Programa'!K137+'08 Programa'!K132+'08 Programa'!K127+'08 Programa'!K117+'08 Programa'!K112+'08 Programa'!K107+'08 Programa'!K102+'08 Programa'!K97+'08 Programa'!K92+'08 Programa'!K86+'08 Programa'!K81+'08 Programa'!K75+'08 Programa'!K70+'08 Programa'!K64+'08 Programa'!K59+'08 Programa'!K54+'08 Programa'!K48+'08 Programa'!K45+'08 Programa'!K42+'08 Programa'!K40+'08 Programa'!K245 -> 1840.5 | K9: ='08 Programa'!O248+'08 Programa'!O241+'08 Programa'!O238+'08 Programa'!O235+'08 Programa'!O232+'08 Programa'!O230+'08 Programa'!O227+'08 Programa'!O224+'08 Programa'!O221+'08 Programa'!O214+'08 Programa'!O212+'08 Programa'!O208+'08 Programa'!O205+'08 Programa'!O202+'08 Programa'!O197+'08 Programa'!O194+'08 Programa'!O189+'08 Programa'!O185+'08 Programa'!O180+'08 Programa'!O175+'08 Programa'!O170+'08 Programa'!O165+'08 Programa'!O160+'08 Programa'!O157+'08 Programa'!O152+'08 Programa'!O147+'08 Programa'!O142+'08 Programa'!O137+'08 Programa'!O132+'08 Programa'!O127+'08 Programa'!O122+'08 Programa'!O117+'08 Programa'!O112+'08 Programa'!O107+'08 Programa'!O102+'08 Programa'!O97+'08 Programa'!O92+'08 Programa'!O86+'08 Programa'!O81+'08 Programa'!O75+'08 Programa'!O70+'08 Programa'!O64+'08 Programa'!O59+'08 Programa'!O54+'08 Programa'!O48+'08 Programa'!O45+'08 Programa'!O42+'08 Programa'!O40+'08 Programa'!O320+'08 Programa'!O245 -> 2732.3 | L9: ='08 Programa'!S25+'08 Programa'!S29+'08 Programa'!S33+'08 Programa'!S36+'08 Programa'!S40+'08 Programa'!S64+'08 Programa'!S81+'08 Programa'!S152+'08 Programa'!S157+'08 Programa'!S160+'08 Programa'!S170+'08 Programa'!S197+'08 Programa'!S224+'08 Programa'!S238+'08 Programa'!S248+'08 Programa'!S320+'08 Programa'!S245 -> 3282.8
A10: Visuomenės sveikatos apsaugos rėmimo specialioji programa SB(VS) | J10: 0 | K10: 0 | L10: 0
A11: Valstybės lėšos VL | J11: ='08 Programa'!K360+'08 Programa'!K76+'08 Programa'!K49 -> 115.9 | K11: ='08 Programa'!O65+'08 Programa'!O161 -> 25.2 | L11: ='08 Programa'!S161+'08 Programa'!S65+'08 Programa'!S32+'08 Programa'!S28 -> 35.4
A12: Kelių priežiūros ir plėtros programa KPPP | J12: ='08 Programa'!K381+'08 Programa'!K379+'08 Programa'!K375+'08 Programa'!K371 -> 2900.1 | K12: ='08 Programa'!O371+'08 Programa'!O375+'08 Programa'!O379+'08 Programa'!O381 -> 2900 | L12: ='08 Programa'!S371+'08 Programa'!S375+'08 Programa'!S379+'08 Programa'!S381 -> 3000
A13: Kitos lėšos KTL | J13: 0 | K13: 0 | L13: 0
A14: Viešųjų investicijų plėtros agentūros lėšos VIPA | J14: ='08 Programa'!K67+'08 Programa'!K114+'08 Programa'!K119 -> 54.9 | K14: 0 | L14: ='08 Programa'!S67 -> 124.5
A15: Valstybės investicijų programa VIP | J15: ='08 Programa'!K77+'08 Programa'!K88+'08 Programa'!K252+'08 Programa'!K311+'08 Programa'!K324+'08 Programa'!K337+'08 Programa'!K345 -> 0 | K15: ='08 Programa'!O345+'08 Programa'!O324 -> 0 | L15: ='08 Programa'!S324+'08 Programa'!S345 -> 0
A16: Iš viso: | J16: =SUM(J3:J15) -> 13289 | K16: =SUM(K3:K15) -> 12879.8 | L16: =SUM(L3:T15) -> 13008.4

Sheet 08 Bendros lėšos
A1: 08. Investicijų pritraukimo ir verslo vystymosi programa
A2: Bendras lėšų poreikis ir numatomi finansavimo šaltiniai
A3: tūkst. Eur
A4: Ekonominės klasifikacijos grupės | B4: Asignavimai 2022 m. | C4: Paraiška biudžetiniams | F4: 2023-iems m. patvirtinta Šilutės r. savivaldybės taryboje | G4: 2023-iems m. faktiškai skirta | H4: Projektas 2024 m. | I4: Projektas 2025 m.
C5: 2023 m.
C6: bazinis biudžetas | D6: pakeitimai/ (+padidėjimas -sumažėjimas) | E6: iš viso
A9: 1. Iš viso lėšų poreikis: | B9: ='08 Programa'!K391 -> 13289 | C9: =+B9 -> 13289 | D9: =E9-C9 -> -409.2 | E9: ='08 Programa'!O391 -> 12879.8 | F9: ='08 Programa'!S391 -> 13008.4 | H9: ='08 Programa'!AA391 -> 5581.4 | I9: ='08 Programa'!AB391 -> 5772
A10: 1.1.išlaidoms | B10: ='08 Programa'!L391 -> 1691 | C10: =+B10 -> 1691 | D10: =E10-C10 -> 444.7 | E10: ='08 Programa'!P391 -> 2135.7 | F10: ='08 Programa'!T391 -> 1879.6 | H10: 990 | I10: 880
A11: 1.1.1.iš jų darbo užmokesčiui | B11: ='08 Programa'!M391 -> 2.2 | C11: =+B11 -> 2.2 | D11: =E11-C11 -> -2.2 | E11: ='08 Programa'!Q391 -> 0 | F11: ='08 Programa'!U391 -> 0 | H11: =F11*1.1 -> 0 | I11: =H11*1.1 -> 0
A12: 1.2. turtui įsigyti ir finansiniams įsipareigojimams vykdyti | B12: ='08 Programa'!N391 -> 11598 | C12: =+B12 -> 11598 | D12: =E12-C12 -> -853.9 | E12: ='08 Programa'!R391 -> 10744.1 | F12: ='08 Programa'!V391 -> 11128.8 | H12: =H9-H10 -> 4591.4 | I12: =I9-I10 -> 4892
A13: 2. Finansavimas | B13: ='08 Programa'!K391 -> 13289 | C13: =C14+C19 -> 13289 | D13: =E13-C13 -> -409.2 | E13: =E9 -> 12879.8 | F13: =F9 -> 13008.4 | H13: =H9 -> 5581.4 | I13: =I9 -> 5772
A14: 2.1.Savivaldybės biudžetas: | B14: =B9-B19 -> 5867.7 | C14: =C9-C19 -> 5867.7 | D14: =E14-C14 -> 1354.6 | E14: =+E9-E19 -> 7222.3 | F14: =F13-F19 -> 4747.7 | H14: =H13-H19 -> 2370.2 | I14: =I13-I19 -> 2476.9
A15: 2.1.1. iš jo: valstybės biudžeto specialioji tikslinė dotacija | B15: ='08 Šaltiniai'!J4 -> 0 | C15: =B15 -> 0 | D15: 0 | E15: 0 | F15: 0 | H15: 0 | I15: =+H15*1.1 -> 0
A16: 2.1.2.iš jo: aplinkos apsaugos rėmimo specialiosios programos lėšos | B16: 0 | C16: 0 | D16: =E16-C16 -> 0 | E16: ='08 Šaltiniai'!K5 -> 0 | F16: 0 | H16: 0 | I16: 0
A17: 2.1.3. iš jo: visuomenės sveikatos rėmimo specialiosios programos lėšos | B17: 0 | C17: 0 | D17: =E17-C17 -> 0 | E17: 0 | F17: 0 | H17: 0 | I17: 0
A18: 2.1.4. iš jo: pajamos už suteiktas paslaugas | B18: 0 | C18: =+B18 -> 0 | D18: =E18-C18 -> 0 | E18: 0 | F18: 0 | H18: 0 | I18: 0
A19: 2.2. Kiti šaltiniai: | B19: =SUM(B20:B27) -> 7421.3 | C19: =B19 -> 7421.3 | D19: =E19-C19 -> -1763.8 | E19: =SUM(E20:E27) -> 5657.5 | F19: =SUM(F20:F27) -> 8260.7 | H19: =SUM(H20:H27) -> 3211.2 | I19: =SUM(I20:I27) -> 3295.1
A20: 2.2.1. švietimo įstaigų modernizavimo programa | B20: ='08 Šaltiniai'!J7 -> 0 | C20: =B20 -> 0 | D20: =E20-C20 -> 0 | E20: ='08 Šaltiniai'!K7 -> 0 | F20: 0 | H20: 0 | I20: 0
A21: 2.2.2. skolintos lėšos | B21: ='08 Šaltiniai'!J8 -> 2509.9 | C21: =B21 -> 2509.9 | D21: =E21-C21 -> -2509.9 | E21: ='08 Šaltiniai'!K8 -> 0 | F21: 1818 | H21: 0 | I21: 0
A22: 2.2.3. Valstybės investicijų programa | B22: ='08 Šaltiniai'!J15 -> 0 | C22: =B22 -> 0 | D22: =E22-C22 -> 0 | E22: ='08 Šaltiniai'!K15 -> 0 | F22: 0 | H22: ='08 Programa'!AA345 -> 0 | I22: ='08 Programa'!AB345+'08 Programa'!AB324 -> 0
A23: 2.2.4. Užsienio valstybių, tarptautinių organizacijų ir Europos Sąjungos lėšos | B23: ='08 Šaltiniai'!J9 -> 1840.5 | C23: =+B23 -> 1840.5 | D23: =E23-C23 -> 891.8 | E23: ='08 Šaltiniai'!K9 -> 2732.3 | F23: 3282.8 | H23: ='08 Programa'!AA320+'08 Programa'!AA248+'08 Programa'!AA241+'08 Programa'!AA238+'08 Programa'!AA235+'08 Programa'!AA232+'08 Programa'!AA230+'08 Programa'!AA227+'08 Programa'!AA224+'08 Programa'!AA221+'08 Programa'!AA214+'08 Programa'!AA212+'08 Programa'!AA208+'08 Programa'!AA205+'08 Programa'!AA202+'08 Programa'!AA197+'08 Programa'!AA194+'08 Programa'!AA189+'08 Programa'!AA185+'08 Programa'!AA180+'08 Programa'!AA175+'08 Programa'!AA170+'08 Programa'!AA165+'08 Programa'!AA160+'08 Programa'!AA157+'08 Programa'!AA152+'08 Programa'!AA147+'08 Programa'!AA142+'08 Programa'!AA137+'08 Programa'!AA132+'08 Programa'!AA127+'08 Programa'!AA122+'08 Programa'!AA117+'08 Programa'!AA112+'08 Programa'!AA107+'08 Programa'!AA102+'08 Programa'!AA97+'08 Programa'!AA92+'08 Programa'!AA86+'08 Programa'!AA81+'08 Programa'!AA75+'08 Programa'!AA70+'08 Programa'!AA64+'08 Programa'!AA59+'08 Programa'!AA54+'08 Programa'!AA48+'08 Programa'!AA45+'08 Programa'!AA42+'08 Programa'!AA40+'08 Programa'!AA36+'08 Programa'!AA33+'08 Programa'!AA29+'08 Programa'!AA25 -> 201 | I23: ='08 Programa'!AB25+'08 Programa'!AB29+'08 Programa'!AB33+'08 Programa'!AB36 -> 84.2
A24: 2.2.5. Valstybės lėšos | B24: ='08 Šaltiniai'!J11 -> 115.9 | C24: =B24 -> 115.9 | D24: =E24-C24 -> -90.7 | E24: ='08 Šaltiniai'!K11 -> 25.2 | F24: 35.4 | H24: ='08 Programa'!AA28+'08 Programa'!AA32 -> 10.2 | I24: ='08 Programa'!AB28+'08 Programa'!AB32 -> 10.9
A25: 2.2.6. Kelių priežiūros ir plėtros programos lėšos | B25: ='08 Šaltiniai'!J12 -> 2900.1 | C25: =B25 -> 2900.1 | D25: =E25-C25 -> -0.1 | E25: ='08 Šaltiniai'!K12 -> 2900 | F25: 3000 | H25: ='08 Programa'!AA371+'08 Programa'!AA375+'08 Programa'!AA379+'08 Programa'!AA381 -> 3000 | I25: ='08 Programa'!AB381+'08 Programa'!AB379+'08 Programa'!AB375+'08 Programa'!AB371 -> 3200
A26: 2.2.7. Viešųjų investicijų plėtros agentūros lėšos | B26: ='08 Šaltiniai'!J14 -> 54.9 | C26: =B26 -> 54.9 | D26: =E26-C26 -> -54.9 | E26: ='08 Šaltiniai'!K14 -> 0 | F26: 124.5 | H26: 0 | I26: 0
A27: 2.2.8. kitos lėšos | B27: 0 | C27: 0 | D27: 0 | E27: ='08 Šaltiniai'!K13 -> 0 | F27: =[1]Suvestine!L14 -> 0 | H27: 0 | I27: 0
