Workbook

Sheet 08 Programa
Z1: PATVIRTINTA
Z2: Šilutės rajono savivaldybės tarybos 2022 m. gruodžio 22 d.
Z3: sprendimu Nr. T1-1169
Z4: (Šilutės rajono savivaldybės tarybos 2023 m. sausio 26 d.
Z5: sprendimo Nr. T1-1200 redakcija)
Z6: (Šilutės rajono savivaldybės tarybos 2023 m. vasario 23 d.
Z7: sprendimo Nr. T1-1222 redakcija)
Z8: (Šilutės rajono savivaldybės tarybos 2023 m. gegužės 25 d.
Z9: sprendimo Nr. T1-5 redakcija)
Z10: (Šilutės rajono savivaldybės tarybos 2023 m. rugsėjo 28 d.
Z11: sprendimo Nr. T1-120 redakcija)
Z12: (Šilutės rajono savivaldybės tarybos 2023 m. lapkričio 30 d.
Z13: sprendimo Nr. T1- redakcija)
AE14: (Nr. 08)
A15: 2023–2025 ŠILUTĖS RAJONO SAVIVALDYBĖS ADMINISTRACIJOS
A16: INVESTICIJŲ PRITRAUKIMO IR VERSLO VYSTYMO PROGRAMOS
A17: TIKSLŲ, PROGRAMŲ, PROGRAMŲ TIKSLŲ, UŽDAVINIŲ, UŽDAVINIŲ VERTINIMO KRITERIJŲ, PRIEMONIŲ IR PRIEMONIŲ IŠLAIDŲ SUVESTINĖ
A18: tūkst. Eur
A19: Programos kodas | B19: Programos tikslo kodas | C19: Uždavinio kodas | D19: Priemonės kodas | E19: Priemonės pavadinimas | F19: Priemonės požymis | G19: Funkcinės klasifikacijos kodas | H19: Asignavimų valdytojo kodas | I19: Priemonės vykdytojo kodas | J19: Finansavimo šaltinis | K19: 2022 m. išlaidos | O19: 2023 m. išlaidų projektas | S19: 2023 m. patvirtinta Šilutės r. savivaldybės taryboje | W19: 2023 m. faktiškai skirtas finansavimas | AA19: 2024-ųjų metų išlaidų projektas | AB19: 2025-ųjų metų išlaidų projektas | AC19: Uždavinio vertinimo kriterijus
K20: Iš viso | L20: Išlaidoms | N20: Turtui įsigyti ir finansiniams įsipareigojimams vykdyti | O20: Iš viso | P20: Išlaidoms | R20: Turtui įsigyti ir finansiniams įsipareigojimams vykdyti | S20: Iš viso | T20: Išlaidoms | V20: Turtui įsigyti ir finansiniams įsipareigojimams vykdyti | W20: Iš viso | X20: Išlaidoms | Z20: Turtui įsigyti ir finansiniams įsipareigojimams vykdyti | AC20: Pavadinimas | AD20: Planas
L21: Iš viso | M21: Darbo užmokesčiui | P21: Iš viso | Q21: Darbo užmokesčiui | T21: Iš viso | U21: Darbo užmokesčiui | X21: Iš viso | Y21: Darbo užmokesčiui | AD21: 2023 m. | AE21: 2024 m. | AF21: 2025 m.
A22: Strateginė sritis 03. Infrastruktūros gerinimas/plėtojimas ir žemės ūkio verslo plėtra
A23: 08 Investicijų pritraukimo ir verslo vystymo programa
A24: 08 | B24: 01 | C24: Gerinti infrastruktūrą darnoje su gamtine aplinka
A25: 08 | B25: 01 | C25: 01 | D25: Užtikrinti kuo didesnį parengtų ir įgyvendinamų projektų skaičių
A26: 08 | B26: 01 | C26: 01 | D26: 14 | E26: Bekontakčiai atsiskaitymai Šilutės rajono savivaldybės mokyklose | G26: 09.08.01.02 | H26: 188723322 | I26: 12 | J26: SB | K26: =+L26+N26 -> 0 | L26: 0 | M26: 0 | N26: 0 | O26: =+P26+R26 -> 0 | P26: 0 | Q26: 0 | R26: 0 | S26: =+T26+V26 -> 10 | T26: 10 | U26: 0 | V26: 0 | W26: =+X26+Z26 -> 0 | X26: 0 | Y26: 0 | Z26: 0 | AA26: 0 | AB26: 0 | AC26: Mokyklų, įsidiegusių bekontaktį atsiskaitymą, skaičius, vnt. | AD26: 15 | AE26: 15 | AF26: 0
J27: ES | K27: =+L27+N27 -> 0 | L27: 0 | M27: 0 | N27: 0 | O27: =P27+R27 -> 0 | P27: 0 | Q27: 0 | R27: 0 | S27: =+T27+V27 -> 107.5 | T27: 107.5 | U27: 0 | V27: 0 | W27: =+X27+Z27 -> 0 | X27: 0 | Y27: 0 | Z27: 0 | AA27: 0 | AB27: 0
J28: Iš viso: | K28: =SUM(K26:K27) -> 0 | L28: =SUM(L26:L27) -> 0 | M28: =SUM(M26:M27) -> 0 | N28: =SUM(N26:N27) -> 0 | O28: =SUM(O26:O27) -> 0 | P28: =SUM(P26:P27) -> 0 | Q28: =SUM(Q26:Q27) -> 0 | R28: =SUM(R26:R27) -> 0 | ... AB28: =SUM(AB26:AB27) -> 0
A29: 08 | B29: 01 | C29: 01 | D29: 15 | E29: Geresnis gyvenimas mažuose ir vidutinio dydžio miestuose: veiksmai, gerinantys strategijas („A better life in small and mid-sized cities: from Interregional actions to improved Revitalisation strategies“) | G29: 01.03.02.01 | H29: 188723322 | I29: 12 | J29: SB | K29: =+L29+N29 -> 0 | L29: 0 | M29: 0 | N29: 0 | O29: =+P29+R29 -> 0 | P29: 0 | Q29: 0 | R29: 0 | S29: =+T29+V29 -> 5 | T29: 5 | U29: 0 | V29: 0 | W29: =+X29+Z29 -> 0 | X29: 0 | Y29: 0 | Z29: 0 | AA29: 5 | AB29: 5.4 | AC29: Įgyvendintas projektas, proc. | AD29: 0 | AE29: 0 | AF29: 100
J30: VL | K30: =L30+N30 -> 0 | L30: 0 | M30: 0 | N30: 0 | O30: =P30+R30 -> 0 | P30: 0 | Q30: 0 | R30: 0 | S30: =T30+V30 -> 5 | T30: 5 | U30: 0 | V30: 0 | W30: =X30+Z30 -> 0 | X30: 0 | Y30: 0 | Z30: 0 | AA30: 5 | AB30: 5.4
J31: ES | K31: =+L31+N31 -> 0 | L31: 0 | M31: 0 | N31: 0 | O31: =P31+R31 -> 0 | P31: 0 | Q31: 0 | R31: 0 | S31: =+T31+V31 -> 41 | T31: 41 | U31: 0 | V31: 0 | W31: =+X31+Z31 -> 0 | X31: 0 | Y31: 0 | Z31: 0 | AA31: 41 | AB31: 41.2
J32: Iš viso: | K32: =SUM(K29:K31) -> 0 | L32: =SUM(L29:L31) -> 0 | M32: =SUM(M29:M31) -> 0 | N32: =SUM(N29:N31) -> 0 | O32: =SUM(O29:O31) -> 0 | P32: =SUM(P29:P31) -> 0 | Q32: =SUM(Q29:Q31) -> 0 | R32: =SUM(R29:R31) -> 0 | ... AB32: =SUM(AB29:AB31) -> 52
A33: 08 | B33: 01 | C33: 01 | D33: 16 | E33: Atvirų duomenų prieinamumo didinimas, siekiant pagerinti teikiamas viešąsias paslaugas („Strengthening the availability and processing of Open Data to support local growth and urban transformation“) | G33: 01.03.02.01 | H33: 188723322 | I33: 12 | J33: SB | K33: =+L33+N33 -> 0 | L33: 0 | M33: 0 | N33: 0 | O33: =+P33+R33 -> 0 | P33: 0 | Q33: 0 | R33: 0 | S33: =+T33+V33 -> 5.2 | T33: 5.2 | U33: 0 | V33: 0 | W33: =+X33+Z33 -> 0 | X33: 0 | Y33: 0 | Z33: 0 | AA33: 5.2 | AB33: 5.5 | AC33: Įgyvendintas projektas, proc. | AD33: 0 | AE33: 0 | AF33: 100
J34: VL | K34: =L34+N34 -> 0 | L34: 0 | M34: 0 | N34: 0 | O34: =P34+R34 -> 0 | P34: 0 | Q34: 0 | R34: 0 | S34: =T34+V34 -> 5.2 | T34: 5.2 | U34: 0 | V34: 0 | W34: =X34+Z34 -> 0 | X34: 0 | Y34: 0 | Z34: 0 | AA34: 5.2 | AB34: 5.5
J35: ES | K35: =+L35+N35 -> 0 | L35: 0 | M35: 0 | N35: 0 | O35: =P35+R35 -> 0 | P35: 0 | Q35: 0 | R35: 0 | S35: =+T35+V35 -> 42 | T35: 42 | U35: 0 | V35: 0 | W35: =+X35+Z35 -> 0 | X35: 0 | Y35: 0 | Z35: 0 | AA35: 42 | AB35: 43
J36: Iš viso: | K36: =SUM(K33:K35) -> 0 | L36: =SUM(L33:L35) -> 0 | M36: =SUM(M33:M35) -> 0 | N36: =SUM(N33:N35) -> 0 | O36: =SUM(O33:O35) -> 0 | P36: =SUM(P33:P35) -> 0 | Q36: =SUM(Q33:Q35) -> 0 | R36: =SUM(R33:R35) -> 0 | ... AB36: =SUM(AB33:AB35) -> 54
A37: 08 | B37: 01 | C37: 01 | D37: 17 | E37: Šilutės miesto stadiono infrastruktūros gerinimas | G37: 08.06.01.01 | H37: 188723322 | I37: 12 | J37: SB | K37: =+L37+N37 -> 0 | L37: 0 | M37: 0 | N37: 0 | O37: =+P37+R37 -> 0 | P37: 0 | Q37: 0 | R37: 0 | S37: =+T37+V37 -> 200 | T37: 0 | U37: 0 | V37: 200 | W37: =+X37+Z37 -> 0 | X37: 0 | Y37: 0 | Z37: 0 | AA37: 72.6 | AB37: 0 | AC37: Įgyvendintas projektas, vnt. | AD37: 0 | AE37: 1 | AF37: 0
J38: ES | K38: =+L38+N38 -> 0 | L38: 0 | M38: 0 | N38: 0 | O38: =P38+R38 -> 0 | P38: 0 | Q38: 0 | R38: 0 | S38: =+T38+V38 -> 360 | T38: 0 | U38: 0 | V38: 360 | W38: =+X38+Z38 -> 0 | X38: 0 | Y38: 0 | Z38: 0 | AA38: 90 | AB38: 0
J39: Iš viso: | K39: =SUM(K37:K38) -> 0 | L39: =SUM(L37:L38) -> 0 | M39: =SUM(M37:M38) -> 0 | N39: =SUM(N37:N38) -> 0 | O39: =SUM(O37:O38) -> 0 | P39: =SUM(P37:P38) -> 0 | Q39: =SUM(Q37:Q38) -> 0 | R39: =SUM(R37:R38) -> 0 | ... AB39: =SUM(AB37:AB38) -> 0
A40: 08 | B40: 01 | C40: 01 | D40: 18 | E40: Šilutės r. savivaldybės gatvių apšvietimo sistemos modernizavimas | G40: 06.04.01.01 | H40: 188723322 | I40: 12 | J40: SL | K40: =+L40+N40 -> 56.5 | L40: 0 | M40: 0 | N40: 56.5 | O40: =+P40+R40 -> 0 | P40: 0 | Q40: 0 | R40: 0 | S40: =+T40+V40 -> 0 | T40: 0 | U40: 0 | V40: 0 | W40: =+X40+Z40 -> 0 | X40: 0 | Y40: 0 | Z40: 0 | AA40: 0 | AB40: 0 | AC40: Modernizavimio metu pakeistų miesto gatvių šviestuvų kiekis, vnt. | AD40: 1443 | AE40: 0 | AF40: 0
J41: SB | K41: =+L41+N41 -> 103.6 | L41: 0 | M41: 0 | N41: 103.6 | O41: =+P41+R41 -> 377.1 | P41: 0 | Q41: 0 | R41: 377.1 | S41: =+T41+V41 -> 377.1 | T41: 0 | U41: 0 | V41: 377.1 | W41: =+X41+Z41 -> 0 | X41: 0 | Y41: 0 | Z41: 0 | AA41: 0 | AB41: 0
J42: ES | K42: =+L42+N42 -> 6.1 | L42: 0 | M42: 0 | N42: 6.1 | O42: =P42+R42 -> 377.1 | P42: 0 | Q42: 0 | R42: 377.1 | S42: =+T42+V42 -> 377.1 | T42: 0 | U42: 0 | V42: 377.1 | W42: =+X42+Z42 -> 0 | X42: 0 | Y42: 0 | Z42: 0 | AA42: 0 | AB42: 0
J43: Iš viso: | K43: =SUM(K40:K42) -> 166.2 | L43: =SUM(L40:L42) -> 0 | M43: =SUM(M40:M42) -> 0 | N43: =SUM(N40:N42) -> 166.2 | O43: =SUM(O40:O42) -> 754.2 | P43: =SUM(P40:P42) -> 0 | Q43: =SUM(Q40:Q42) -> 0 | R43: =SUM(R40:R42) -> 754.2 | ... AB43: =SUM(AB40:AB42) -> 0
A44: 08 | B44: 01 | C44: 01 | D44: 21 | E44: Projekto įgyvendinimo metu sukurto turto draudimas | G44: 01.03.02.09 | H44: 188723322 | I44: 12 | J44: ES | K44: =+L44+N44 -> 0 | L44: 0 | M44: 0 | N44: 0 | O44: =+P44+R44 -> 0 | P44: 0 | Q44: 0 | R44: 0 | S44: =+T44+V44 -> 0 | T44: 0 | U44: 0 | V44: 0 | W44: =+X44+Z44 -> 0 | X44: 0 | Y44: 0 | Z44: 0 | AA44: 0 | AB44: 0 | AC44: Apdraustas projekto įgyvendinimo metu įsigytas turtas, vnt. | AD44: 8 | AE44: 10 | AF44: 10
J45: SB | K45: =+L45+N45 -> 4 | L45: 4 | M45: 0 | N45: 0 | O45: =+P45+R45 -> 6 | P45: 6 | Q45: 0 | R45: 0 | S45: =+T45+V45 -> 6 | T45: 6 | U45: 0 | V45: 0 | W45: =+X45+Z45 -> 0 | X45: 0 | Y45: 0 | Z45: 0 | AA45: 6 | AB45: 6
J46: Iš viso: | K46: =SUM(K44:K45) -> 4 | L46: =SUM(L44:L45) -> 4 | M46: =SUM(M44:M45) -> 0 | N46: =SUM(N44:N45) -> 0 | O46: =SUM(O44:O45) -> 6 | P46: =SUM(P44:P45) -> 6 | Q46: =SUM(Q44:Q45) -> 0 | R46: =SUM(R44:R45) -> 0 | ... AB46: =SUM(AB44:AB45) -> 6
A47: 08 | B47: 01 | C47: 01 | D47: 26 | E47: Rezervas įgyvendinamiems projektams | G47: 01.03.02.09 | H47: 188723322 | I47: 12 | J47: ES | K47: =+L47+N47 -> 0 | L47: 0 | M47: 0 | N47: 0 | O47: =+P47+R47 -> 0 | P47: 0 | Q47: 0 | R47: 0 | S47: =+T47+V47 -> 0 | T47: 0 | U47: 0 | V47: 0 | W47: =+X47+Z47 -> 0 | X47: 0 | Y47: 0 | Z47: 0 | AA47: 0 | AB47: 0 | AC47: Įgyvendinti projektai, proc. | AD47: 100 | AE47: 100 | AF47: 100
J48: SB | K48: =+L48+N48 -> 38.8 | L48: 0 | M48: 0 | N48: 38.8 | O48: =+P48+R48 -> 150 | P48: 0 | Q48: 0 | R48: 150 | S48: =+T48+V48 -> 100 | T48: 0 | U48: 0 | V48: 100 | W48: =+X48+Z48 -> 0 | X48: 0 | Y48: 0 | Z48: 0 | AA48: 150 | AB48: 150
J49: Iš viso: | K49: =SUM(K47:K48) -> 38.8 | L49: =SUM(L47:L48) -> 0 | M49: =SUM(M47:M48) -> 0 | N49: =SUM(N47:N48) -> 38.8 | O49: =SUM(O47:O48) -> 150 | P49: =SUM(P47:P48) -> 0 | Q49: =SUM(Q47:Q48) -> 0 | R49: =SUM(R47:R48) -> 150 | ... AB49: =SUM(AB47:AB48) -> 150
A50: 08 | B50: 01 | C50: 01 | D50: 29 | E50: Šilutės miesto Šilokarčemos kvartalo kompleksinis sutvarkymas | G50: 04.07.04.01 | H50: 188723322 | I50: 12 | J50: ES | K50: =+L50+N50 -> 671.6 | L50: 0 | M50: 0 | N50: 671.6 | O50: =+P50+R50 -> 0 | P50: 0 | Q50: 0 | R50: 0 | S50: =+T50+V50 -> 0 | T50: 0 | U50: 0 | V50: 0 | W50: =+X50+Z50 -> 0 | X50: 0 | Y50: 0 | Z50: 0 | AA50: 0 | AB50: 0 | AC50: Sukurtos arba atnaujintos atviros erdvės miestų vietovėse, kv.m. | AD50: 0 | AE50: 0 | AF50: 0
J51: VL | K51: =+L51+N51 -> 54.5 | L51: 0 | M51: 0 | N51: 54.5 | O51: =+P51+R51 -> 0 | P51: 0 | Q51: 0 | R51: 0 | S51: =+T51+V51 -> 0 | T51: 0 | U51: 0 | V51: 0 | W51: =+X51+Z51 -> 0 | X51: 0 | Y51: 0 | Z51: 0 | AA51: 0 | AB51: 0
J52: SL | K52: =+L52+N52 -> 0 | L52: 0 | M52: 0 | N52: 0 | O52: =+P52+R52 -> 0 | P52: 0 | Q52: 0 | R52: 0 | S52: =+T52+V52 -> 0 | T52: 0 | U52: 0 | V52: 0 | W52: =+X52+Z52 -> 0 | X52: 0 | Y52: 0 | Z52: 0 | AA52: 0 | AB52: 0
J53: VIPA | K53: =L53+N53 -> 0 | L53: 0 | M53: 0 | N53: 0 | O53: =P53+R53 -> 0 | P53: 0 | Q53: 0 | R53: 0 | S53: =T53+V53 -> 0 | T53: 0 | U53: 0 | V53: 0 | W53: =X53+Z53 -> 0 | X53: 0 | Y53: 0 | Z53: 0 | AA53: 0 | AB53: 0
J54: SB | K54: =+L54+N54 -> 384.2 | L54: 0 | M54: 0 | N54: 384.2 | O54: =+P54+R54 -> 0 | P54: 0 | Q54: 0 | R54: 0 | S54: =+T54+V54 -> 0 | T54: 0 | U54: 0 | V54: 0 | W54: =+X54+Z54 -> 0 | X54: 0 | Y54: 0 | Z54: 0 | AA54: 0 | AB54: 0
J55: Iš viso: | K55: =SUM(K50:K54) -> 1110.3 | L55: =SUM(L50:L54) -> 0 | M55: =SUM(M50:M54) -> 0 | N55: =SUM(N50:N54) -> 1110.3 | O55: =SUM(O50:O54) -> 0 | P55: =SUM(P50:P54) -> 0 | Q55: =SUM(Q50:Q54) -> 0 | R55: =SUM(R50:R54) -> 0 | ... AB55: =SUM(AB50:AB54) -> 0
A56: 08 | B56: 01 | C56: 01 | D56: 30 | E56: Šilutės H. Šojaus dvaro parko teritorijos sutvarkymas ir pritaikymas rekreacijai | G56: 08.02.01.02 | H56: 188723322 | I56: 12 | J56: ES | K56: =+L56+N56 -> 0 | L56: 0 | M56: 0 | N56: 0 | O56: =+P56+R56 -> 0 | P56: 0 | Q56: 0 | R56: 0 | S56: =+T56+V56 -> 0 | T56: 0 | U56: 0 | V56: 0 | W56: =+X56+Z56 -> 0 | X56: 0 | Y56: 0 | Z56: 0 | AA56: 0 | AB56: 0 | AC56: Sukurtos arba atnaujintos atviros erdvės miestų vietovėse , kv. m | AD56: 0 | AE56: 0 | AF56: 0
J57: VL | K57: =+L57+N57 -> 0 | L57: 0 | M57: 0 | N57: 0 | O57: =+P57+R57 -> 0 | P57: 0 | Q57: 0 | R57: 0 | S57: =+T57+V57 -> 0 | T57: 0 | U57: 0 | V57: 0 | W57: =+X57+Z57 -> 0 | X57: 0 | Y57: 0 | Z57: 0 | AA57: 0 | AB57: 0
J58: SL | K58: =+L58+N58 -> 0 | L58: 0 | M58: 0 | N58: 0 | O58: =+P58+R58 -> 0 | P58: 0 | Q58: 0 | R58: 0 | S58: =+T58+V58 -> 0 | T58: 0 | U58: 0 | V58: 0 | W58: =+X58+Z58 -> 0 | X58: 0 | Y58: 0 | Z58: 0 | AA58: 0 | AB58: 0
J59: SB | K59: =+L59+N59 -> 1.9 | L59: 0 | M59: 0 | N59: 1.9 | O59: =+P59+R59 -> 1.9 | P59: 0 | Q59: 0 | R59: 1.9 | S59: =+T59+V59 -> 1.9 | T59: 0 | U59: 0 | V59: 1.9 | W59: =+X59+Z59 -> 0 | X59: 0 | Y59: 0 | Z59: 0 | AA59: 0 | AB59: 0
J60: Iš viso: | K60: =SUM(K56:K59) -> 1.9 | L60: =SUM(L56:L59) -> 0 | M60: =SUM(M56:M59) -> 0 | N60: =SUM(N56:N59) -> 1.9 | O60: =SUM(O56:O59) -> 1.9 | P60: =SUM(P56:P59) -> 0 | Q60: =SUM(Q56:Q59) -> 0 | R60: =SUM(R56:R59) -> 1.9 | ... AB60: =SUM(AB56:AB59) -> 0
A61: 08 | B61: 01 | C61: 01 | D61: 31 | E61: Šilutės miesto Lietuvininkų g. ir Tilžės g. gretutinių teritorijų viešųjų erdvių sutvarkymas, suformuojant rekreacijai ir aktyviai miestiečių veiklai patrauklias erdves | G61: 04.07.04.01 | H61: 188723322 | I61: 12 | J61: ES | K61: =+L61+N61 -> 124.5 | L61: 0 | M61: 0 | N61: 124.5 | O61: =+P61+R61 -> 0 | P61: 0 | Q61: 0 | R61: 0 | S61: =+T61+V61 -> 0 | T61: 0 | U61: 0 | V61: 0 | W61: =+X61+Z61 -> 0 | X61: 0 | Y61: 0 | Z61: 0 | AA61: 0 | AB61: 0 | AC61: Sukurtos arba atnaujintos atviros erdvės miestų vietovėse , kv. m | AD61: 0 | AE61: 0 | AF61: 0
J62: VL | K62: =+L62+N62 -> 0 | L62: 0 | M62: 0 | N62: 0 | O62: =+P62+R62 -> 0 | P62: 0 | Q62: 0 | R62: 0 | S62: =+T62+V62 -> 0 | T62: 0 | U62: 0 | V62: 0 | W62: =+X62+Z62 -> 0 | X62: 0 | Y62: 0 | Z62: 0 | AA62: 0 | AB62: 0
J63: SL | K63: =+L63+N63 -> 0 | L63: 0 | M63: 0 | N63: 0 | O63: =+P63+R63 -> 0 | P63: 0 | Q63: 0 | R63: 0 | S63: =+T63+V63 -> 0 | T63: 0 | U63: 0 | V63: 0 | W63: =+X63+Z63 -> 0 | X63: 0 | Y63: 0 | Z63: 0 | AA63: 0 | AB63: 0
J64: SB | K64: =+L64+N64 -> 0 | L64: 0 | M64: 0 | N64: 0 | O64: =+P64+R64 -> 0 | P64: 0 | Q64: 0 | R64: 0 | S64: =+T64+V64 -> 0 | T64: 0 | U64: 0 | V64: 0 | W64: =+X64+Z64 -> 0 | X64: 0 | Y64: 0 | Z64: 0 | AA64: 0 | AB64: 0
J65: Iš viso: | K65: =SUM(K61:K64) -> 124.5 | L65: =SUM(L61:L64) -> 0 | M65: =SUM(M61:M64) -> 0 | N65: =SUM(N61:N64) -> 124.5 | O65: =SUM(O61:O64) -> 0 | P65: =SUM(P61:P64) -> 0 | Q65: =SUM(Q61:Q64) -> 0 | R65: =SUM(R61:R64) -> 0 | ... AB65: =SUM(AB61:AB64) -> 0
A66: 08 | B66: 01 | C66: 01 | D66: 32 | E66: Šilutės miesto istorinio parko infrastruktūros sutvarkymas, sukuriant sąlygas aktyviam poilsiui, sveikatingumo renginiams | G66: 08.06.01.01 | H66: 188723322 | I66: 12 | J66: ES | K66: =+L66+N66 -> 0 | L66: 0 | M66: 0 | N66: 0 | O66: =+P66+R66 -> 255.8 | P66: 0 | Q66: 0 | R66: 255.8 | S66: =+T66+V66 -> 255.8 | T66: 0 | U66: 0 | V66: 255.8 | W66: =+X66+Z66 -> 0 | X66: 0 | Y66: 0 | Z66: 0 | AA66: 0 | AB66: 0 | AC66: Sukurtos arba atnaujintos atviros erdvės miestų vietovėse, kv. m | AD66: 400690 | AE66: 0 | AF66: 0
J67: VL | K67: =+L67+N67 -> 0 | L67: 0 | M67: 0 | N67: 0 | O67: =+P67+R67 -> 20.7 | P67: 0 | Q67: 0 | R67: 20.7 | S67: =+T67+V67 -> 20.7 | T67: 0 | U67: 0 | V67: 20.7 | W67: =+X67+Z67 -> 0 | X67: 0 | Y67: 0 | Z67: 0 | AA67: 0 | AB67: 0
J68: SL | K68: =L68+N68 -> 370.3 | L68: 0 | M68: 0 | N68: 370.3 | O68: =P68+R68 -> 0 | P68: 0 | Q68: 0 | R68: 0 | S68: =T68+V68 -> 0 | T68: 0 | U68: 0 | V68: 0 | W68: =X68+Z68 -> 0 | X68: 0 | Y68: 0 | Z68: 0 | AA68: 0 | AB68: 0
J69: VIPA | K69: =+L69+N69 -> 20.9 | L69: 0 | M69: 0 | N69: 20.9 | O69: =+P69+R69 -> 0 | P69: 0 | Q69: 0 | R69: 0 | S69: =+T69+V69 -> 124.5 | T69: 0 | U69: 0 | V69: 124.5 | W69: =+X69+Z69 -> 0 | X69: 0 | Y69: 0 | Z69: 0 | AA69: 0 | AB69: 0
J70: SB | K70: =+L70+N70 -> 527 | L70: 0 | M70: 0 | N70: 527 | O70: =+P70+R70 -> 326.7 | P70: 0 | Q70: 0 | R70: 326.7 | S70: =+T70+V70 -> 326.7 | T70: 0 | U70: 0 | V70: 326.7 | W70: =+X70+Z70 -> 0 | X70: 0 | Y70: 0 | Z70: 0 | AA70: 0 | AB70: 0
J71: Iš viso: | K71: =SUM(K66:K70) -> 918.2 | L71: =SUM(L66:L70) -> 0 | M71: =SUM(M66:M70) -> 0 | N71: =SUM(N66:N70) -> 918.2 | O71: =SUM(O66:O70) -> 603.2 | P71: =SUM(P66:P70) -> 0 | Q71: =SUM(Q66:Q70) -> 0 | R71: =SUM(R66:R70) -> 603.2 | ... AB71: =SUM(AB66:AB70) -> 0
A72: 08 | B72: 01 | C72: 01 | D72: 33 | E72: Daugiabučių gyvenamųjų namų kvartalo, esančio Šilutės mieste, tarp Parko g., Lietuvininkų g. ir Liepų g., kompleksinis sutvarkymas | G72: 04.07.04.01 | H72: 188723322 | I72: 12 | J72: ES | K72: =+L72+N72 -> 0 | L72: 0 | M72: 0 | N72: 0 | O72: =+P72+R72 -> 0 | P72: 0 | Q72: 0 | R72: 0 | S72: =+T72+V72 -> 0 | T72: 0 | U72: 0 | V72: 0 | W72: =+X72+Z72 -> 0 | X72: 0 | Y72: 0 | Z72: 0 | AA72: 0 | AB72: 0 | AC72: Sukurtos arba atnaujintos atviros erdvės miestų vietovėse, kv. m | AD72: 0 | AE72: 0 | AF72: 0
J73: VL | K73: =+L73+N73 -> 0 | L73: 0 | M73: 0 | N73: 0 | O73: =+P73+R73 -> 0 | P73: 0 | Q73: 0 | R73: 0 | S73: =+T73+V73 -> 0 | T73: 0 | U73: 0 | V73: 0 | W73: =+X73+Z73 -> 0 | X73: 0 | Y73: 0 | Z73: 0 | AA73: 0 | AB73: 0
J74: SL | K74: =+L74+N74 -> 0 | L74: 0 | M74: 0 | N74: 0 | O74: =+P74+R74 -> 0 | P74: 0 | Q74: 0 | R74: 0 | S74: =+T74+V74 -> 0 | T74: 0 | U74: 0 | V74: 0 | W74: =+X74+Z74 -> 0 | X74: 0 | Y74: 0 | Z74: 0 | AA74: 0 | AB74: 0
J75: SB | K75: =+L75+N75 -> 2 | L75: 0 | M75: 0 | N75: 2 | O75: =+P75+R75 -> 2 | P75: 0 | Q75: 0 | R75: 2 | S75: =+T75+V75 -> 2 | T75: 0 | U75: 0 | V75: 2 | W75: =+X75+Z75 -> 0 | X75: 0 | Y75: 0 | Z75: 0 | AA75: 2 | AB75: 2
J76: Iš viso: | K76: =SUM(K72:K75) -> 2 | L76: =SUM(L72:L75) -> 0 | M76: =SUM(M72:M75) -> 0 | N76: =SUM(N72:N75) -> 2 | O76: =SUM(O72:O75) -> 2 | P76: =SUM(P72:P75) -> 0 | Q76: =SUM(Q72:Q75) -> 0 | R76: =SUM(R72:R75) -> 2 | ... AB76: =SUM(AB72:AB75) -> 2
A77: 08 | B77: 01 | C77: 01 | D77: 34 | E77: Šilutės kultūros ir pramogų centro ir bibliotekos pastato, esančio Tilžės g. 12, pritaikymas bendruomenės poreikiams | G77: 08.02.01.08; 08.02.01.01 | H77: 188723322 | I77: 12 | J77: ES | K77: =+L77+N77 -> 25.4 | L77: 0 | M77: 0 | N77: 25.4 | O77: =+P77+R77 -> 0 | P77: 0 | Q77: 0 | R77: 0 | S77: =+T77+V77 -> 0 | T77: 0 | U77: 0 | V77: 0 | W77: =+X77+Z77 -> 0 | X77: 0 | Y77: 0 | Z77: 0 | AA77: 0 | AB77: 0 | AC77: Pastatyti arba atnaujinti viešieji arba komerciniai pastatai miestų vietovėse, kv.m. | AD77: 0 | AE77: 0 | AF77: 0
J78: VL | K78: =+L78+N78 -> 2.1 | L78: 0 | M78: 0 | N78: 2.1 | O78: =+P78+R78 -> 0 | P78: 0 | Q78: 0 | R78: 0 | S78: =+T78+V78 -> 0 | T78: 0 | U78: 0 | V78: 0 | W78: =+X78+Z78 -> 0 | X78: 0 | Y78: 0 | Z78: 0 | AA78: 0 | AB78: 0
J79: VIP | K79: =L79+N79 -> 0 | L79: 0 | M79: 0 | N79: 0 | O79: =P79+R79 -> 0 | P79: 0 | Q79: 0 | R79: 0 | S79: =T79+V79 -> 0 | T79: 0 | U79: 0 | V79: 0 | W79: =X79+Z79 -> 0 | X79: 0 | Y79: 0 | Z79: 0 | AA79: 0 | AB79: 0
J80: SL | K80: =+L80+N80 -> 35.6 | L80: 0 | M80: 0 | N80: 35.6 | O80: =+P80+R80 -> 0 | P80: 0 | Q80: 0 | R80: 0 | S80: =+T80+V80 -> 0 | T80: 0 | U80: 0 | V80: 0 | W80: =+X80+Z80 -> 0 | X80: 0 | Y80: 0 | Z80: 0 | AA80: 0 | AB80: 0
J81: SB | K81: =+L81+N81 -> 24.3 | L81: 0 | M81: 0 | N81: 24.3 | O81: =+P81+R81 -> 0 | P81: 0 | Q81: 0 | R81: 0 | S81: =+T81+V81 -> 0 | T81: 0 | U81: 0 | V81: 0 | W81: =+X81+Z81 -> 0 | X81: 0 | Y81: 0 | Z81: 0 | AA81: 0 | AB81: 0
J82: Iš viso: | K82: =SUM(K77:K81) -> 87.4 | L82: =SUM(L77:L81) -> 0 | M82: =SUM(M77:M81) -> 0 | N82: =SUM(N77:N81) -> 87.4 | O82: =SUM(O77:O81) -> 0 | P82: =SUM(P77:P81) -> 0 | Q82: =SUM(Q77:Q81) -> 0 | R82: =SUM(R77:R81) -> 0 | ... AB82: =SUM(AB77:AB81) -> 0
A83: 08 | B83: 01 | C83: 01 | D83: 35 | E83: Šilutės H.Šojaus dvaro pastatų komplekso įveiklinimas, pritaikant viešiems kultūros poreikiams | G83: 08.02.01.02 | H83: 188723322 | I83: 12 | J83: ES | K83: =+L83+N83 -> 0 | L83: 0 | M83: 0 | N83: 0 | O83: =+P83+R83 -> 143.1 | P83: 0 | Q83: 0 | R83: 143.1 | S83: =+T83+V83 -> 143.1 | T83: 0 | U83: 0 | V83: 143.1 | W83: =+X83+Z83 -> 0 | X83: 0 | Y83: 0 | Z83: 0 | AA83: 0 | AB83: 0 | AC83: Sutvarkyti, įrengti ir pritaikyti lankymui kultūros paveldo objektai, vnt. | AD83: 3 | AE83: 0 | AF83: 0
J84: VL | K84: =+L84+N84 -> 0 | L84: 0 | M84: 0 | N84: 0 | O84: =+P84+R84 -> 0 | P84: 0 | Q84: 0 | R84: 0 | S84: =+T84+V84 -> 0 | T84: 0 | U84: 0 | V84: 0 | W84: =+X84+Z84 -> 0 | X84: 0 | Y84: 0 | Z84: 0 | AA84: 0 | AB84: 0
J85: VIPA | K85: =+L85+N85 -> 0 | L85: 0 | M85: 0 | N85: 0 | O85: =+P85+R85 -> 0 | P85: 0 | Q85: 0 | R85: 0 | S85: =+T85+V85 -> 0 | T85: 0 | U85: 0 | V85: 0 | W85: =+X85+Z85 -> 0 | X85: 0 | Y85: 0 | Z85: 0 | AA85: 0 | AB85: 0
J86: SB | K86: =+L86+N86 -> 15.8 | L86: 0 | M86: 0 | N86: 15.8 | O86: =+P86+R86 -> 33.3 | P86: 0 | Q86: 0 | R86: 33.3 | S86: =+T86+V86 -> 33.3 | T86: 0 | U86: 0 | V86: 33.3 | W86: =+X86+Z86 -> 0 | X86: 0 | Y86: 0 | Z86: 0 | AA86: 0 | AB86: 0
J87: Iš viso: | K87: =SUM(K83:K86) -> 15.8 | L87: =SUM(L83:L86) -> 0 | M87: =SUM(M83:M86) -> 0 | N87: =SUM(N83:N86) -> 15.8 | O87: =SUM(O83:O86) -> 176.4 | P87: =SUM(P83:P86) -> 0 | Q87: =SUM(Q83:Q86) -> 0 | R87: =SUM(R83:R86) -> 176.4 | ... AB87: =SUM(AB83:AB86) -> 0
A88: 08 | B88: 01 | C88: 01 | D88: 36 | E88: Šilutės kultūros ir pramogų centro modernizavimas, siekiant didinti kultūrinių paslaugų prieinamumą | G88: 08.02.01.08 | H88: 188723322 | I88: 12 | J88: ES | K88: =+L88+N88 -> 41.6 | L88: 0 | M88: 0 | N88: 41.6 | O88: =+P88+R88 -> 0 | P88: 0 | Q88: 0 | R88: 0 | S88: =+T88+V88 -> 0 | T88: 0 | U88: 0 | V88: 0 | W88: =+X88+Z88 -> 0 | X88: 0 | Y88: 0 | Z88: 0 | AA88: 0 | AB88: 0 | AC88: Modernizuoti kultūros infrastruktūros objektai, vnt. | AD88: 0 | AE88: 0 | AF88: 0
J89: VL | K89: =+L89+N89 -> 0 | L89: 0 | M89: 0 | N89: 0 | O89: =+P89+R89 -> 0 | P89: 0 | Q89: 0 | R89: 0 | S89: =+T89+V89 -> 0 | T89: 0 | U89: 0 | V89: 0 | W89: =+X89+Z89 -> 0 | X89: 0 | Y89: 0 | Z89: 0 | AA89: 0 | AB89: 0
J90: VIP | K90: =L90+N90 -> 0 | L90: 0 | M90: 0 | N90: 0 | O90: =P90+R90 -> 0 | P90: 0 | Q90: 0 | R90: 0 | S90: =T90+V90 -> 0 | T90: 0 | U90: 0 | V90: 0 | W90: =X90+Z90 -> 0 | X90: 0 | Y90: 0 | Z90: 0 | AA90: 0 | AB90: 0
J91: SL | K91: =+L91+N91 -> 567.6 | L91: 94 | M91: 0 | N91: 473.6 | O91: =+P91+R91 -> 0 | P91: 0 | Q91: 0 | R91: 0 | S91: =+T91+V91 -> 0 | T91: 0 | U91: 0 | V91: 0 | W91: =+X91+Z91 -> 0 | X91: 0 | Y91: 0 | Z91: 0 | AA91: 0 | AB91: 0
J92: SB | K92: =+L92+N92 -> 318.4 | L92: 0 | M92: 0 | N92: 318.4 | O92: =+P92+R92 -> 0 | P92: 0 | Q92: 0 | R92: 0 | S92: =+T92+V92 -> 0 | T92: 0 | U92: 0 | V92: 0 | W92: =+X92+Z92 -> 0 | X92: 0 | Y92: 0 | Z92: 0 | AA92: 0 | AB92: 0
J93: Iš viso: | K93: =SUM(K88:K92) -> 927.6 | L93: =SUM(L88:L92) -> 94 | M93: =SUM(M88:M92) -> 0 | N93: =SUM(N88:N92) -> 833.6 | O93: =SUM(O88:O92) -> 0 | P93: =SUM(P88:P92) -> 0 | Q93: =SUM(Q88:Q92) -> 0 | R93: =SUM(R88:R92) -> 0 | ... AB93: =SUM(AB88:AB92) -> 0
A94: 08 | B94: 01 | C94: 01 | D94: 37 | E94: Šilutės miesto Lietuvininkų, Tilžės gatvių eismo saugos gerinimas ir P. Jakšto, H. Zudermano, Knygnešių, M. Jankaus, Lauko, Miško gatvių rekonstravimas | G94: 04.05.01.02 | H94: 188723322 | I94: 12 | J94: ES | K94: =+L94+N94 -> 0 | L94: 0 | M94: 0 | N94: 0 | O94: =+P94+R94 -> 0 | P94: 0 | Q94: 0 | R94: 0 | S94: =+T94+V94 -> 0 | T94: 0 | U94: 0 | V94: 0 | W94: =+X94+Z94 -> 0 | X94: 0 | Y94: 0 | Z94: 0 | AA94: 0 | AB94: 0 | AC94: Bendras rekonstruotų arba atnaujintų kelių ilgis, km | AD94: 0 | AE94: 0 | AF94: 0
J95: VIPA | K95: =+L95+N95 -> 0 | L95: 0 | M95: 0 | N95: 0 | O95: =+P95+R95 -> 0 | P95: 0 | Q95: 0 | R95: 0 | S95: =+T95+V95 -> 0 | T95: 0 | U95: 0 | V95: 0 | W95: =+X95+Z95 -> 0 | X95: 0 | Y95: 0 | Z95: 0 | AA95: 0 | AB95: 0
J96: SL | K96: =+L96+N96 -> 0 | L96: 0 | M96: 0 | N96: 0 | O96: =+P96+R96 -> 0 | P96: 0 | Q96: 0 | R96: 0 | S96: =+T96+V96 -> 0 | T96: 0 | U96: 0 | V96: 0 | W96: =+X96+Z96 -> 0 | X96: 0 | Y96: 0 | Z96: 0 | AA96: 0 | AB96: 0
J97: SB | K97: =+L97+N97 -> 0 | L97: 0 | M97: 0 | N97: 0 | O97: =+P97+R97 -> 0 | P97: 0 | Q97: 0 | R97: 0 | S97: =+T97+V97 -> 0 | T97: 0 | U97: 0 | V97: 0 | W97: =+X97+Z97 -> 0 | X97: 0 | Y97: 0 | Z97: 0 | AA97: 0 | AB97: 0
J98: Iš viso: | K98: =SUM(K94:K97) -> 0 | L98: =SUM(L94:L97) -> 0 | M98: =SUM(M94:M97) -> 0 | N98: =SUM(N94:N97) -> 0 | O98: =SUM(O94:O97) -> 0 | P98: =SUM(P94:P97) -> 0 | Q98: =SUM(Q94:Q97) -> 0 | R98: =SUM(R94:R97) -> 0 | ... AB98: =SUM(AB94:AB97) -> 0
A99: 08 | B99: 01 | C99: 01 | D99: 38 | E99: Švėkšnos miestelio infrastruktūros atnaujinimas | G99: 04.07.04.01 | H99: 188723322 | I99: 12 | J99: ES | K99: =+L99+N99 -> 0 | L99: 0 | M99: 0 | N99: 0 | O99: =+P99+R99 -> 0 | P99: 0 | Q99: 0 | R99: 0 | S99: =+T99+V99 -> 0 | T99: 0 | U99: 0 | V99: 0 | W99: =+X99+Z99 -> 0 | X99: 0 | Y99: 0 | Z99: 0 | AA99: 0 | AB99: 0 | AC99: Sutvarkytos viešosios erdvės, kv. m | AD99: 0 | AE99: 0 | AF99: 0
J100: VL | K100: =+L100+N100 -> 0 | L100: 0 | M100: 0 | N100: 0 | O100: =+P100+R100 -> 0 | P100: 0 | Q100: 0 | R100: 0 | S100: =+T100+V100 -> 0 | T100: 0 | U100: 0 | V100: 0 | W100: =+X100+Z100 -> 0 | X100: 0 | Y100: 0 | Z100: 0 | AA100: 0 | AB100: 0
...

Sheet 08 Išlaidų suvestinė
A1: Šilutės rajono savivaldybės administracijos 2023–2025 m. Investicijų pritraukimo ir verslo vystymosi programos išlaidų suvestinė | T1: (Nr.0 8)
A3: tūkst. Eur
A4: Strateginio tikslo kodas | B4: Programos kodas | C4: Programos pavadinimas | D4: Funkcinės klasifikacijos kodas | E4: Asignavimų valdytojo kodas | F4: 2022 m. išlaidos | J4: 2023 m. išlaidų projektas | N4: 2023 m. patvirtinta Šilutės r. savivaldybės taryboje | R4: 2023 m. faktiškai skirtas finansavimas
F5: Iš viso | G5: Išlaidoms | I5: Turtui įsigyti ir finansiniams įsipareigojimams vykdyti | J5: Iš viso | K5: Išlaidoms | M5: Turtui įsigyti ir finansiniams įsipareigojimams vykdyti | N5: Iš viso | O5: Išlaidoms | Q5: Turtui įsigyti ir finansiniams įsipareigojimams vykdyti | R5: Iš viso | S5: Išlaidoms | U5: Turtui įsigyti ir finansiniams įsipareigojimams vykdyti
G6: Iš viso | H6: Iš jų darbo užmokesčiui | K6: Iš viso | L6: Iš jų darbo užmokesčiui | O6: Iš viso | P6: Iš jų darbo užmokesčiui | S6: Iš viso | T6: Iš jų darbo užmokesčiui
A7: 8 | B7: 8 | C7: Investicijų pritraukimo ir verslo vystymosi programa | D7: 04.07.03.01 06.04.01.01 01.03.02.09 04.07.04.01 08.02.01.02 08.06.01.01 08.02.01.08 08.02.01.01 04.05.01.02 10.06.01.01 05.06.01.01 10.02.01.03 09.05.01.01 05.02.01.01 09.02.02.01 09.01.01.01 07.06.01.06 04.06.01.01 01.03.02.01 01.06.01.02 09.08.01.02 09.02.01.01 09.01.02.01 08.01.01.02 06.01.01.01 10.01.02.01 06.02.01.01 01.03.02.01 | E7: 188723322 | F7: ='08 Programa'!K420 -> 13289 | G7: ='08 Programa'!L420 -> 1691 | H7: ='08 Programa'!M420 -> 2.2 | I7: ='08 Programa'!N420 -> 11598 | J7: ='08 Programa'!O420 -> 12879.8 | K7: ='08 Programa'!P420 -> 2135.7 | L7: ='08 Programa'!Q420 -> 0 | M7: ='08 Programa'!R420 -> 10744.1 | ... Q7: ='08 Programa'!V420 -> 11128.8
A8: IŠ VISO: | F8: =SUM(F7) -> 13289 | G8: =SUM(G7) -> 1691 | H8: =SUM(H7) -> 2.2 | I8: =SUM(I7) -> 11598 | J8: =SUM(J7) -> 12879.8 | K8: =SUM(K7) -> 2135.7 | L8: =SUM(L7) -> 0 | M8: =SUM(M7) -> 10744.1 | N8: =SUM(N7) -> 13008.4 | O8: =O7 -> 1879.6 | P8: =SUM(P7) -> 0 | Q8: =SUM(Q7) -> 11128.8 | R8: =SUM(R7) -> 0 | S8: =SUM(S7) -> 0 | T8: =SUM(T7) -> 0 | U8: =SUM(U7) -> 0

Sheet 08 Šaltiniai
A1: 08. Investicijų pritraukimo ir verslo vystymo programa
A2: Finansavimo šaltiniai | J2: 2022 m. išlaidos, tūkst. Eur | K2: 2023 m. projektas, tūkst. Eur | L2: 2023 m. patvirtinta Šilutės r. savivaldybės taryboje, tūkst. Eur | U2: 2023 m. faktiškai skirtas finansavimas, tūkst. Eur
A3: Savivaldybės biudžetas SB | J3: ='08 Programa'!K416+'08 Programa'!K412+'08 Programa'!K405+'08 Programa'!K402+'08 Programa'!K395+'08 Programa'!K393+'08 Programa'!K391+'08 Programa'!K388+'08 Programa'!K384+'08 Programa'!K382+'08 Programa'!K379+'08 Programa'!K375+'08 Programa'!K370+'08 Programa'!K366+'08 Programa'!K363+'08 Programa'!K361+'08 Programa'!K359+'08 Programa'!K356+'08 Programa'!K353+'08 Programa'!K349+'08 Programa'!K345+'08 Programa'!K342+'08 Programa'!K339+'08 Programa'!K334+'08 Programa'!K331+'08 Programa'!K327+'08 Programa'!K324+'08 Programa'!K321+'08 Programa'!K318+'08 Programa'!K316+'08 Programa'!K313+'08 Programa'!K310+'08 Programa'!K307+'08 Programa'!K303+'08 Programa'!K300+'08 Programa'!K297+'08 Programa'!K294+'08 Programa'!K291+'08 Programa'!K287+'08 Programa'!K284+'08 Programa'!K280+'08 Programa'!K274+'08 Programa'!K244+'08 Programa'!K241+'08 Programa'!K238+'08 Programa'!K235+'08 Programa'!K230+'08 Programa'!K227+'08 Programa'!K224+'08 Programa'!K220+'08 Programa'!K218+'08 Programa'!K213+'08 Programa'!K211+'08 Programa'!K208+'08 Programa'!K205+'08 Programa'!K202+'08 Programa'!K200+'08 Programa'!K197+'08 Programa'!K194+'08 Programa'!K189+'08 Programa'!K185+'08 Programa'!K180+'08 Programa'!K175+'08 Programa'!K170+'08 Programa'!K165+'08 Programa'!K160+'08 Programa'!K157+'08 Programa'!K152+'08 Programa'!K147+'08 Programa'!K142+'08 Programa'!K137+'08 Programa'!K132+'08 Programa'!K127+'08 Programa'!K122+'08 Programa'!K117+'08 Programa'!K112+'08 Programa'!K107+'08 Programa'!K102+'08 Programa'!K97+'08 Programa'!K92+'08 Programa'!K86+'08 Programa'!K81+'08 Programa'!K75+'08 Programa'!K70+'08 Programa'!K64+'08 Programa'!K59+'08 Programa'!K54+'08 Programa'!K48+'08 Programa'!K45+'08 Programa'!K41+'08 Programa'!K37+'08 Programa'!K33+'08 Programa'!K29+'08 Programa'!K26+'08 Programa'!K246+'08 Programa'!K249+'08 Programa'!K368 -> 5867.7 | K3: ='08 Programa'!O41+'08 Programa'!O45+'08 Programa'!O48+'08 Programa'!O54+'08 Programa'!O59+'08 Programa'!O64+'08 Programa'!O70+'08 Programa'!O75+'08 Programa'!O81+'08 Programa'!O86+'08 Programa'!O92+'08 Programa'!O97+'08 Programa'!O102+'08 Programa'!O107+'08 Programa'!O112+'08 Programa'!O117+'08 Programa'!O122+'08 Programa'!O127+'08 Programa'!O132+'08 Programa'!O137+'08 Programa'!O142+'08 Programa'!O147+'08 Programa'!O152+'08 Programa'!O157+'08 Programa'!O160+'08 Programa'!O165+'08 Programa'!O170+'08 Programa'!O175+'08 Programa'!O180+'08 Programa'!O185+'08 Programa'!O189+'08 Programa'!O194+'08 Programa'!O197+'08 Programa'!O200+'08 Programa'!O202+'08 Programa'!O205+'08 Programa'!O208+'08 Programa'!O211+'08 Programa'!O213+'08 Programa'!O218+'08 Programa'!O220+'08 Programa'!O224+'08 Programa'!O227+'08 Programa'!O230+'08 Programa'!O235+'08 Programa'!O238+'08 Programa'!O241+'08 Programa'!O244+'08 Programa'!O274+'08 Programa'!O280+'08 Programa'!O284+'08 Programa'!O287+'08 Programa'!O291+'08 Programa'!O294+'08 Programa'!O297+'08 Programa'!O300+'08 Programa'!O303+'08 Programa'!O307+'08 Programa'!O310+'08 Programa'!O313+'08 Programa'!O316+'08 Programa'!O318+'08 Programa'!O321+'08 Programa'!O324+'08 Programa'!O327+'08 Programa'!O331+'08 Programa'!O334+'08 Programa'!O339+'08 Programa'!O342+'08 Programa'!O345+'08 Programa'!O349+'08 Programa'!O353+'08 Programa'!O356+'08 Programa'!O359+'08 Programa'!O361+'08 Programa'!O363+'08 Programa'!O366+'08 Programa'!O370+'08 Programa'!O375+'08 Programa'!O379+'08 Programa'!O382+'08 Programa'!O384+'08 Programa'!O388+'08 Programa'!O391+'08 Programa'!O393+'08 Programa'!O395+'08 Programa'!O402+'08 Programa'!O405+'08 Programa'!O412+'08 Programa'!O416+'08 Programa'!O246+'08 Programa'!O368 -> 7222.3 | L3: ='08 Programa'!S26+'08 Programa'!S29+'08 Programa'!S33+'08 Programa'!S37+'08 Programa'!S41+'08 Programa'!S45+'08 Programa'!S48+'08 Programa'!S54+'08 Programa'!S59+'08 Programa'!S64+'08 Programa'!S70+'08 Programa'!S75+'08 Programa'!S81+'08 Programa'!S86+'08 Programa'!S92+'08 Programa'!S97+'08 Programa'!S102+'08 Programa'!S107+'08 Programa'!S112+'08 Programa'!S117+'08 Programa'!S122+'08 Programa'!S127+'08 Programa'!S132+'08 Programa'!S137+'08 Programa'!S142+'08 Programa'!S147+'08 Programa'!S152+'08 Programa'!S157+'08 Programa'!S160+'08 Programa'!S165+'08 Programa'!S170+'08 Programa'!S175+'08 Programa'!S180+'08 Programa'!S185+'08 Programa'!S189+'08 Programa'!S194+'08 Programa'!S197+'08 Programa'!S200+'08 Programa'!S202+'08 Programa'!S205+'08 Programa'!S208+'08 Programa'!S211+'08 Programa'!S213+'08 Programa'!S218+'08 Programa'!S220+'08 Programa'!S224+'08 Programa'!S227+'08 Programa'!S230+'08 Programa'!S235+'08 Programa'!S238+'08 Programa'!S241+'08 Programa'!S244+'08 Programa'!S274+'08 Programa'!S280+'08 Programa'!S284+'08 Programa'!S287+'08 Programa'!S291+'08 Programa'!S294+'08 Programa'!S297+'08 Programa'!S300+'08 Programa'!S303+'08 Programa'!S307+'08 Programa'!S310+'08 Programa'!S313+'08 Programa'!S316+'08 Programa'!S318+'08 Programa'!S321+'08 Programa'!S324+'08 Programa'!S327+'08 Programa'!S331+'08 Programa'!S334+'08 Programa'!S339+'08 Programa'!S342+'08 Programa'!S345+'08 Programa'!S349+'08 Programa'!S353+'08 Programa'!S356+'08 Programa'!S359+'08 Programa'!S361+'08 Programa'!S363+'08 Programa'!S366+'08 Programa'!S370+'08 Programa'!S375+'08 Programa'!S379+'08 Programa'!S382+'08 Programa'!S384+'08 Programa'!S388+'08 Programa'!S391+'08 Programa'!S393+'08 Programa'!S395+'08 Programa'!S402+'08 Programa'!S405+'08 Programa'!S412+'08 Programa'!S416+'08 Programa'!S246+'08 Programa'!S368 -> 4747.7
A4: Valstybės biudžeto specialioji tikslinė dotacija SB(VB) | J4: 0 | K4: 0 | L4: 0
A5: Aplinkos apsaugos rėmimo specialioji programa SB(AA) | J5: 0 | K5: 0 | L5: 0
A6: Pajamos už suteiktas paslaugas SB(SP) | J6: 0 | K6: 0 | L6: 0
A7: Švietimo įstaigų modernizavimo programa SB(ŠIMP) | J7: ='08 Programa'!K281 -> 0 | K7: 0 | L7: 0
A8: Skolintos lėšos SL | J8: ='08 Programa'!K40+'08 Programa'!K68+'08 Programa'!K80+'08 Programa'!K91+'08 Programa'!K301+'08 Programa'!K350+'08 Programa'!K376+'08 Programa'!K406 -> 2509.9 | K8: ='08 Programa'!O346 -> 0 | L8: ='08 Programa'!S406+'08 Programa'!S376+'08 Programa'!S283 -> 1818
A9: Užsienio valstybių, tarptautinių organizacijų ir Europos Sąjungos lėšos ES, EEE | J9: ='08 Programa'!K347+'08 Programa'!K275+'08 Programa'!K243+'08 Programa'!K240+'08 Programa'!K237+'08 Programa'!K234+'08 Programa'!K232+'08 Programa'!K229+'08 Programa'!K226+'08 Programa'!K223+'08 Programa'!K216+'08 Programa'!K214+'08 Programa'!K210+'08 Programa'!K207+'08 Programa'!K204+'08 Programa'!K199+'08 Programa'!K196+'08 Programa'!K191+'08 Programa'!K187+'08 Programa'!K182+'08 Programa'!K177+'08 Programa'!K172+'08 Programa'!K167+'08 Programa'!K162+'08 Programa'!K159+'08 Programa'!K154+'08 Programa'!K149+'08 Programa'!K144+'08 Programa'!K139+'08 Programa'!K134+'08 Programa'!K129+'08 Programa'!K119+'08 Programa'!K114+'08 Programa'!K109+'08 Programa'!K104+'08 Programa'!K99+'08 Programa'!K94+'08 Programa'!K88+'08 Programa'!K83+'08 Programa'!K77+'08 Programa'!K72+'08 Programa'!K66+'08 Programa'!K61+'08 Programa'!K56+'08 Programa'!K50+'08 Programa'!K47+'08 Programa'!K44+'08 Programa'!K42+'08 Programa'!K247 -> 1840.5 | K9: ='08 Programa'!O275+'08 Programa'!O243+'08 Programa'!O240+'08 Programa'!O237+'08 Programa'!O234+'08 Programa'!O232+'08 Programa'!O229+'08 Programa'!O226+'08 Programa'!O223+'08 Programa'!O216+'08 Programa'!O214+'08 Programa'!O210+'08 Programa'!O207+'08 Programa'!O204+'08 Programa'!O199+'08 Programa'!O196+'08 Programa'!O191+'08 Programa'!O187+'08 Programa'!O182+'08 Programa'!O177+'08 Programa'!O172+'08 Programa'!O167+'08 Programa'!O162+'08 Programa'!O159+'08 Programa'!O154+'08 Programa'!O149+'08 Programa'!O144+'08 Programa'!O139+'08 Programa'!O134+'08 Programa'!O129+'08 Programa'!O124+'08 Programa'!O119+'08 Programa'!O114+'08 Programa'!O109+'08 Programa'!O104+'08 Programa'!O99+'08 Programa'!O94+'08 Programa'!O88+'08 Programa'!O83+'08 Programa'!O77+'08 Programa'!O72+'08 Programa'!O66+'08 Programa'!O61+'08 Programa'!O56+'08 Programa'!O50+'08 Programa'!O47+'08 Programa'!O44+'08 Programa'!O42+'08 Programa'!O347+'08 Programa'!O247 -> 2732.3 | L9: ='08 Programa'!S27+'08 Programa'!S31+'08 Programa'!S35+'08 Programa'!S38+'08 Programa'!S42+'08 Programa'!S66+'08 Programa'!S83+'08 Programa'!S154+'08 Programa'!S159+'08 Programa'!S162+'08 Programa'!S172+'08 Programa'!S199+'08 Programa'!S226+'08 Programa'!S240+'08 Programa'!S275+'08 Programa'!S347+'08 Programa'!S247 -> 3282.8
A10: Visuomenės sveikatos apsaugos rėmimo specialioji programa SB(VS) | J10: 0 | K10: 0 | L10: 0
A11: Valstybės lėšos VL | J11: ='08 Programa'!K389+'08 Programa'!K78+'08 Programa'!K51 -> 115.9 | K11: ='08 Programa'!O67+'08 Programa'!O163 -> 25.2 | L11: ='08 Programa'!S163+'08 Programa'!S67+'08 Programa'!S34+'08 Programa'!S30 -> 35.4
A12: Kelių priežiūros ir plėtros programa KPPP | J12: ='08 Programa'!K410+'08 Programa'!K408+'08 Programa'!K404+'08 Programa'!K400 -> 2900.1 | K12: ='08 Programa'!O400+'08 Programa'!O404+'08 Programa'!O408+'08 Programa'!O410 -> 2900 | L12: ='08 Programa'!S400+'08 Programa'!S404+'08 Programa'!S408+'08 Programa'!S410 -> 3000
A13: Kitos lėšos KTL | J13: 0 | K13: 0 | L13: 0
A14: Viešųjų investicijų plėtros agentūros lėšos VIPA | J14: ='08 Programa'!K69+'08 Programa'!K116+'08 Programa'!K121 -> 54.9 | K14: 0 | L14: ='08 Programa'!S69 -> 124.5
A15: Valstybės investicijų programa VIP | J15: ='08 Programa'!K79+'08 Programa'!K90+'08 Programa'!K279+'08 Programa'!K338+'08 Programa'!K351+'08 Programa'!K364+'08 Programa'!K374 -> 0 | K15: ='08 Programa'!O374+'08 Programa'!O351 -> 0 | L15: ='08 Programa'!S351+'08 Programa'!S374 -> 0
A16: Iš viso: | J16: =SUM(J3:J15) -> 13289 | K16: =SUM(K3:K15) -> 12879.8 | L16: =SUM(L3:T15) -> 13008.4

Sheet 08 Bendros lėšos
A1: 08. Investicijų pritraukimo ir verslo vystymosi programa
A2: Bendras lėšų poreikis ir numatomi finansavimo šaltiniai
A3: tūkst. Eur
A4: Ekonominės klasifikacijos grupės | B4: Asignavimai 2022 m. | C4: Paraiška biudžetiniams | F4: 2023-iems m. patvirtinta Šilutės r. savivaldybės taryboje | G4: 2023-iems m. faktiškai skirta | H4: Projektas 2024 m. | I4: Projektas 2025 m.
C5: 2023 m.
C6: bazinis biudžetas | D6: pakeitimai/ (+padidėjimas -sumažėjimas) | E6: iš viso
A9: 1. Iš viso lėšų poreikis: | B9: ='08 Programa'!K420 -> 13289 | C9: =+B9 -> 13289 | D9: =E9-C9 -> -409.2 | E9: ='08 Programa'!O420 -> 12879.8 | F9: ='08 Programa'!S420 -> 13008.4 | H9: ='08 Programa'!AA420 -> 9955.2 | I9: ='08 Programa'!AB420 -> 9986.8
A10: 1.1.išlaidoms | B10: ='08 Programa'!L420 -> 1691 | C10: =+B10 -> 1691 | D10: =E10-C10 -> 444.7 | E10: ='08 Programa'!P420 -> 2135.7 | F10: ='08 Programa'!T420 -> 1879.6 | H10: 990 | I10: 880
A11: 1.1.1.iš jų darbo užmokesčiui | B11: ='08 Programa'!M420 -> 2.2 | C11: =+B11 -> 2.2 | D11: =E11-C11 -> -2.2 | E11: ='08 Programa'!Q420 -> 0 | F11: ='08 Programa'!U420 -> 0 | H11: =F11*1.1 -> 0 | I11: =H11*1.1 -> 0
A12: 1.2. turtui įsigyti ir finansiniams įsipareigojimams vykdyti | B12: ='08 Programa'!N420 -> 11598 | C12: =+B12 -> 11598 | D12: =E12-C12 -> -853.9 | E12: ='08 Programa'!R420 -> 10744.1 | F12: ='08 Programa'!V420 -> 11128.8 | H12: =H9-H10 -> 8965.2 | I12: =I9-I10 -> 9106.8
A13: 2. Finansavimas | B13: ='08 Programa'!K420 -> 13289 | C13: =C14+C19 -> 13289 | D13: =E13-C13 -> -409.2 | E13: =E9 -> 12879.8 | F13: =F9 -> 13008.4 | H13: =H9 -> 9955.2 | I13: =I9 -> 9986.8
A14: 2.1.Savivaldybės biudžetas: | B14: =B9-B19 -> 5867.7 | C14: =C9-C19 -> 5867.7 | D14: =E14-C14 -> 1354.6 | E14: =+E9-E19 -> 7222.3 | F14: =F13-F19 -> 4747.7 | H14: =H13-H19 -> 3882.6 | I14: =I13-I19 -> 3351.7
A15: 2.1.1. iš jo: valstybės biudžeto specialioji tikslinė dotacija | B15: ='08 Šaltiniai'!J4 -> 0 | C15: =B15 -> 0 | D15: 0 | E15: 0 | F15: 0 | H15: 0 | I15: =+H15*1.1 -> 0
A16: 2.1.2.iš jo: aplinkos apsaugos rėmimo specialiosios programos lėšos | B16: 0 | C16: 0 | D16: =E16-C16 -> 0 | E16: ='08 Šaltiniai'!K5 -> 0 | F16: 0 | H16: 0 | I16: 0
A17: 2.1.3. iš jo: visuomenės sveikatos rėmimo specialiosios programos lėšos | B17: 0 | C17: 0 | D17: =E17-C17 -> 0 | E17: 0 | F17: 0 | H17: 0 | I17: 0
A18: 2.1.4. iš jo: pajamos už suteiktas paslaugas | B18: 0 | C18: =+B18 -> 0 | D18: =E18-C18 -> 0 | E18: 0 | F18: 0 | H18: 0 | I18: 0
A19: 2.2. Kiti šaltiniai: | B19: =SUM(B20:B27) -> 7421.3 | C19: =B19 -> 7421.3 | D19: =E19-C19 -> -1763.8 | E19: =SUM(E20:E27) -> 5657.5 | F19: =SUM(F20:F27) -> 8260.7 | H19: =SUM(H20:H27) -> 6072.6 | I19: =SUM(I20:I27) -> 6635.1
A20: 2.2.1. švietimo įstaigų modernizavimo programa | B20: ='08 Šaltiniai'!J7 -> 0 | C20: =B20 -> 0 | D20: =E20-C20 -> 0 | E20: ='08 Šaltiniai'!K7 -> 0 | F20: 0 | H20: 0 | I20: 0
A21: 2.2.2. skolintos lėšos | B21: ='08 Šaltiniai'!J8 -> 2509.9 | C21: =B21 -> 2509.9 | D21: =E21-C21 -> -2509.9 | E21: ='08 Šaltiniai'!K8 -> 0 | F21: 1818 | H21: 0 | I21: 0
A22: 2.2.3. Valstybės investicijų programa | B22: ='08 Šaltiniai'!J15 -> 0 | C22: =B22 -> 0 | D22: =E22-C22 -> 0 | E22: ='08 Šaltiniai'!K15 -> 0 | F22: 0 | H22: ='08 Programa'!AA374 -> 0 | I22: ='08 Programa'!AB374+'08 Programa'!AB351 -> 0
A23: 2.2.4. Užsienio valstybių, tarptautinių organizacijų ir Europos Sąjungos lėšos | B23: ='08 Šaltiniai'!J9 -> 1840.5 | C23: =+B23 -> 1840.5 | D23: =E23-C23 -> 891.8 | E23: ='08 Šaltiniai'!K9 -> 2732.3 | F23: 3282.8 | H23: ='08 Programa'!AA27+'08 Programa'!AA31+'08 Programa'!AA35+'08 Programa'!AA38+'08 Programa'!AA42+'08 Programa'!AA44+'08 Programa'!AA47+'08 Programa'!AA50+'08 Programa'!AA56+'08 Programa'!AA61+'08 Programa'!AA66+'08 Programa'!AA72+'08 Programa'!AA77+'08 Programa'!AA83+'08 Programa'!AA88+'08 Programa'!AA94+'08 Programa'!AA99+'08 Programa'!AA104+'08 Programa'!AA109+'08 Programa'!AA114+'08 Programa'!AA119+'08 Programa'!AA124+'08 Programa'!AA129+'08 Programa'!AA134+'08 Programa'!AA139+'08 Programa'!AA144+'08 Programa'!AA149+'08 Programa'!AA154+'08 Programa'!AA159+'08 Programa'!AA162+'08 Programa'!AA167+'08 Programa'!AA172+'08 Programa'!AA177+'08 Programa'!AA182+'08 Programa'!AA187+'08 Programa'!AA191+'08 Programa'!AA196+'08 Programa'!AA199+'08 Programa'!AA204+'08 Programa'!AA207+'08 Programa'!AA210+'08 Programa'!AA214+'08 Programa'!AA216+'08 Programa'!AA223+'08 Programa'!AA226+'08 Programa'!AA229+'08 Programa'!AA232+'08 Programa'!AA234+'08 Programa'!AA237+'08 Programa'!AA240+'08 Programa'!AA243+'08 Programa'!AA247+'08 Programa'!AA250+'08 Programa'!AA253+'08 Programa'!AA256+'08 Programa'!AA259+'08 Programa'!AA262+'08 Programa'!AA266+'08 Programa'!AA269+'08 Programa'!AA272+'08 Programa'!AA275 -> 3062.4 | I23: ='08 Programa'!AB275+'08 Programa'!AB272+'08 Programa'!AB269+'08 Programa'!AB266+'08 Programa'!AB263+'08 Programa'!AB262+'08 Programa'!AB259+'08 Programa'!AB256+'08 Programa'!AB253+'08 Programa'!AB250+'08 Programa'!AB247+'08 Programa'!AB243+'08 Programa'!AB240+'08 Programa'!AB35+'08 Programa'!AB31+'08 Programa'!AB27 -> 3424.2
A24: 2.2.5. Valstybės lėšos | B24: ='08 Šaltiniai'!J11 -> 115.9 | C24: =B24 -> 115.9 | D24: =E24-C24 -> -90.7 | E24: ='08 Šaltiniai'!K11 -> 25.2 | F24: 35.4 | H24: ='08 Programa'!AA30+'08 Programa'!AA34 -> 10.2 | I24: ='08 Programa'!AB30+'08 Programa'!AB34 -> 10.9
A25: 2.2.6. Kelių priežiūros ir plėtros programos lėšos | B25: ='08 Šaltiniai'!J12 -> 2900.1 | C25: =B25 -> 2900.1 | D25: =E25-C25 -> -0.1 | E25: ='08 Šaltiniai'!K12 -> 2900 | F25: 3000 | H25: ='08 Programa'!AA400+'08 Programa'!AA404+'08 Programa'!AA408+'08 Programa'!AA410 -> 3000 | I25: ='08 Programa'!AB410+'08 Programa'!AB408+'08 Programa'!AB404+'08 Programa'!AB400 -> 3200
A26: 2.2.7. Viešųjų investicijų plėtros agentūros lėšos | B26: ='08 Šaltiniai'!J14 -> 54.9 | C26: =B26 -> 54.9 | D26: =E26-C26 -> -54.9 | E26: ='08 Šaltiniai'!K14 -> 0 | F26: 124.5 | H26: 0 | I26: 0
A27: 2.2.8. kitos lėšos | B27: 0 | C27: 0 | D27: 0 | E27: ='08 Šaltiniai'!K13 -> 0 | F27: =[1]Suvestine!L14 -> 0 | H27: 0 | I27: 0
