Workbook

Sheet 08 Programa
Z1: PATVIRTINTA
Z2: Šilutės rajono savivaldybės tarybos 2022 m. gruodžio 22 d.
Z3: sprendimu Nr. T1-1169
Z4: (Šilutės rajono savivaldybės tarybos 2023 m. sausio 26 d.
Z5: sprendimo Nr. T1-1200 redakcija)
Z6: (Šilutės rajono savivaldybės tarybos 2023 m. vasario 23 d.
Z7: sprendimo Nr. T1-1222 redakcija)
Z8: (Šilutės rajono savivaldybės tarybos 2023 m. gegužės 25 d.
Z9: sprendimo Nr. T1-5 redakcija)
Z10: (Šilutės rajono savivaldybės tarybos 2023 m. rugsėjo 28 d.
Z11: sprendimo Nr. T1-120 redakcija)
Z12: (Šilutės rajono savivaldybės tarybos 2023 m. lapkričio 30 d.
Z13: sprendimo Nr. T1- redakcija)
AE14: (Nr. 08)
A15: 2023–2025 ŠILUTĖS RAJONO SAVIVALDYBĖS ADMINISTRACIJOS
A16: INVESTICIJŲ PRITRAUKIMO IR VERSLO VYSTYMO PROGRAMOS
A17: TIKSLŲ, PROGRAMŲ, PROGRAMŲ TIKSLŲ, UŽDAVINIŲ, UŽDAVINIŲ VERTINIMO KRITERIJŲ, PRIEMONIŲ IR PRIEMONIŲ IŠLAIDŲ SUVESTINĖ
A18: tūkst. Eur
A19: Programos kodas | B19: Programos tikslo kodas | C19: Uždavinio kodas | D19: Priemonės kodas | E19: Priemonės pavadinimas | F19: Priemonės požymis | G19: Funkcinės klasifikacijos kodas | H19: Asignavimų valdytojo kodas | I19: Priemonės vykdytojo kodas | J19: Finansavimo šaltinis | K19: 2022 m. išlaidos | O19: 2023 m. išlaidų projektas | S19: 2023 m. patvirtinta Šilutės r. savivaldybės taryboje | W19: 2023 m. faktiškai skirtas finansavimas | AA19: 2024-ųjų metų išlaidų projektas | AB19: 2025-ųjų metų išlaidų projektas | AC19: Uždavinio vertinimo kriterijus
K20: Iš viso | L20: Išlaidoms | N20: Turtui įsigyti ir finansiniams įsipareigojimams vykdyti | O20: Iš viso | P20: Išlaidoms | R20: Turtui įsigyti ir finansiniams įsipareigojimams vykdyti | S20: Iš viso | T20: Išlaidoms | V20: Turtui įsigyti ir finansiniams įsipareigojimams vykdyti | W20: Iš viso | X20: Išlaidoms | Z20: Turtui įsigyti ir finansiniams įsipareigojimams vykdyti | AC20: Pavadinimas | AD20: Planas
L21: Iš viso | M21: Darbo užmokesčiui | P21: Iš viso | Q21: Darbo užmokesčiui | T21: Iš viso | U21: Darbo užmokesčiui | X21: Iš viso | Y21: Darbo užmokesčiui | AD21: 2023 m. | AE21: 2024 m. | AF21: 2025 m.
A22: Strateginė sritis 03. Infrastruktūros gerinimas/plėtojimas ir žemės ūkio verslo plėtra
A23: 08 Investicijų pritraukimo ir verslo vystymo programa
A24: 08 | B24: 01 | C24: Gerinti infrastruktūrą darnoje su gamtine aplinka
A25: 08 | B25: 01 | C25: 01 | D25: Užtikrinti kuo didesnį parengtų ir įgyvendinamų projektų skaičių
A26: 08 | B26: 01 | C26: 01 | D26: 14 | E26: Bekontakčiai atsiskaitymai Šilutės rajono savivaldybės mokyklose | G26: 09.08.01.02 | H26: 188723322 | I26: 12 | J26: SB | K26: =+L26+N26 -> 0 | L26: 0 | M26: 0 | N26: 0 | O26: =+P26+R26 -> 0 | P26: 0 | Q26: 0 | R26: 0 | S26: =+T26+V26 -> 10 | T26: 10 | U26: 0 | V26: 0 | W26: =+X26+Z26 -> 0 | X26: 0 | Y26: 0 | Z26: 0 | AA26: 0 | AB26: 0 | AC26: Mokyklų, įsidiegusių bekontaktį atsiskaitymą, skaičius, vnt. | AD26: 15 | AE26: 15 | AF26: 0
J27: ES | K27: =+L27+N27 -> 0 | L27: 0 | M27: 0 | N27: 0 | O27: =P27+R27 -> 0 | P27: 0 | Q27: 0 | R27: 0 | S27: =+T27+V27 -> 107.5 | T27: 107.5 | U27: 0 | V27: 0 | W27: =+X27+Z27 -> 0 | X27: 0 | Y27: 0 | Z27: 0 | AA27: 0 | AB27: 0
J28: Iš viso: | K28: =SUM(K26:K27) -> 0 | L28: =SUM(L26:L27) -> 0 | M28: =SUM(M26:M27) -> 0 | N28: =SUM(N26:N27) -> 0 | O28: =SUM(O26:O27) -> 0 | P28: =SUM(P26:P27) -> 0 | Q28: =SUM(Q26:Q27) -> 0 | R28: =SUM(R26:R27) -> 0 | ... AB28: =SUM(AB26:AB27) -> 0
A29: 08 | B29: 01 | C29: 01 | D29: 15 | E29: Geresnis gyvenimas mažuose ir vidutinio dydžio miestuose: veiksmai, gerinantys strategijas („A better life in small and mid-sized cities: from Interregional actions to improved Revitalisation strategies“) | G29: 01.03.02.01 | H29: 188723322 | I29: 12 | J29: SB | K29: =+L29+N29 -> 0 | L29: 0 | M29: 0 | N29: 0 | O29: =+P29+R29 -> 0 | P29: 0 | Q29: 0 | R29: 0 | S29: =+T29+V29 -> 5 | T29: 5 | U29: 0 | V29: 0 | W29: =+X29+Z29 -> 0 | X29: 0 | Y29: 0 | Z29: 0 | AA29: 5 | AB29: 5.4 | AC29: Įgyvendintas projektas, proc. | AD29: 0 | AE29: 0 | AF29: 100
J30: VL | K30: =L30+N30 -> 0 | L30: 0 | M30: 0 | N30: 0 | O30: =P30+R30 -> 0 | P30: 0 | Q30: 0 | R30: 0 | S30: =T30+V30 -> 5 | T30: 5 | U30: 0 | V30: 0 | W30: =X30+Z30 -> 0 | X30: 0 | Y30: 0 | Z30: 0 | AA30: 5 | AB30: 5.4
J31: ES | K31: =+L31+N31 -> 0 | L31: 0 | M31: 0 | N31: 0 | O31: =P31+R31 -> 0 | P31: 0 | Q31: 0 | R31: 0 | S31: =+T31+V31 -> 41 | T31: 41 | U31: 0 | V31: 0 | W31: =+X31+Z31 -> 0 | X31: 0 | Y31: 0 | Z31: 0 | AA31: 41 | AB31: 41.2
J32: Iš viso: | K32: =SUM(K29:K31) -> 0 | L32: =SUM(L29:L31) -> 0 | M32: =SUM(M29:M31) -> 0 | N32: =SUM(N29:N31) -> 0 | O32: =SUM(O29:O31) -> 0 | P32: =SUM(P29:P31) -> 0 | Q32: =SUM(Q29:Q31) -> 0 | R32: =SUM(R29:R31) -> 0 | ... AB32: =SUM(AB29:AB31) -> 52
A33: 08 | B33: 01 | C33: 01 | D33: 16 | E33: Atvirų duomenų prieinamumo didinimas, siekiant pagerinti teikiamas viešąsias paslaugas („Strengthening the availability and processing of Open Data to support local growth and urban transformation“) | G33: 01.03.02.01 | H33: 188723322 | I33: 12 | J33: SB | K33: =+L33+N33 -> 0 | L33: 0 | M33: 0 | N33: 0 | O33: =+P33+R33 -> 0 | P33: 0 | Q33: 0 | R33: 0 | S33: =+T33+V33 -> 5.2 | T33: 5.2 | U33: 0 | V33: 0 | W33: =+X33+Z33 -> 0 | X33: 0 | Y33: 0 | Z33: 0 | AA33: 5.2 | AB33: 5.5 | AC33: Įgyvendintas projektas, proc. | AD33: 0 | AE33: 0 | AF33: 100
J34: VL | K34: =L34+N34 -> 0 | L34: 0 | M34: 0 | N34: 0 | O34: =P34+R34 -> 0 | P34: 0 | Q34: 0 | R34: 0 | S34: =T34+V34 -> 5.2 | T34: 5.2 | U34: 0 | V34: 0 | W34: =X34+Z34 -> 0 | X34: 0 | Y34: 0 | Z34: 0 | AA34: 5.2 | AB34: 5.5
J35: ES | K35: =+L35+N35 -> 0 | L35: 0 | M35: 0 | N35: 0 | O35: =P35+R35 -> 0 | P35: 0 | Q35: 0 | R35: 0 | S35: =+T35+V35 -> 42 | T35: 42 | U35: 0 | V35: 0 | W35: =+X35+Z35 -> 0 | X35: 0 | Y35: 0 | Z35: 0 | AA35: 42 | AB35: 43
J36: Iš viso: | K36: =SUM(K33:K35) -> 0 | L36: =SUM(L33:L35) -> 0 | M36: =SUM(M33:M35) -> 0 | N36: =SUM(N33:N35) -> 0 | O36: =SUM(O33:O35) -> 0 | P36: =SUM(P33:P35) -> 0 | Q36: =SUM(Q33:Q35) -> 0 | R36: =SUM(R33:R35) -> 0 | ... AB36: =SUM(AB33:AB35) -> 54
A37: 08 | B37: 01 | C37: 01 | D37: 17 | E37: Šilutės miesto stadiono infrastruktūros gerinimas | G37: 08.06.01.01 | H37: 188723322 | I37: 12 | J37: SB | K37: =+L37+N37 -> 0 | L37: 0 | M37: 0 | N37: 0 | O37: =+P37+R37 -> 0 | P37: 0 | Q37: 0 | R37: 0 | S37: =+T37+V37 -> 200 | T37: 0 | U37: 0 | V37: 200 | W37: =+X37+Z37 -> 0 | X37: 0 | Y37: 0 | Z37: 0 | AA37: 72.6 | AB37: 0 | AC37: Įgyvendintas projektas, vnt. | AD37: 0 | AE37: 1 | AF37: 0
J38: ES | K38: =+L38+N38 -> 0 | L38: 0 | M38: 0 | N38: 0 | O38: =P38+R38 -> 0 | P38: 0 | Q38: 0 | R38: 0 | S38: =+T38+V38 -> 360 | T38: 0 | U38: 0 | V38: 360 | W38: =+X38+Z38 -> 0 | X38: 0 | Y38: 0 | Z38: 0 | AA38: 90 | AB38: 0
J39: Iš viso: | K39: =SUM(K37:K38) -> 0 | L39: =SUM(L37:L38) -> 0 | M39: =SUM(M37:M38) -> 0 | N39: =SUM(N37:N38) -> 0 | O39: =SUM(O37:O38) -> 0 | P39: =SUM(P37:P38) -> 0 | Q39: =SUM(Q37:Q38) -> 0 | R39: =SUM(R37:R38) -> 0 | ... AB39: =SUM(AB37:AB38) -> 0
A40: 08 | B40: 01 | C40: 01 | D40: 18 | E40: Šilutės r. savivaldybės gatvių apšvietimo sistemos modernizavimas | G40: 06.04.01.01 | H40: 188723322 | I40: 12 | J40: SL | K40: =+L40+N40 -> 56.5 | L40: 0 | M40: 0 | N40: 56.5 | O40: =+P40+R40 -> 0 | P40: 0 | Q40: 0 | R40: 0 | S40: =+T40+V40 -> 0 | T40: 0 | U40: 0 | V40: 0 | W40: =+X40+Z40 -> 0 | X40: 0 | Y40: 0 | Z40: 0 | AA40: 0 | AB40: 0 | AC40: Modernizavimio metu pakeistų miesto gatvių šviestuvų kiekis, vnt. | AD40: 1443 | AE40: 0 | AF40: 0
...

Sheet 08 Išlaidų suvestinė
A1: Šilutės rajono savivaldybės administracijos 2023–2025 m. Investicijų pritraukimo ir verslo vystymosi programos išlaidų suvestinė | T1: (Nr.0 8)
A3: tūkst. Eur
A4: Strateginio tikslo kodas | B4: Programos kodas | C4: Programos pavadinimas | D4: Funkcinės klasifikacijos kodas | E4: Asignavimų valdytojo kodas | F4: 2022 m. išlaidos | J4: 2023 m. išlaidų projektas | N4: 2023 m. patvirtinta Šilutės r. savivaldybės taryboje | R4: 2023 m. faktiškai skirtas finansavimas
F5: Iš viso | G5: Išlaidoms | I5: Turtui įsigyti ir finansiniams įsipareigojimams vykdyti | J5: Iš viso | K5: Išlaidoms | M5: Turtui įsigyti ir finansiniams įsipareigojimams vykdyti | N5: Iš viso | O5: Išlaidoms | Q5: Turtui įsigyti ir finansiniams įsipareigojimams vykdyti | R5: Iš viso | S5: Išlaidoms | U5: Turtui įsigyti ir finansiniams įsipareigojimams vykdyti
G6: Iš viso | H6: Iš jų darbo užmokesčiui | K6: Iš viso | L6: Iš jų darbo užmokesčiui | O6: Iš viso | P6: Iš jų darbo užmokesčiui | S6: Iš viso | T6: Iš jų darbo užmokesčiui
A7: 8 | B7: 8 | C7: Investicijų pritraukimo ir verslo vystymosi programa | D7: 04.07.03.01 06.04.01.01 01.03.02.09 04.07.04.01 08.02.01.02 08.06.01.01 08.02.01.08 08.02.01.01 04.05.01.02 10.06.01.01 05.06.01.01 10.02.01.03 09.05.01.01 05.02.01.01 09.02.02.01 09.01.01.01 07.06.01.06 04.06.01.01 01.03.02.01 01.06.01.02 09.08.01.02 09.02.01.01 09.01.02.01 08.01.01.02 06.01.01.01 10.01.02.01 06.02.01.01 01.03.02.01 | E7: 188723322 | F7: ='08 Programa'!K420 -> 13289 | G7: ='08 Programa'!L420 -> 1691 | H7: ='08 Programa'!M420 -> 2.2 | I7: ='08 Programa'!N420 -> 11598 | J7: ='08 Programa'!O420 -> 12879.8 | K7: ='08 Programa'!P420 -> 2135.7 | L7: ='08 Programa'!Q420 -> 0 | M7: ='08 Programa'!R420 -> 10744.1 | ... Q7: ='08 Programa'!V420 -> 11128.8
A8: IŠ VISO: | F8: =SUM(F7) -> 13289 | G8: =SUM(G7) -> 1691 | H8: =SUM(H7) -> 2.2 | I8: =SUM(I7) -> 11598 | J8: =SUM(J7) -> 12879.8 | K8: =SUM(K7) -> 2135.7 | L8: =SUM(L7) -> 0 | M8: =SUM(M7) -> 10744.1 | N8: =SUM(N7) -> 13008.4 | O8: =O7 -> 1879.6 | P8: =SUM(P7) -> 0 | Q8: =SUM(Q7) -> 11128.8 | R8: =SUM(R7) -> 0 | S8: =SUM(S7) -> 0 | T8: =SUM(T7) -> 0 | U8: =SUM(U7) -> 0

Sheet 08 Šaltiniai
A1: 08. Investicijų pritraukimo ir verslo vystymo programa
A2: Finansavimo šaltiniai | J2: 2022 m. išlaidos, tūkst. Eur | K2: 2023 m. projektas, tūkst. Eur | L2: 2023 m. patvirtinta Šilutės r. savivaldybės taryboje, tūkst. Eur | U2: 2023 m. faktiškai skirtas finansavimas, tūkst. Eur
A3: Savivaldybės biudžetas SB | J3: ='08 Programa'!K416+'08 Programa'!K412+'08 Programa'!K405+'08 Programa'!K402+'08 Programa'!K395+'08 Programa'!K393+'08 Programa'!K391+'08 Programa'!K388+'08 Programa'!K384+'08 Programa'!K382+'08 Programa'!K379+'08 Programa'!K375+'08 Programa'!K370+'08 Programa'!K366+'08 Programa'!K363+'08 Programa'!K361+'08 Programa'!K359+'08 Programa'!K356+'08 Programa'!K353+'08 Programa'!K349+'08 Programa'!K345+'08 Programa'!K342+'08 Programa'!K339+'08 Programa'!K334+'08 Programa'!K331+'08 Programa'!K327+'08 Programa'!K324+'08 Programa'!K321+'08 Programa'!K318+'08 Programa'!K316+'08 Programa'!K313+'08 Programa'!K310+'08 Programa'!K307+'08 Programa'!K303+'08 Programa'!K300+'08 Programa'!K297+'08 Programa'!K294+'08 Programa'!K291+'08 Programa'!K287+'08 Programa'!K284+'08 Programa'!K280+'08 Programa'!K274+'08 Programa'!K244+'08 Programa'!K241+'08 Programa'!K238+'08 Programa'!K235+'08 Programa'!K230+'08 Programa'!K227+'08 Programa'!K224+'08 Programa'!K220+'08 Programa'!K218+'08 Programa'!K213+'08 Programa'!K211+'08 Programa'!K208+'08 Programa'!K205+'08 Programa'!K202+'08 Programa'!K200+'08 Programa'!K197+'08 Programa'!K194+'08 Programa'!K189+'08 Programa'!K185+'08 Programa'!K180+'08 Programa'!K175+'08 Programa'!K170+'08 Programa'!K165+'08 Programa'!K160+'08 Programa'!K157+'08 Programa'!K152+'08 Programa'!K147+'08 Programa'!K142+'08 Programa'!K137+'08 Programa'!K132+'08 Programa'!K127+'08 Programa'!K122+'08 Programa'!K117+'08 Programa'!K112+'08 Programa'!K107+'08 Programa'!K102+'08 Programa'!K97+'08 Programa'!K92+'08 Programa'!K86+'08 Programa'!K81+'08 Programa'!K75+'08 Programa'!K70+'08 Programa'!K64+'08 Programa'!K59+'08 Programa'!K54+'08 Programa'!K48+'08 Programa'!K45+'08 Programa'!K41+'08 Programa'!K37+'08 Programa'!K33+'08 Programa'!K29+'08 Programa'!K26+'08 Programa'!K246+'08 Programa'!K249+'08 Programa'!K368 -> 5867.7 | K3: ='08 Programa'!O41+'08 Programa'!O45+'08 Programa'!O48+'08 Programa'!O54+'08 Programa'!O59+'08 Programa'!O64+'08 Programa'!O70+'08 Programa'!O75+'08 Programa'!O81+'08 Programa'!O86+'08 Programa'!O92+'08 Programa'!O97+'08 Programa'!O102+'08 Programa'!O107+'08 Programa'!O112+'08 Programa'!O117+'08 Programa'!O122+'08 Programa'!O127+'08 Programa'!O132+'08 Programa'!O137+'08 Programa'!O142+'08 Programa'!O147+'08 Programa'!O152+'08 Programa'!O157+'08 Programa'!O160+'08 Programa'!O165+'08 Programa'!O170+'08 Programa'!O175+'08 Programa'!O180+'08 Programa'!O185+'08 Programa'!O189+'08 Programa'!O194+'08 Programa'!O197+'08 Programa'!O200+'08 Programa'!O202+'08 Programa'!O205+'08 Programa'!O208+'08 Programa'!O211+'08 Programa'!O213+'08 Programa'!O218+'08 Programa'!O220+'08 Programa'!O224+'08 Programa'!O227+'08 Programa'!O230+'08 Programa'!O235+'08 Programa'!O238+'08 Programa'!O241+'08 Programa'!O244+'08 Programa'!O274+'08 Programa'!O280+'08 Programa'!O284+'08 Programa'!O287+'08 Programa'!O291+'08 Programa'!O294+'08 Programa'!O297+'08 Programa'!O300+'08 Programa'!O303+'08 Programa'!O307+'08 Programa'!O310+'08 Programa'!O313+'08 Programa'!O316+'08 Programa'!O318+'08 Programa'!O321+'08 Programa'!O324+'08 Programa'!O327+'08 Programa'!O331+'08 Programa'!O334+'08 Programa'!O339+'08 Programa'!O342+'08 Programa'!O345+'08 Programa'!O349+'08 Programa'!O353+'08 Programa'!O356+'08 Programa'!O359+'08 Programa'!O361+'08 Programa'!O363+'08 Programa'!O366+'08 Programa'!O370+'08 Programa'!O375+'08 Programa'!O379+'08 Programa'!O382+'08 Programa'!O384+'08 Programa'!O388+'08 Programa'!O391+'08 Programa'!O393+'08 Programa'!O395+'08 Programa'!O402+'08 Programa'!O405+'08 Programa'!O412+'08 Programa'!O416+'08 Programa'!O246+'08 Programa'!O368 -> 7222.3 | L3: ='08 Programa'!S26+'08 Programa'!S29+'08 Programa'!S33+'08 Programa'!S37+'08 Programa'!S41+'08 Programa'!S45+'08 Programa'!S48+'08 Programa'!S54+'08 Programa'!S59+'08 Programa'!S64+'08 Programa'!S70+'08 Programa'!S75+'08 Programa'!S81+'08 Programa'!S86+'08 Programa'!S92+'08 Programa'!S97+'08 Programa'!S102+'08 Programa'!S107+'08 Programa'!S112+'08 Programa'!S117+'08 Programa'!S122+'08 Programa'!S127+'08 Programa'!S132+'08 Programa'!S137+'08 Programa'!S142+'08 Programa'!S147+'08 Programa'!S152+'08 Programa'!S157+'08 Programa'!S160+'08 Programa'!S165+'08 Programa'!S170+'08 Programa'!S175+'08 Programa'!S180+'08 Programa'!S185+'08 Programa'!S189+'08 Programa'!S194+'08 Programa'!S197+'08 Programa'!S200+'08 Programa'!S202+'08 Programa'!S205+'08 Programa'!S208+'08 Programa'!S211+'08 Programa'!S213+'08 Programa'!S218+'08 Programa'!S220+'08 Programa'!S224+'08 Programa'!S227+'08 Programa'!S230+'08 Programa'!S235+'08 Programa'!S238+'08 Programa'!S241+'08 Programa'!S244+'08 Programa'!S274+'08 Programa'!S280+'08 Programa'!S284+'08 Programa'!S287+'08 Programa'!S291+'08 Programa'!S294+'08 Programa'!S297+'08 Programa'!S300+'08 Programa'!S303+'08 Programa'!S307+'08 Programa'!S310+'08 Programa'!S313+'08 Programa'!S316+'08 Programa'!S318+'08 Programa'!S321+'08 Programa'!S324+'08 Programa'!S327+'08 Programa'!S331+'08 Programa'!S334+'08 Programa'!S339+'08 Programa'!S342+'08 Programa'!S345+'08 Programa'!S349+'08 Programa'!S353+'08 Programa'!S356+'08 Programa'!S359+'08 Programa'!S361+'08 Programa'!S363+'08 Programa'!S366+'08 Programa'!S370+'08 Programa'!S375+'08 Programa'!S379+'08 Programa'!S382+'08 Programa'!S384+'08 Programa'!S388+'08 Programa'!S391+'08 Programa'!S393+'08 Programa'!S395+'08 Programa'!S402+'08 Programa'!S405+'08 Programa'!S412+'08 Programa'!S416+'08 Programa'!S246+'08 Programa'!S368 -> 4747.7
A4: Valstybės biudžeto specialioji tikslinė dotacija SB(VB) | J4: 0 | K4: 0 | L4: 0
A5: Aplinkos apsaugos rėmimo specialioji programa SB(AA) | J5: 0 | K5: 0 | L5: 0
A6: Pajamos už suteiktas paslaugas SB(SP) | J6: 0 | K6: 0 | L6: 0
A7: Švietimo įstaigų modernizavimo programa SB(ŠIMP) | J7: ='08 Programa'!K281 -> 0 | K7: 0 | L7: 0
A8: Skolintos lėšos SL | J8: ='08 Programa'!K40+'08 Programa'!K68+'08 Programa'!K80+'08 Programa'!K91+'08 Programa'!K301+'08 Programa'!K350+'08 Programa'!K376+'08 Programa'!K406 -> 2509.9 | K8: ='08 Programa'!O346 -> 0 | L8: ='08 Programa'!S406+'08 Programa'!S376+'08 Programa'!S283 -> 1818
A9: Užsienio valstybių, tarptautinių organizacijų ir Europos Sąjungos lėšos ES, EEE | J9: ='08 Programa'!K347+'08 Programa'!K275+'08 Programa'!K243+'08 Programa'!K240+'08 Programa'!K237+'08 Programa'!K234+'08 Programa'!K232+'08 Programa'!K229+'08 Programa'!K226+'08 Programa'!K223+'08 Programa'!K216+'08 Programa'!K214+'08 Programa'!K210+'08 Programa'!K207+'08 Programa'!K204+'08 Programa'!K199+'08 Programa'!K196+'08 Programa'!K191+'08 Programa'!K187+'08 Programa'!K182+'08 Programa'!K177+'08 Programa'!K172+'08 Programa'!K167+'08 Programa'!K162+'08 Programa'!K159+'08 Programa'!K154+'08 Programa'!K149+'08 Programa'!K144+'08 Programa'!K139+'08 Programa'!K134+'08 Programa'!K129+'08 Programa'!K119+'08 Programa'!K114+'08 Programa'!K109+'08 Programa'!K104+'08 Programa'!K99+'08 Programa'!K94+'08 Programa'!K88+'08 Programa'!K83+'08 Programa'!K77+'08 Programa'!K72+'08 Programa'!K66+'08 Programa'!K61+'08 Programa'!K56+'08 Programa'!K50+'08 Programa'!K47+'08 Programa'!K44+'08 Programa'!K42+'08 Programa'!K247 -> 1840.5 | K9: ='08 Programa'!O275+'08 Programa'!O243+'08 Programa'!O240+'08 Programa'!O237+'08 Programa'!O234+'08 Programa'!O232+'08 Programa'!O229+'08 Programa'!O226+'08 Programa'!O223+'08 Programa'!O216+'08 Programa'!O214+'08 Programa'!O210+'08 Programa'!O207+'08 Programa'!O204+'08 Programa'!O199+'08 Programa'!O196+'08 Programa'!O191+'08 Programa'!O187+'08 Programa'!O182+'08 Programa'!O177+'08 Programa'!O172+'08 Programa'!O167+'08 Programa'!O162+'08 Programa'!O159+'08 Programa'!O154+'08 Programa'!O149+'08 Programa'!O144+'08 Programa'!O139+'08 Programa'!O134+'08 Programa'!O129+'08 Programa'!O124+'08 Programa'!O119+'08 Programa'!O114+'08 Programa'!O109+'08 Programa'!O104+'08 Programa'!O99+'08 Programa'!O94+'08 Programa'!O88+'08 Programa'!O83+'08 Programa'!O77+'08 Programa'!O72+'08 Programa'!O66+'08 Programa'!O61+'08 Programa'!O56+'08 Programa'!O50+'08 Programa'!O47+'08 Programa'!O44+'08 Programa'!O42+'08 Programa'!O347+'08 Programa'!O247 -> 2732.3 | L9: ='08 Programa'!S27+'08 Programa'!S31+'08 Programa'!S35+'08 Programa'!S38+'08 Programa'!S42+'08 Programa'!S66+'08 Programa'!S83+'08 Programa'!S154+'08 Programa'!S159+'08 Programa'!S162+'08 Programa'!S172+'08 Programa'!S199+'08 Programa'!S226+'08 Programa'!S240+'08 Programa'!S275+'08 Programa'!S347+'08 Programa'!S247 -> 3282.8
A10: Visuomenės sveikatos apsaugos rėmimo specialioji programa SB(VS) | J10: 0 | K10: 0 | L10: 0
A11: Valstybės lėšos VL | J11: ='08 Programa'!K389+'08 Programa'!K78+'08 Programa'!K51 -> 115.9 | K11: ='08 Programa'!O67+'08 Programa'!O163 -> 25.2 | L11: ='08 Programa'!S163+'08 Programa'!S67+'08 Programa'!S34+'08 Programa'!S30 -> 35.4
A12: Kelių priežiūros ir plėtros programa KPPP | J12: ='08 Programa'!K410+'08 Programa'!K408+'08 Programa'!K404+'08 Programa'!K400 -> 2900.1 | K12: ='08 Programa'!O400+'08 Programa'!O404+'08 Programa'!O408+'08 Programa'!O410 -> 2900 | L12: ='08 Programa'!S400+'08 Programa'!S404+'08 Programa'!S408+'08 Programa'!S410 -> 3000
A13: Kitos lėšos KTL | J13: 0 | K13: 0 | L13: 0
A14: Viešųjų investicijų plėtros agentūros lėšos VIPA | J14: ='08 Programa'!K69+'08 Programa'!K116+'08 Programa'!K121 -> 54.9 | K14: 0 | L14: ='08 Programa'!S69 -> 124.5
A15: Valstybės investicijų programa VIP | J15: ='08 Programa'!K79+'08 Programa'!K90+'08 Programa'!K279+'08 Programa'!K338+'08 Programa'!K351+'08 Programa'!K364+'08 Programa'!K374 -> 0 | K15: ='08 Programa'!O374+'08 Programa'!O351 -> 0 | L15: ='08 Programa'!S351+'08 Programa'!S374 -> 0
A16: Iš viso: | J16: =SUM(J3:J15) -> 13289 | K16: =SUM(K3:K15) -> 12879.8 | L16: =SUM(L3:T15) -> 13008.4

Sheet 08 Bendros lėšos
A1: 08. Investicijų pritraukimo ir verslo vystymosi programa
A2: Bendras lėšų poreikis ir numatomi finansavimo šaltiniai
A3: tūkst. Eur
A4: Ekonominės klasifikacijos grupės | B4: Asignavimai 2022 m. | C4: Paraiška biudžetiniams | F4: 2023-iems m. patvirtinta Šilutės r. savivaldybės taryboje | G4: 2023-iems m. faktiškai skirta | H4: Projektas 2024 m. | I4: Projektas 2025 m.
C5: 2023 m.
C6: bazinis biudžetas | D6: pakeitimai/ (+padidėjimas -sumažėjimas) | E6: iš viso
A9: 1. Iš viso lėšų poreikis: | B9: ='08 Programa'!K420 -> 13289 | C9: =+B9 -> 13289 | D9: =E9-C9 -> -409.2 | E9: ='08 Programa'!O420 -> 12879.8 | F9: ='08 Programa'!S420 -> 13008.4 | H9: ='08 Programa'!AA420 -> 9955.2 | I9: ='08 Programa'!AB420 -> 9986.8
A10: 1.1.išlaidoms | B10: ='08 Programa'!L420 -> 1691 | C10: =+B10 -> 1691 | D10: =E10-C10 -> 444.7 | E10: ='08 Programa'!P420 -> 2135.7 | F10: ='08 Programa'!T420 -> 1879.6 | H10: 990 | I10: 880
A11: 1.1.1.iš jų darbo užmokesčiui | B11: ='08 Programa'!M420 -> 2.2 | C11: =+B11 -> 2.2 | D11: =E11-C11 -> -2.2 | E11: ='08 Programa'!Q420 -> 0 | F11: ='08 Programa'!U420 -> 0 | H11: =F11*1.1 -> 0 | I11: =H11*1.1 -> 0
A12: 1.2. turtui įsigyti ir finansiniams įsipareigojimams vykdyti | B12: ='08 Programa'!N420 -> 11598 | C12: =+B12 -> 11598 | D12: =E12-C12 -> -853.9 | E12: ='08 Programa'!R420 -> 10744.1 | F12: ='08 Programa'!V420 -> 11128.8 | H12: =H9-H10 -> 8965.2 | I12: =I9-I10 -> 9106.8
A13: 2. Finansavimas | B13: ='08 Programa'!K420 -> 13289 | C13: =C14+C19 -> 13289 | D13: =E13-C13 -> -409.2 | E13: =E9 -> 12879.8 | F13: =F9 -> 13008.4 | H13: =H9 -> 9955.2 | I13: =I9 -> 9986.8
A14: 2.1.Savivaldybės biudžetas: | B14: =B9-B19 -> 5867.7 | C14: =C9-C19 -> 5867.7 | D14: =E14-C14 -> 1354.6 | E14: =+E9-E19 -> 7222.3 | F14: =F13-F19 -> 4747.7 | H14: =H13-H19 -> 3882.6 | I14: =I13-I19 -> 3351.7
A15: 2.1.1. iš jo: valstybės biudžeto specialioji tikslinė dotacija | B15: ='08 Šaltiniai'!J4 -> 0 | C15: =B15 -> 0 | D15: 0 | E15: 0 | F15: 0 | H15: 0 | I15: =+H15*1.1 -> 0
A16: 2.1.2.iš jo: aplinkos apsaugos rėmimo specialiosios programos lėšos | B16: 0 | C16: 0 | D16: =E16-C16 -> 0 | E16: ='08 Šaltiniai'!K5 -> 0 | F16: 0 | H16: 0 | I16: 0
A17: 2.1.3. iš jo: visuomenės sveikatos rėmimo specialiosios programos lėšos | B17: 0 | C17: 0 | D17: =E17-C17 -> 0 | E17: 0 | F17: 0 | H17: 0 | I17: 0
A18: 2.1.4. iš jo: pajamos už suteiktas paslaugas | B18: 0 | C18: =+B18 -> 0 | D18: =E18-C18 -> 0 | E18: 0 | F18: 0 | H18: 0 | I18: 0
A19: 2.2. Kiti šaltiniai: | B19: =SUM(B20:B27) -> 7421.3 | C19: =B19 -> 7421.3 | D19: =E19-C19 -> -1763.8 | E19: =SUM(E20:E27) -> 5657.5 | F19: =SUM(F20:F27) -> 8260.7 | H19: =SUM(H20:H27) -> 6072.6 | I19: =SUM(I20:I27) -> 6635.1
A20: 2.2.1. švietimo įstaigų modernizavimo programa | B20: ='08 Šaltiniai'!J7 -> 0 | C20: =B20 -> 0 | D20: =E20-C20 -> 0 | E20: ='08 Šaltiniai'!K7 -> 0 | F20: 0 | H20: 0 | I20: 0
A21: 2.2.2. skolintos lėšos | B21: ='08 Šaltiniai'!J8 -> 2509.9 | C21: =B21 -> 2509.9 | D21: =E21-C21 -> -2509.9 | E21: ='08 Šaltiniai'!K8 -> 0 | F21: 1818 | H21: 0 | I21: 0
A22: 2.2.3. Valstybės investicijų programa | B22: ='08 Šaltiniai'!J15 -> 0 | C22: =B22 -> 0 | D22: =E22-C22 -> 0 | E22: ='08 Šaltiniai'!K15 -> 0 | F22: 0 | H22: ='08 Programa'!AA374 -> 0 | I22: ='08 Programa'!AB374+'08 Programa'!AB351 -> 0
A23: 2.2.4. Užsienio valstybių, tarptautinių organizacijų ir Europos Sąjungos lėšos | B23: ='08 Šaltiniai'!J9 -> 1840.5 | C23: =+B23 -> 1840.5 | D23: =E23-C23 -> 891.8 | E23: ='08 Šaltiniai'!K9 -> 2732.3 | F23: 3282.8 | H23: ='08 Programa'!AA27+'08 Programa'!AA31+'08 Programa'!AA35+'08 Programa'!AA38+'08 Programa'!AA42+'08 Programa'!AA44+'08 Programa'!AA47+'08 Programa'!AA50+'08 Programa'!AA56+'08 Programa'!AA61+'08 Programa'!AA66+'08 Programa'!AA72+'08 Programa'!AA77+'08 Programa'!AA83+'08 Programa'!AA88+'08 Programa'!AA94+'08 Programa'!AA99+'08 Programa'!AA104+'08 Programa'!AA109+'08 Programa'!AA114+'08 Programa'!AA119+'08 Programa'!AA124+'08 Programa'!AA129+'08 Programa'!AA134+'08 Programa'!AA139+'08 Programa'!AA144+'08 Programa'!AA149+'08 Programa'!AA154+'08 Programa'!AA159+'08 Programa'!AA162+'08 Programa'!AA167+'08 Programa'!AA172+'08 Programa'!AA177+'08 Programa'!AA182+'08 Programa'!AA187+'08 Programa'!AA191+'08 Programa'!AA196+'08 Programa'!AA199+'08 Programa'!AA204+'08 Programa'!AA207+'08 Programa'!AA210+'08 Programa'!AA214+'08 Programa'!AA216+'08 Programa'!AA223+'08 Programa'!AA226+'08 Programa'!AA229+'08 Programa'!AA232+'08 Programa'!AA234+'08 Programa'!AA237+'08 Programa'!AA240+'08 Programa'!AA243+'08 Programa'!AA247+'08 Programa'!AA250+'08 Programa'!AA253+'08 Programa'!AA256+'08 Programa'!AA259+'08 Programa'!AA262+'08 Programa'!AA266+'08 Programa'!AA269+'08 Programa'!AA272+'08 Programa'!AA275 -> 3062.4 | I23: ='08 Programa'!AB275+'08 Programa'!AB272+'08 Programa'!AB269+'08 Programa'!AB266+'08 Programa'!AB263+'08 Programa'!AB262+'08 Programa'!AB259+'08 Programa'!AB256+'08 Programa'!AB253+'08 Programa'!AB250+'08 Programa'!AB247+'08 Programa'!AB243+'08 Programa'!AB240+'08 Programa'!AB35+'08 Programa'!AB31+'08 Programa'!AB27 -> 3424.2
A24: 2.2.5. Valstybės lėšos | B24: ='08 Šaltiniai'!J11 -> 115.9 | C24: =B24 -> 115.9 | D24: =E24-C24 -> -90.7 | E24: ='08 Šaltiniai'!K11 -> 25.2 | F24: 35.4 | H24: ='08 Programa'!AA30+'08 Programa'!AA34 -> 10.2 | I24: ='08 Programa'!AB30+'08 Programa'!AB34 -> 10.9
A25: 2.2.6. Kelių priežiūros ir plėtros programos lėšos | B25: ='08 Šaltiniai'!J12 -> 2900.1 | C25: =B25 -> 2900.1 | D25: =E25-C25 -> -0.1 | E25: ='08 Šaltiniai'!K12 -> 2900 | F25: 3000 | H25: ='08 Programa'!AA400+'08 Programa'!AA404+'08 Programa'!AA408+'08 Programa'!AA410 -> 3000 | I25: ='08 Programa'!AB410+'08 Programa'!AB408+'08 Programa'!AB404+'08 Programa'!AB400 -> 3200
A26: 2.2.7. Viešųjų investicijų plėtros agentūros lėšos | B26: ='08 Šaltiniai'!J14 -> 54.9 | C26: =B26 -> 54.9 | D26: =E26-C26 -> -54.9 | E26: ='08 Šaltiniai'!K14 -> 0 | F26: 124.5 | H26: 0 | I26: 0
A27: 2.2.8. kitos lėšos | B27: 0 | C27: 0 | D27: 0 | E27: ='08 Šaltiniai'!K13 -> 0 | F27: =[1]Suvestine!L14 -> 0 | H27: 0 | I27: 0
