Workbook
Name Excel_BuiltIn__FilterDatabase: '04 Programa'!$A$19:$AT$19

Sheet 04 Programa
B1: (Nr. 04)
AA2: PATVIRTINTA
AA3: Šilutės rajono savivaldybės tarybos 2022 m. gruodžio 22 d.
AA4: sprendimu Nr. T1-1169
AA5: (Šilutės rajono savivaldybės tarybos 2023 m. sausio 26 d.
AA6: sprendimo Nr. T1-1200 redakcija)
AA7: (Šilutės rajono savivaldybės tarybos 2023 m. vasario 23 d.
AA8: sprendimo Nr. T1-1222 redakcija)
AA9: (Šilutės rajono savivaldybės tarybos 2023 m. lapkričio 30 d.
AA10: sprendimo Nr. redakcija)
AE11: (Nr. 04)
B12: 2023–2025 M. ŠILUTĖS RAJONO SAVIVALDYBĖS ADMINISTRACIJOS
B13: SOCIALIAI SAUGIOS IR SVEIKOS APLINKOS KŪRIMO
B14: PROGRAMOS
B15: TIKSLŲ, PROGRAMŲ, PROGRAMŲ TIKSLŲ, UŽDAVINIŲ, UŽDAVINIŲ VERTINIMO KRITERIJŲ, PRIEMONIŲ IR PRIEMONIŲ IŠLAIDŲ SUVESTINĖ
AD16: tūkst. Eur
A17: Programos kodas | B17: Programos tikslo kodas | C17: Uždavinio kodas | D17: Priemonės kodas | E17: Priemonės pavadinimas | F17: Priemonės požymis | G17: Funkcinės klasifikacijos kodas | H17: Asignavimų valdytojo kodas | I17: Priemonės vykdytojo kodas | J17: Finansavimo šaltinis | K17: 2022 m. išlaidos | O17: 2023 m. išlaidų projektas | S17: 2023 m.patvirtinta Šilutės r. savivaldybės taryboje | W17: 2023 m. faktiškai skirtas finansavimas | AA17: 2024-ųjų metų išlaidų projektas | AB17: 2025-ųjų metų išlaidų projektas | AC17: Uždavinio vertinimo kriterijus
K18: Iš viso | L18: Išlaidoms | N18: Turtui įsigyti ir finansiniams įsipareigojimams vykdyti | O18: Iš viso | P18: Išlaidoms | R18: Turtui įsigyti ir finansiniams įsipareigojimams vykdyti | S18: Iš viso | T18: Išlaidoms | V18: Turtui įsigyti ir finansiniams įsipareigojimams vykdyti | W18: Iš viso | X18: Išlaidoms | Z18: Turtui įsigyti ir finansiniams įsipareigojimams vykdyti | AC18: Pavadinimas | AD18: Planas
L19: Iš viso | M19: Darbo užmokesčiui | P19: Iš viso | Q19: Darbo užmokesčiui | T19: Iš viso | U19: Darbo užmokesčiui | X19: Iš viso | Y19: Darbo užmokesčiui | AD19: 2023 m. | AE19: 2024 m. | AF19: 2025 m.
A20: Strateginė sritis 04. Švietimo, sveikatos ir socialinio sektoriaus plėtojimas
A21: 04 Socialiai saugios ir sveikos aplinkos kūrimo programa
A22: 04 | B22: 01 | C22: Plėtoti saugią socialinę aplinką.
A23: 04 | B23: 01 | C23: Optimizuoti socialinės priežiūros ir globos paslaugas
A24: 04 | B24: 01 | C24: 01 | D24: Šeimynų tinklo plėtimas ir skatinimas
A25: 04 | B25: 01 | C25: 01 | D25: 01 | E25: Teikti socialinę globą šeimynose (263) | G25: 10.01.02.02 | H25: 188723322 | I25: 10 | J25: SB | K25: =SUM(L25,N25) -> 71.8 | L25: 71.8 | M25: 0 | N25: 0 | O25: =SUM(P25,R25) -> 94 | P25: 94 | Q25: 0 | R25: 0 | S25: =T25+V25 -> 94 | T25: 94 | U25: 0 | V25: 0 | W25: 0 | X25: 0 | Y25: 0 | Z25: 0 | AA25: 94 | AB25: 94 | AC25: Dalyvių skaičius, vnt. | AD25: 2 | AE25: 2 | AF25: 2
J26: Iš viso: | K26: =SUM(K25) -> 71.8 | L26: =SUM(L25:L25) -> 71.8 | M26: =SUM(M25) -> 0 | N26: =SUM(N25) -> 0 | O26: =SUM(O25) -> 94 | P26: =SUM(P25:P25) -> 94 | Q26: 0 | R26: 0 | S26: =SUM(S25) -> 94 | T26: =SUM(T25) -> 94 | U26: 0 | V26: 0 | W26: 0 | X26: 0 | Y26: 0 | Z26: 0 | AA26: =SUM(AA25:AA25) -> 94 | AB26: =SUM(AB25:AB25) -> 94
A27: 04 | B27: 01 | C27: 01 | E27: Iš viso uždaviniui: | K27: =K26 -> 71.8 | L27: =L26 -> 71.8 | M27: =M26 -> 0 | N27: =N26 -> 0 | O27: =O26 -> 94 | P27: =P26 -> 94 | Q27: =Q26 -> 0 | R27: 0 | S27: =S26 -> 94 | T27: =T26 -> 94 | U27: 0 | V27: 0 | W27: =W26 -> 0 | X27: =X26 -> 0 | Y27: 0 | Z27: 0 | AA27: =AA26 -> 94 | AB27: =AB26 -> 94
A28: 04 | B28: 01 | C28: 02 | D28: Nestacionarių socialinių paslaugų organizavimas ir teikimas Šilutės socialinių paslaugų centre
A29: 04 | B29: 01 | C29: 02 | D29: 01 | E29: Teikti socialinės priežiūros paslaugas socialinę riziką patiriančioms šeimoms ir jų vaikams Šilutės mieste ir rajono seniūnijose (42) | G29: 10.07.01.02 | H29: 302944535 | I29: 10.2 | J29: SB(VB) | K29: =L29+N29 -> 599.5 | L29: 599.5 | M29: 575.2 | N29: 0 | O29: =SUM(P29,R29) -> 886.8 | P29: 886.8 | Q29: 855.7 | R29: 0 | S29: =T29+V29 -> 717.2 | T29: 717.2 | U29: 689.5 | V29: 0 | W29: =+X29+Z29 -> 0 | X29: 0 | Y29: 0 | Z29: 0 | AA29: 975.4 | AB29: 1073 | AC29: Paslaugų skaičius, vnt. | AD29: 225 | AE29: 225 | AF29: 225
J30: VL | K30: =L30+N30 -> 3.2 | L30: 3.2 | M30: 3.2 | N30: 0 | O30: =P30+R30 -> 0 | P30: 0 | Q30: 0 | R30: 0 | S30: =T30+V30 -> 39 | T30: 39 | U30: 38.4 | V30: 0 | W30: =X30+Z30 -> 0 | X30: 0 | Y30: 0 | Z30: 0 | AA30: 0 | AB30: 0
J31: SB | K31: =+L31+N31 -> 54.9 | L31: 54.9 | M31: 28.3 | N31: 0 | O31: =P31+R31 -> 58.3 | P31: 58.3 | Q31: 25.8 | R31: 0 | S31: =+T31+V31 -> 55.3 | T31: 55.3 | U31: 27.8 | V31: 0 | W31: =+X31+Z31 -> 0 | X31: 0 | Y31: 0 | Z31: 0 | AA31: 64 | AB31: 70.4
J32: Iš viso: | K32: =SUM(K29:K31) -> 657.6 | L32: =SUM(L29:L31) -> 657.6 | M32: =SUM(M29:M31) -> 606.7 | N32: =SUM(N29:N31) -> 0 | O32: =SUM(O29:O31) -> 945.1 | P32: =SUM(P29:P31) -> 945.1 | Q32: =SUM(Q29:Q31) -> 881.5 | R32: =SUM(R29:R31) -> 0 | ... AB32: =SUM(AB29:AB31) -> 1143.4
A33: 04 | B33: 01 | C33: 02 | D33: 04 | E33: Teikti apgyvendinimo paslaugas nakvynės namuose, krizių centre ir laikino apnakvindinimo paslaugas | G33: 10.07.01.02 | H33: 302944535 | I33: 10.2 | J33: SB | K33: =L33+N33 -> 197.5 | L33: 197.5 | M33: 178.6 | N33: 0 | O33: =SUM(P33,R33) -> 232.8 | P33: 229.9 | Q33: 207.6 | R33: 2.9 | S33: =+T33 -> 218.5 | T33: 218.5 | U33: 197.3 | V33: 0 | W33: =+X33+Z33 -> 0 | X33: 0 | Y33: 0 | Z33: 0 | AA33: 252.9 | AB33: 278 | AC33: Paslaugų vietų skaičius, vnt. | AD33: 36 | AE33: 36 | AF33: 36
J34: SB(SP) | K34: =+L34 -> 9 | L34: 9 | M34: 0 | N34: 0 | O34: =SUM(P34,R34) -> 10.8 | P34: 10.8 | Q34: 0 | R34: 0 | S34: =+T34 -> 8.2 | T34: 8.2 | U34: 0 | V34: 0 | W34: =+X34 -> 0 | X34: 0 | Y34: 0 | Z34: 0 | AA34: 11.4 | AB34: 11.9
J35: KTL | K35: =L35+N35 -> 0 | L35: 0 | M35: 0 | N35: 0 | O35: =P35+R35 -> 0 | P35: 0 | Q35: 0 | R35: 0 | S35: =T35+V35 -> 0 | T35: 0 | U35: 0 | V35: 0 | W35: =X35+Z35 -> 0 | X35: 0 | Y35: 0 | Z35: 0 | AA35: 0 | AB35: 0
J36: Iš viso: | K36: =SUM(K33:K35) -> 206.5 | L36: =SUM(L33:L35) -> 206.5 | M36: =SUM(M33:M35) -> 178.6 | N36: =SUM(N33:N35) -> 0 | O36: =SUM(O33:O35) -> 243.6 | P36: =SUM(P33:P35) -> 240.7 | Q36: =SUM(Q33:Q35) -> 207.6 | R36: =SUM(R33:R35) -> 2.9 | ... AB36: =SUM(AB33:AB35) -> 289.9
A37: 04 | B37: 01 | C37: 02 | D37: 05 | E37: Teikti Dienos socialinės globos paslaugas Socialinių paslaugų centre ir asmenų namuose | G37: 10.09.01.01 | H37: 302944535 | I37: 10.2 | J37: SB(VB) | K37: =+L37 -> 560.1 | L37: 560.1 | M37: 0 | N37: 0 | O37: =SUM(P37,R37) -> 600 | P37: 600 | Q37: 0 | R37: 0 | S37: =+T37 -> 350 | T37: 350 | U37: 0 | V37: 0 | W37: =+X37+Z37 -> 0 | X37: 0 | Y37: 0 | Z37: 0 | AA37: 610 | AB37: 610 | AC37: Paslaugų vietų skaičius, vnt. | AD37: 65 | AE37: 65 | AF37: 65 | AG37: 2016 metams: 11 etatų iš SB lėšų.
J38: VL | K38: =L38+N38 -> 172.3 | L38: 172.3 | M38: 169.8 | N38: 0 | O38: =SUM(P38,R38) -> 260 | P38: 260 | Q38: 256.2 | R38: 0 | S38: =T38+V38 -> 0 | T38: 0 | U38: 0 | V38: 0 | W38: =+X38+Z38 -> 0 | X38: 0 | Y38: 0 | Z38: 0 | AA38: 260 | AB38: 260
J39: SB | K39: =L39+N39 -> 116.5 | L39: 116.5 | M39: 109.6 | N39: 0 | O39: =SUM(P39,R39) -> 304.2 | P39: 304.2 | Q39: 286.1 | R39: 0 | S39: =T39+V39 -> 270.6 | T39: 270.6 | U39: 266.3 | V39: 0 | W39: =+X39+Z39 -> 0 | X39: 0 | Y39: 0 | Z39: 0 | AA39: 334.7 | AB39: 368.3
J40: SB(SP) | K40: =L40+N40 -> 61.8 | L40: 54.1 | M40: 35.1 | N40: 7.7 | O40: =SUM(P40,R40) -> 81 | P40: 81 | Q40: 61.9 | R40: 0 | S40: =T40+V40 -> 71.4 | T40: 71.4 | U40: 56 | V40: 0 | W40: =+X40+Z40 -> 0 | X40: 0 | Y40: 0 | Z40: 0 | AA40: 83.9 | AB40: 89
...

Sheet 04 Išlaidų suvestinė
A1: Šilutės rajono savivaldybės administracijos 2023–2025 m. SVP Socialiai saugios ir sveikos aplinkos kūrimo programos išlaidų suvestinė | T1: (Nr. 4)
A3: tūkst. Eur
A4: Strateginio tikslo kodas | B4: Programos kodas | C4: Programos pavadinimas | D4: Funkcinės klasifikacijos kodas | E4: Asignavimų valdytojo kodas | F4: 2022 m. išlaidos | J4: 2023 m. išlaidų projektas | N4: 2023 m. patvirtinta Šilutės r. savivaldybės taryboje | R4: 2023 m. faktiškai skirtas finansavimas
F5: Iš viso | G5: Išlaidoms | I5: Turtui įsigyti ir finansiniams įsipareigojimams vykdyti | J5: Iš viso | K5: Išlaidoms | M5: Turtui įsigyti ir finansiniams įsipareigojimams vykdyti | N5: Iš viso | O5: Išlaidoms | Q5: Turtui įsigyti ir finansiniams įsipareigojimams vykdyti | R5: Iš viso | S5: Išlaidoms | U5: Turtui įsigyti ir finansiniams įsipareigojimams vykdyti
G6: Iš viso | H6: Iš jų darbo užmokesčiui | K6: Iš viso | L6: Iš jų darbo užmokesčiui | O6: Iš viso | P6: Iš jų darbo užmokesčiui | S6: Iš viso | T6: Iš jų darbo užmokesčiui
A7: 4 | B7: 4 | C7: Socialiai saugios ir sveikos aplinkos kūrimo programa | D7: 10.01.02.02 10.07.01.02 10.09.01.01 10.09.01.09 10.04.01.01 10.01.02.01 10.07.01.01 10.04.01.40 10.01.02.40 10.03.01.01 10.06.01.01 07.06.01.02 04.01.05.18 05.06.01.01 07.04.01.02 07.04.01.01 08.02.01.09 08.02.01.06 03.02.01.01 02.02.01.01 05.03.01.01 01.03.02.01 07.06.01.06 | E7: 188723322 302944535 177393649 305548441 301791595 304158399 | F7: ='04 Programa'!K246 -> 25218.9 | G7: ='04 Programa'!L246 -> 25168.8 | H7: ='04 Programa'!M246 -> 4537.9 | I7: ='04 Programa'!N246 -> 50.1 | J7: ='04 Programa'!O246 -> 28562.7 | K7: ='04 Programa'!P246 -> 28553.5 | L7: ='04 Programa'!Q246 -> 6033.6 | M7: ='04 Programa'!R246 -> 9.2 | ... Q7: ='04 Programa'!V246 -> 12.5
A8: IŠ VISO: | F8: =SUM(F7) -> 25218.9 | G8: =SUM(G7) -> 25168.8 | H8: =SUM(H7) -> 4537.9 | I8: =SUM(I7) -> 50.1 | J8: =SUM(J7) -> 28562.7 | K8: =SUM(K7) -> 28553.5 | L8: =SUM(L7) -> 6033.6 | M8: =SUM(M7) -> 9.2 | N8: =SUM(N7) -> 27779.1 | O8: =O7 -> 27764.6 | P8: =SUM(P7) -> 5422.5 | Q8: =SUM(Q7) -> 12.5 | R8: =SUM(R7) -> 0 | S8: =SUM(S7) -> 0 | T8: =SUM(T7) -> 0 | U8: =SUM(U7) -> 0

Sheet 04 Šaltiniai
A1: 04. Socialiai saugios ir sveikos aplinkos kūrimo programa
A2: Finansavimo šaltiniai | J2: 2022 m. išlaidos, tūkst. Eur | K2: 2023 m. išlaidų projektas, tūkst. Eur | L2: 2023 m. patvirtinta Šilutės r. savivaldybės taryboje, tūkst. Eur | U2: 2023 m. faktiškai skirtas finansavimas, tūkst. Eur
A3: Savivaldybės biudžetas SB | J3: ='04 Programa'!K25+'04 Programa'!K31+'04 Programa'!K33+'04 Programa'!K39+'04 Programa'!K42+'04 Programa'!K45+'04 Programa'!K49+'04 Programa'!K58+'04 Programa'!K63+'04 Programa'!K70+'04 Programa'!K73+'04 Programa'!K76+'04 Programa'!K81+'04 Programa'!K105+'04 Programa'!K109+'04 Programa'!K112+'04 Programa'!K114+'04 Programa'!K117+'04 Programa'!K123+'04 Programa'!K133+'04 Programa'!K136+'04 Programa'!K139+'04 Programa'!K144+'04 Programa'!K152+'04 Programa'!K159+'04 Programa'!K170+100.8+'04 Programa'!K187+'04 Programa'!K196+'04 Programa'!K199+16.5+'04 Programa'!K242 -> 5357.1 | K3: ='04 Programa'!O242+0+'04 Programa'!O199+'04 Programa'!O196+'04 Programa'!O187+115+67.8+'04 Programa'!O159+'04 Programa'!O152+'04 Programa'!O144+'04 Programa'!O139+'04 Programa'!O136+'04 Programa'!O133+'04 Programa'!O123+'04 Programa'!O117+'04 Programa'!O114+'04 Programa'!O112+'04 Programa'!O109+'04 Programa'!O105+'04 Programa'!O81+'04 Programa'!O76+'04 Programa'!O73+'04 Programa'!O70+'04 Programa'!O63+'04 Programa'!O58+'04 Programa'!O49+'04 Programa'!O45+'04 Programa'!O42+'04 Programa'!O39+'04 Programa'!O33+'04 Programa'!O31+'04 Programa'!O25 -> 7426.6 | L3: ='04 Programa'!S242+0+'04 Programa'!S199+'04 Programa'!S196+'04 Programa'!S187+115+'04 Programa'!S170+'04 Programa'!S159+'04 Programa'!S152+'04 Programa'!S144+'04 Programa'!S139+'04 Programa'!S136+'04 Programa'!S133+'04 Programa'!S123+'04 Programa'!S117+'04 Programa'!S114+'04 Programa'!S112+'04 Programa'!S109+'04 Programa'!S105+'04 Programa'!S81+'04 Programa'!S76+'04 Programa'!S73+'04 Programa'!S70+'04 Programa'!S63+'04 Programa'!S58+'04 Programa'!S49+'04 Programa'!S45+'04 Programa'!S42+'04 Programa'!S39+'04 Programa'!S33+'04 Programa'!S31+'04 Programa'!S25 -> 6969.3
A4: Valstybės biudžeto specialioji tikslinė dotacija SB(VB) | J4: ='04 Programa'!K223+'04 Programa'!K205+'04 Programa'!K198+'04 Programa'!K195+'04 Programa'!K185+75.4+415+'04 Programa'!K147+'04 Programa'!K143+'04 Programa'!K137+'04 Programa'!K134+'04 Programa'!K129+'04 Programa'!K127+'04 Programa'!K125+'04 Programa'!K121+'04 Programa'!K119+'04 Programa'!K115+'04 Programa'!K110+'04 Programa'!K107+'04 Programa'!K103+'04 Programa'!K101+'04 Programa'!K99+'04 Programa'!K97+'04 Programa'!K85+'04 Programa'!K74+'04 Programa'!K71+'04 Programa'!K62+'04 Programa'!K60+'04 Programa'!K57+'04 Programa'!K52+'04 Programa'!K50+'04 Programa'!K37+'04 Programa'!K29 -> 5604 | K4: ='04 Programa'!O29+'04 Programa'!O37+'04 Programa'!O50+'04 Programa'!O52+'04 Programa'!O57+'04 Programa'!O60+'04 Programa'!O62+'04 Programa'!O71+'04 Programa'!O74+'04 Programa'!O85+'04 Programa'!O97+'04 Programa'!O99+'04 Programa'!O101+'04 Programa'!O103+'04 Programa'!O107+'04 Programa'!O110+'04 Programa'!O115+'04 Programa'!O119+'04 Programa'!O121+'04 Programa'!O125+'04 Programa'!O127+'04 Programa'!O129+'04 Programa'!O134+'04 Programa'!O137+'04 Programa'!O143+'04 Programa'!O147+357.5+72.7+'04 Programa'!O185+'04 Programa'!O195+'04 Programa'!O198+'04 Programa'!O205+'04 Programa'!O223 -> 5355.5 | L4: ='04 Programa'!S29+'04 Programa'!S37+'04 Programa'!S50+'04 Programa'!S52+'04 Programa'!S57+'04 Programa'!S60+'04 Programa'!S62+'04 Programa'!S71+'04 Programa'!S74+'04 Programa'!S85+'04 Programa'!S97+'04 Programa'!S99+'04 Programa'!S101+'04 Programa'!S103+'04 Programa'!S107+'04 Programa'!S110+'04 Programa'!S115+'04 Programa'!S119+'04 Programa'!S121+'04 Programa'!S125+'04 Programa'!S127+'04 Programa'!S129+'04 Programa'!S134+'04 Programa'!S137+'04 Programa'!S143+'04 Programa'!S147+365.4+74.2+'04 Programa'!S185+'04 Programa'!S195+'04 Programa'!S198+'04 Programa'!S205+'04 Programa'!S223 -> 4526.7
A5: Aplikos apsaugos rėmimo specialiosios programos lėšos SB(AA) | J5: ='04 Programa'!K236+'04 Programa'!K234+'04 Programa'!K231+43.4+'04 Programa'!L217+'04 Programa'!K212+'04 Programa'!K160 -> 209.5 | K5: ='04 Programa'!O160+'04 Programa'!O212+'04 Programa'!O217+50+'04 Programa'!O231+'04 Programa'!O234+'04 Programa'!O236 -> 182 | L5: ='04 Programa'!S160+'04 Programa'!S212+'04 Programa'!S217+'04 Programa'!S222+'04 Programa'!S231+'04 Programa'!S234+'04 Programa'!S236 -> 420.9
A6: Pajamos už suteiktas paslaugas SB(SP) | J6: ='04 Programa'!K34+'04 Programa'!K40+'04 Programa'!K43+'04 Programa'!K47+'04 Programa'!K53+'04 Programa'!K64+'04 Programa'!K172 -> 557.5 | K6: ='04 Programa'!O172+'04 Programa'!O64+'04 Programa'!O53+'04 Programa'!O47+'04 Programa'!O43+'04 Programa'!O40+'04 Programa'!O34 -> 634.3 | L6: ='04 Programa'!S34+'04 Programa'!S40+'04 Programa'!S43+'04 Programa'!S47+'04 Programa'!S53+'04 Programa'!S64+'04 Programa'!S172 -> 556
A7: Švietimo įstaigų modernizavimo programa SB(ŠIMP) | J7: 0 | K7: 0 | L7: 0
A8: Skolintos lėšos SL | J8: 0 | K8: 0 | L8: 0
A9: Užsienio valstybių, tarptautinių organizacijų ir Europos Sąjungos lėšos ES, EEE | J9: ='04 Programa'!K46+'04 Programa'!K77+'04 Programa'!K79+'04 Programa'!K82+'04 Programa'!K140+'04 Programa'!K148 -> 154.9 | K9: ='04 Programa'!O46+'04 Programa'!O77+'04 Programa'!O79+'04 Programa'!O82+'04 Programa'!O140+'04 Programa'!O148 -> 173.9 | L9: ='04 Programa'!S148+'04 Programa'!S140+'04 Programa'!S82+'04 Programa'!S79+'04 Programa'!S77+'04 Programa'!S46 -> 71
A10: Visuomenės sveikatos apsaugos rėmimo specialioji programa SB(VS) | J10: 0 | K10: 0 | L10: 0
A11: Valstybės lėšos VL | J11: ='04 Programa'!K189+'04 Programa'!K145+'04 Programa'!K141+'04 Programa'!K95+'04 Programa'!K93+'04 Programa'!K91+'04 Programa'!K89+'04 Programa'!K83+'04 Programa'!K65+'04 Programa'!K38+'04 Programa'!K30 -> 13335.9 | K11: ='04 Programa'!O30+'04 Programa'!O38+'04 Programa'!O83+'04 Programa'!O89+'04 Programa'!O91+'04 Programa'!O93+'04 Programa'!O95+'04 Programa'!O141+'04 Programa'!O145+'04 Programa'!O189 -> 14790.4 | L11: ='04 Programa'!S30+'04 Programa'!S38+'04 Programa'!S65+'04 Programa'!S83+'04 Programa'!S89+'04 Programa'!S91+'04 Programa'!S93+'04 Programa'!S95+'04 Programa'!S141+'04 Programa'!S145+'04 Programa'!S189 -> 15235.2
A12: Kitos lėšos KTL | J12: 0 | K12: 0 | L12: 0
A13: Kelių priežiūros ir plėtros programa KPPP | J13: 0 | K13: 0 | L13: 0
A14: Valstybės investicijų programa VIP | J14: 0 | K14: 0 | L14: 0
A15: Iš viso: | J15: =SUM(J3:J14) -> 25218.9 | K15: =SUM(K3:K14) -> 28562.7 | L15: =SUM(L3:L14) -> 27779.1

Sheet 04 Bendros lėšos
A1: 04. Socialiai saugios ir sveikos apinkos kūrimo programa
A2: Bendras lėšų poreikis ir numatomi finansavimo šaltiniai
A3: tūkst. Eur
A4: Ekonominės klasifikacijos grupės | B4: Asignavimai 2022 m. | C4: Paraiška biudžetiniams | F4: 2023-iems m. patvirtinta Šilutės r. savivaldybės taryboje | G4: 2023-iems m. faktiškai skirta | H4: Projektas 2024 m. | I4: Projektas 2025 m.
C5: 2023 m.
C6: bazinis biudžetas | D6: pakeitimai/ (+padidėjimas -sumažėjimas) | E6: iš viso
A9: 1. Iš viso lėšų poreikis: | B9: ='04 Programa'!K246 -> 25218.9 | C9: =+B9 -> 25218.9 | D9: =E9-C9 -> 3343.8 | E9: ='04 Programa'!O246 -> 28562.7 | F9: ='04 Programa'!S246 -> 27779.1 | H9: ='04 Programa'!AA246 -> 28602.4 | I9: ='04 Programa'!AB246 -> 29032.7
A10: 1.1.išlaidoms | B10: ='04 Programa'!L246 -> 25168.8 | C10: =+B10 -> 25168.8 | D10: =E10-C10 -> 3384.7 | E10: ='04 Programa'!P246 -> 28553.5 | F10: ='04 Programa'!T246 -> 27764.6 | H10: =H9-H12 -> 28592.28 | I10: =I9-I12 -> 29021.568
A11: 1.1.1.iš jų darbo užmokesčiui | B11: ='04 Programa'!M246 -> 4537.9 | C11: =+B11 -> 4537.9 | D11: =E11-C11 -> 1495.7 | E11: ='04 Programa'!Q246 -> 6033.6 | F11: ='04 Programa'!U246 -> 5422.5 | H11: =E11*1.1 -> 6636.96 | I11: =H11*1.1 -> 7300.656
A12: 1.2. turtui įsigyti ir finansiniams įsipareigojimams vykdyti | B12: ='04 Programa'!N246 -> 50.1 | C12: =+B12 -> 50.1 | D12: =E12-C12 -> -40.9 | E12: ='04 Programa'!R246 -> 9.2 | F12: ='04 Programa'!V246 -> 12.5 | H12: =E12*1.1 -> 10.12 | I12: =H12*1.1 -> 11.132
A13: 2. Finansavimas | B13: =B14+B19 -> 25218.9 | C13: =C14+C19 -> 25218.9 | D13: =E13-C13 -> 3343.8 | E13: =E14+E19 -> 28562.7 | F13: =F9 -> 27779.1 | H13: =H9 -> 28602.4 | I13: =I9 -> 29032.7
A14: 2.1.Savivaldybės biudžetas: | B14: =B9-B19 -> 11728.1 | C14: =C9-C19 -> 11728.1 | D14: =E14-C14 -> 1870.3 | E14: =+E9-E19 -> 13598.4 | F14: =+F9-F19 -> 12472.9 | H14: =H13-H19 -> 13652.1 | I14: =I13-I19 -> 14082.4
A15: 2.1.1. iš jo: valstybės biudžeto specialioji tikslinė dotacija | B15: ='04 Šaltiniai'!J4 -> 5604 | C15: =B15 -> 5604 | D15: =E15-C15 -> -248.5 | E15: ='04 Šaltiniai'!K4 -> 5355.5 | F15: 4526.7 | H15: ='04 Programa'!AA223+'04 Programa'!AA205+'04 Programa'!AA198+'04 Programa'!AA195+'04 Programa'!AA185+72.7+357.5+'04 Programa'!AA147+'04 Programa'!AA143+'04 Programa'!AA137+'04 Programa'!AA134+'04 Programa'!AA129+'04 Programa'!AA127+'04 Programa'!AA125+'04 Programa'!AA121+'04 Programa'!AA119+'04 Programa'!AA115+'04 Programa'!AA110+'04 Programa'!AA107+'04 Programa'!AA103+'04 Programa'!AA101+'04 Programa'!AA99+'04 Programa'!AA97+'04 Programa'!AA85+'04 Programa'!AA74+'04 Programa'!AA71+'04 Programa'!AA62+'04 Programa'!AA60+'04 Programa'!AA57+'04 Programa'!AA52+'04 Programa'!AA50+'04 Programa'!AA37+'04 Programa'!AA29 -> 5560.5 | I15: ='04 Programa'!AB29+'04 Programa'!AB37+'04 Programa'!AB50+'04 Programa'!AB52+'04 Programa'!AB57+'04 Programa'!AB60+'04 Programa'!AB62+'04 Programa'!AB71+'04 Programa'!AB74+'04 Programa'!AB85+'04 Programa'!AB97+'04 Programa'!AB99+'04 Programa'!AB101+'04 Programa'!AB103+'04 Programa'!AB107+'04 Programa'!AB110+'04 Programa'!AB115+'04 Programa'!AB119+'04 Programa'!AB121+'04 Programa'!AB125+'04 Programa'!AB127+'04 Programa'!AB129+'04 Programa'!AB134+'04 Programa'!AB137+'04 Programa'!AB143+'04 Programa'!AB147+357.5+72.7+'04 Programa'!AB185+'04 Programa'!AB195+'04 Programa'!AB198+'04 Programa'!AB205+'04 Programa'!AB223 -> 5698.8
A16: 2.1.2.iš jo: aplinkos apsaugos rėmimo specialiosios programos lėšos | B16: ='04 Šaltiniai'!J5 -> 209.5 | C16: =B16 -> 209.5 | D16: =E16-C16 -> -27.5 | E16: ='04 Šaltiniai'!K5 -> 182 | F16: 420.9 | H16: ='04 Programa'!AA236+'04 Programa'!AA234+'04 Programa'!AA231+'04 Programa'!AA222+'04 Programa'!AA217+'04 Programa'!AA160 -> 163 | I16: ='04 Programa'!AB160+'04 Programa'!AB212+'04 Programa'!AB217+35+'04 Programa'!AB231+'04 Programa'!AB234+'04 Programa'!AB236 -> 172
A17: 2.1.3. iš jo: visuomenės sveikatos rėmimo specialiosios programos lėšos | B17: 0 | C17: 0 | D17: =E17-C17 -> 0 | E17: 0 | F17: 0 | H17: 0 | I17: 0
A18: 2.1.4. iš jo: iš pajamų už suteiktas paslaugas | B18: ='04 Šaltiniai'!J6 -> 557.5 | C18: =+B18 -> 557.5 | D18: =E18-C18 -> 76.8 | E18: ='04 Šaltiniai'!K6 -> 634.3 | F18: 556 | H18: ='04 Programa'!AA172+'04 Programa'!AA64+'04 Programa'!AA47+'04 Programa'!AA43+'04 Programa'!AA40+'04 Programa'!AA34 -> 659.6 | I18: ='04 Programa'!AB34+'04 Programa'!AB40+'04 Programa'!AB43+'04 Programa'!AB47+'04 Programa'!AB64+'04 Programa'!AB172 -> 694
A19: 2.2. Kiti šaltiniai: | B19: =SUM(B20:B26) -> 13490.8 | C19: =C20+C23+C25+C26+C24 -> 13490.8 | D19: =E19-C19 -> 1473.5 | E19: =SUM(E20:E26) -> 14964.3 | F19: =SUM(F20:F26) -> 15306.2 | H19: =SUM(H20:H26) -> 14950.3 | I19: =SUM(I20:I26) -> 14950.3
A20: 2.2.1. švietimo įstaigų modernizavimo programa | B20: 0 | C20: 0 | D20: =E20-C20 -> 0 | E20: 0 | F20: 0 | H20: 0 | I20: 0
A21: 2.2.2. skolintos lėšos | B21: 0 | C21: 0 | D21: =E21-C21 -> 0 | E21: 0 | F21: 0 | H21: 0 | I21: 0
A22: 2.2.3. Valstybės investicijų programa | B22: 0 | C22: 0 | D22: =E22-C22 -> 0 | E22: 0 | F22: 0 | H22: 0 | I22: 0
A23: 2.2.4. Užsienio valstybių, tarptautinių organizacijų ir Europos Sąjungos lėšos | B23: ='04 Šaltiniai'!J9 -> 154.9 | C23: =+B23 -> 154.9 | D23: =E23-C23 -> 19 | E23: 173.9 | F23: 71 | H23: ='04 Programa'!AA148+'04 Programa'!AA140+'04 Programa'!AA82+'04 Programa'!AA79+'04 Programa'!AA77+'04 Programa'!AA46 -> 159.9 | I23: ='04 Programa'!AB148+'04 Programa'!AB140+'04 Programa'!AB82+'04 Programa'!AB79+'04 Programa'!AB77+'04 Programa'!AB46 -> 159.9
A24: 2.2.5. Valstybės lėšos | B24: ='04 Šaltiniai'!J11 -> 13335.9 | C24: =B24 -> 13335.9 | D24: =E24-C24 -> 1454.5 | E24: ='04 Šaltiniai'!K11 -> 14790.4 | F24: 15235.2 | H24: ='04 Programa'!AA30+'04 Programa'!AA38+'04 Programa'!AA65+'04 Programa'!AA83+'04 Programa'!AA89+'04 Programa'!AA91+'04 Programa'!AA93+'04 Programa'!AA95+'04 Programa'!AA141+'04 Programa'!AA145+'04 Programa'!AA189 -> 14790.4 | I24: ='04 Programa'!AB30+'04 Programa'!AB38+'04 Programa'!AB65+'04 Programa'!AB83+'04 Programa'!AB89+'04 Programa'!AB91+'04 Programa'!AB93+'04 Programa'!AB95+'04 Programa'!AB141+'04 Programa'!AB145+'04 Programa'!AB189 -> 14790.4
A25: 2.2.6. Kelių priežiūros ir plėtros programos lėšos | B25: 0 | C25: 0 | D25: =E25-C25 -> 0 | E25: 0 | F25: 0 | H25: 0 | I25: 0
A26: 2.2.7. kitos lėšos | B26: ='04 Šaltiniai'!J12 -> 0 | C26: =B26 -> 0 | D26: =E26-C26 -> 0 | E26: ='04 Šaltiniai'!K12 -> 0 | F26: 0 | H26: 0 | I26: 0
