Workbook
Name Excel_BuiltIn__FilterDatabase: '04 Programa'!$A$19:$AT$19

Sheet 04 Programa
B1: (Nr. 04)
AA2: PATVIRTINTA
AA3: Šilutės rajono savivaldybės tarybos 2022 m. gruodžio 22 d.
AA4: sprendimu Nr. T1-1169
AA5: (Šilutės rajono savivaldybės tarybos 2023 m. sausio 26 d.
AA6: sprendimo Nr. T1-1200 redakcija)
AA7: (Šilutės rajono savivaldybės tarybos 2023 m. vasario 23 d.
AA8: sprendimo Nr. T1-1222 redakcija)
AA9: (Šilutės rajono savivaldybės tarybos 2023 m. lapkričio 30 d.
AA10: sprendimo Nr. redakcija)
AE11: (Nr. 04)
B12: 2023–2025 M. ŠILUTĖS RAJONO SAVIVALDYBĖS ADMINISTRACIJOS
B13: SOCIALIAI SAUGIOS IR SVEIKOS APLINKOS KŪRIMO
B14: PROGRAMOS
B15: TIKSLŲ, PROGRAMŲ, PROGRAMŲ TIKSLŲ, UŽDAVINIŲ, UŽDAVINIŲ VERTINIMO KRITERIJŲ, PRIEMONIŲ IR PRIEMONIŲ IŠLAIDŲ SUVESTINĖ
AD16: tūkst. Eur
A17: Programos kodas | B17: Programos tikslo kodas | C17: Uždavinio kodas | D17: Priemonės kodas | E17: Priemonės pavadinimas | F17: Priemonės požymis | G17: Funkcinės klasifikacijos kodas | H17: Asignavimų valdytojo kodas | I17: Priemonės vykdytojo kodas | J17: Finansavimo šaltinis | K17: 2022 m. išlaidos | O17: 2023 m. išlaidų projektas | S17: 2023 m.patvirtinta Šilutės r. savivaldybės taryboje | W17: 2023 m. faktiškai skirtas finansavimas | AA17: 2024-ųjų metų išlaidų projektas | AB17: 2025-ųjų metų išlaidų projektas | AC17: Uždavinio vertinimo kriterijus
K18: Iš viso | L18: Išlaidoms | N18: Turtui įsigyti ir finansiniams įsipareigojimams vykdyti | O18: Iš viso | P18: Išlaidoms | R18: Turtui įsigyti ir finansiniams įsipareigojimams vykdyti | S18: Iš viso | T18: Išlaidoms | V18: Turtui įsigyti ir finansiniams įsipareigojimams vykdyti | W18: Iš viso | X18: Išlaidoms | Z18: Turtui įsigyti ir finansiniams įsipareigojimams vykdyti | AC18: Pavadinimas | AD18: Planas
L19: Iš viso | M19: Darbo užmokesčiui | P19: Iš viso | Q19: Darbo užmokesčiui | T19: Iš viso | U19: Darbo užmokesčiui | X19: Iš viso | Y19: Darbo užmokesčiui | AD19: 2023 m. | AE19: 2024 m. | AF19: 2025 m.
A20: Strateginė sritis 04. Švietimo, sveikatos ir socialinio sektoriaus plėtojimas
A21: 04 Socialiai saugios ir sveikos aplinkos kūrimo programa
A22: 04 | B22: 01 | C22: Plėtoti saugią socialinę aplinką.
A23: 04 | B23: 01 | C23: Optimizuoti socialinės priežiūros ir globos paslaugas
A24: 04 | B24: 01 | C24: 01 | D24: Šeimynų tinklo plėtimas ir skatinimas
A25: 04 | B25: 01 | C25: 01 | D25: 01 | E25: Teikti socialinę globą šeimynose (263) | G25: 10.01.02.02 | H25: 188723322 | I25: 10 | J25: SB | K25: =SUM(L25,N25) -> 71.8 | L25: 71.8 | M25: 0 | N25: 0 | O25: =SUM(P25,R25) -> 94 | P25: 94 | Q25: 0 | R25: 0 | S25: =T25+V25 -> 94 | T25: 94 | U25: 0 | V25: 0 | W25: 0 | X25: 0 | Y25: 0 | Z25: 0 | AA25: 94 | AB25: 94 | AC25: Dalyvių skaičius, vnt. | AD25: 2 | AE25: 2 | AF25: 2
J26: Iš viso: | K26: =SUM(K25) -> 71.8 | L26: =SUM(L25:L25) -> 71.8 | M26: =SUM(M25) -> 0 | N26: =SUM(N25) -> 0 | O26: =SUM(O25) -> 94 | P26: =SUM(P25:P25) -> 94 | Q26: 0 | R26: 0 | S26: =SUM(S25) -> 94 | T26: =SUM(T25) -> 94 | U26: 0 | V26: 0 | W26: 0 | X26: 0 | Y26: 0 | Z26: 0 | AA26: =SUM(AA25:AA25) -> 94 | AB26: =SUM(AB25:AB25) -> 94
A27: 04 | B27: 01 | C27: 01 | E27: Iš viso uždaviniui: | K27: =K26 -> 71.8 | L27: =L26 -> 71.8 | M27: =M26 -> 0 | N27: =N26 -> 0 | O27: =O26 -> 94 | P27: =P26 -> 94 | Q27: =Q26 -> 0 | R27: 0 | S27: =S26 -> 94 | T27: =T26 -> 94 | U27: 0 | V27: 0 | W27: =W26 -> 0 | X27: =X26 -> 0 | Y27: 0 | Z27: 0 | AA27: =AA26 -> 94 | AB27: =AB26 -> 94
A28: 04 | B28: 01 | C28: 02 | D28: Nestacionarių socialinių paslaugų organizavimas ir teikimas Šilutės socialinių paslaugų centre
A29: 04 | B29: 01 | C29: 02 | D29: 01 | E29: Teikti socialinės priežiūros paslaugas socialinę riziką patiriančioms šeimoms ir jų vaikams Šilutės mieste ir rajono seniūnijose (42) | G29: 10.07.01.02 | H29: 302944535 | I29: 10.2 | J29: SB(VB) | K29: =L29+N29 -> 599.5 | L29: 599.5 | M29: 575.2 | N29: 0 | O29: =SUM(P29,R29) -> 886.8 | P29: 886.8 | Q29: 855.7 | R29: 0 | S29: =T29+V29 -> 717.2 | T29: 717.2 | U29: 689.5 | V29: 0 | W29: =+X29+Z29 -> 0 | X29: 0 | Y29: 0 | Z29: 0 | AA29: 975.4 | AB29: 1073 | AC29: Paslaugų skaičius, vnt. | AD29: 225 | AE29: 225 | AF29: 225
J30: VL | K30: =L30+N30 -> 3.2 | L30: 3.2 | M30: 3.2 | N30: 0 | O30: =P30+R30 -> 0 | P30: 0 | Q30: 0 | R30: 0 | S30: =T30+V30 -> 39 | T30: 39 | U30: 38.4 | V30: 0 | W30: =X30+Z30 -> 0 | X30: 0 | Y30: 0 | Z30: 0 | AA30: 0 | AB30: 0
J31: SB | K31: =+L31+N31 -> 54.9 | L31: 54.9 | M31: 28.3 | N31: 0 | O31: =P31+R31 -> 58.3 | P31: 58.3 | Q31: 25.8 | R31: 0 | S31: =+T31+V31 -> 55.3 | T31: 55.3 | U31: 27.8 | V31: 0 | W31: =+X31+Z31 -> 0 | X31: 0 | Y31: 0 | Z31: 0 | AA31: 64 | AB31: 70.4
J32: Iš viso: | K32: =SUM(K29:K31) -> 657.6 | L32: =SUM(L29:L31) -> 657.6 | M32: =SUM(M29:M31) -> 606.7 | N32: =SUM(N29:N31) -> 0 | O32: =SUM(O29:O31) -> 945.1 | P32: =SUM(P29:P31) -> 945.1 | Q32: =SUM(Q29:Q31) -> 881.5 | R32: =SUM(R29:R31) -> 0 | ... AB32: =SUM(AB29:AB31) -> 1143.4
A33: 04 | B33: 01 | C33: 02 | D33: 04 | E33: Teikti apgyvendinimo paslaugas nakvynės namuose, krizių centre ir laikino apnakvindinimo paslaugas | G33: 10.07.01.02 | H33: 302944535 | I33: 10.2 | J33: SB | K33: =L33+N33 -> 197.5 | L33: 197.5 | M33: 178.6 | N33: 0 | O33: =SUM(P33,R33) -> 232.8 | P33: 229.9 | Q33: 207.6 | R33: 2.9 | S33: =+T33 -> 218.5 | T33: 218.5 | U33: 197.3 | V33: 0 | W33: =+X33+Z33 -> 0 | X33: 0 | Y33: 0 | Z33: 0 | AA33: 252.9 | AB33: 278 | AC33: Paslaugų vietų skaičius, vnt. | AD33: 36 | AE33: 36 | AF33: 36
J34: SB(SP) | K34: =+L34 -> 9 | L34: 9 | M34: 0 | N34: 0 | O34: =SUM(P34,R34) -> 10.8 | P34: 10.8 | Q34: 0 | R34: 0 | S34: =+T34 -> 8.2 | T34: 8.2 | U34: 0 | V34: 0 | W34: =+X34 -> 0 | X34: 0 | Y34: 0 | Z34: 0 | AA34: 11.4 | AB34: 11.9
J35: KTL | K35: =L35+N35 -> 0 | L35: 0 | M35: 0 | N35: 0 | O35: =P35+R35 -> 0 | P35: 0 | Q35: 0 | R35: 0 | S35: =T35+V35 -> 0 | T35: 0 | U35: 0 | V35: 0 | W35: =X35+Z35 -> 0 | X35: 0 | Y35: 0 | Z35: 0 | AA35: 0 | AB35: 0
J36: Iš viso: | K36: =SUM(K33:K35) -> 206.5 | L36: =SUM(L33:L35) -> 206.5 | M36: =SUM(M33:M35) -> 178.6 | N36: =SUM(N33:N35) -> 0 | O36: =SUM(O33:O35) -> 243.6 | P36: =SUM(P33:P35) -> 240.7 | Q36: =SUM(Q33:Q35) -> 207.6 | R36: =SUM(R33:R35) -> 2.9 | ... AB36: =SUM(AB33:AB35) -> 289.9
A37: 04 | B37: 01 | C37: 02 | D37: 05 | E37: Teikti Dienos socialinės globos paslaugas Socialinių paslaugų centre ir asmenų namuose | G37: 10.09.01.01 | H37: 302944535 | I37: 10.2 | J37: SB(VB) | K37: =+L37 -> 560.1 | L37: 560.1 | M37: 0 | N37: 0 | O37: =SUM(P37,R37) -> 600 | P37: 600 | Q37: 0 | R37: 0 | S37: =+T37 -> 350 | T37: 350 | U37: 0 | V37: 0 | W37: =+X37+Z37 -> 0 | X37: 0 | Y37: 0 | Z37: 0 | AA37: 610 | AB37: 610 | AC37: Paslaugų vietų skaičius, vnt. | AD37: 65 | AE37: 65 | AF37: 65 | AG37: 2016 metams: 11 etatų iš SB lėšų.
J38: VL | K38: =L38+N38 -> 172.3 | L38: 172.3 | M38: 169.8 | N38: 0 | O38: =SUM(P38,R38) -> 260 | P38: 260 | Q38: 256.2 | R38: 0 | S38: =T38+V38 -> 0 | T38: 0 | U38: 0 | V38: 0 | W38: =+X38+Z38 -> 0 | X38: 0 | Y38: 0 | Z38: 0 | AA38: 260 | AB38: 260
J39: SB | K39: =L39+N39 -> 116.5 | L39: 116.5 | M39: 109.6 | N39: 0 | O39: =SUM(P39,R39) -> 304.2 | P39: 304.2 | Q39: 286.1 | R39: 0 | S39: =T39+V39 -> 270.6 | T39: 270.6 | U39: 266.3 | V39: 0 | W39: =+X39+Z39 -> 0 | X39: 0 | Y39: 0 | Z39: 0 | AA39: 334.7 | AB39: 368.3
J40: SB(SP) | K40: =L40+N40 -> 61.8 | L40: 54.1 | M40: 35.1 | N40: 7.7 | O40: =SUM(P40,R40) -> 81 | P40: 81 | Q40: 61.9 | R40: 0 | S40: =T40+V40 -> 71.4 | T40: 71.4 | U40: 56 | V40: 0 | W40: =+X40+Z40 -> 0 | X40: 0 | Y40: 0 | Z40: 0 | AA40: 83.9 | AB40: 89
J41: Iš viso: | K41: =K40+K39+K37+K38 -> 910.7 | L41: =L40+L39+L37+L38 -> 903 | M41: =M40+M39+M37+M38 -> 314.5 | N41: =N40+N39+N37+N38 -> 7.7 | O41: =O40+O39+O37+O38 -> 1245.2 | P41: =P40+P39+P37+P38 -> 1245.2 | Q41: =Q40+Q39+Q37+Q38 -> 604.2 | R41: =R40+R39+R37+R38 -> 0 | ... AB41: =AB40+AB39+AB37+AB38 -> 1327.3 | AG41: 2016 metams: 10,25 etatų iš VB lėšų.
A42: 04 | B42: 01 | C42: 02 | D42: 09 | E42: Teikti apgyvendinimo paslaugas savarankiško gyvenimo namuose | G42: 10.09.01.01 | H42: 302944535 | I42: 10.2 | J42: SB | K42: =+L42 -> 50.1 | L42: 50.1 | M42: 43.4 | N42: 0 | O42: =SUM(P42,R42) -> 57.5 | P42: 57.5 | Q42: 49.8 | R42: 0 | S42: =+T42 -> 52.9 | T42: 52.9 | U42: 44.6 | V42: 0 | W42: =+X42+Z42 -> 0 | X42: 0 | Y42: 0 | Z42: 0 | AA42: 62.1 | AB42: 68.4 | AC42: Paslaugų vietų skaičius, vnt. | AD42: 34 | AE42: 34 | AF42: 34 | AG42: 2016 metams: 05 etato iš SP lėšų ir 1 etatas iš SB lėšų (Iš viso 1,5 etato)
J43: SB(SP) | K43: =+L43 -> 11.1 | L43: 11.1 | M43: 7.8 | N43: 0 | O43: =SUM(P43,R43) -> 12 | P43: 12 | Q43: 8.6 | R43: 0 | S43: =+T43 -> 11.6 | T43: 11.6 | U43: 8.3 | V43: 0 | W43: =+X43+Z43 -> 0 | X43: 0 | Y43: 0 | Z43: 0 | AA43: 13 | AB43: 14
J44: Iš viso: | K44: =SUM(K42:K43) -> 61.2 | L44: =SUM(L42:L43) -> 61.2 | M44: =SUM(M42:M43) -> 51.2 | N44: =SUM(N42:N43) -> 0 | O44: =O42+O43 -> 69.5 | P44: =P42+P43 -> 69.5 | Q44: =Q42+Q43 -> 58.4 | R44: =R42+R43 -> 0 | S44: =SUM(S42:S43) -> 64.5 | T44: =SUM(T42:T43) -> 64.5 | U44: =SUM(U42:U43) -> 52.9 | V44: =SUM(V42:V43) -> 0 | W44: =W42 -> 0 | X44: =X42 -> 0 | Y44: 0 | Z44: 0 | AA44: =AA42+AA43 -> 75.1 | AB44: =AB42+AB43 -> 82.4
A45: 04 | B45: 01 | C45: 02 | D45: 10 | E45: Teikti pagalbos į namus paslaugas | G45: 10.09.01.01 | H45: 302944535 | I45: 10.2 | J45: SB | K45: =+L45 -> 298.2 | L45: 298.2 | M45: 285.1 | N45: 0 | O45: =SUM(P45,R45) -> 396.8 | P45: 396.8 | Q45: 386.1 | R45: 0 | S45: =+T45 -> 382.1 | T45: 382.1 | U45: 373 | V45: 0 | W45: =+X45+Z45 -> 0 | X45: 0 | Y45: 0 | Z45: 0 | AA45: 436.4 | AB45: 480 | AC45: Paslaugų vietų skaičius, vnt. | AD45: 150 | AE45: 150 | AF45: 150
J46: ES | K46: =L46+N46 -> 0 | L46: 0 | M46: 0 | N46: 0 | O46: =P46+R46 -> 0 | P46: 0 | Q46: 0 | R46: 0 | S46: =T46+V46 -> 0 | T46: 0 | U46: 0 | V46: 0 | W46: =X46+Z46 -> 0 | X46: 0 | Y46: 0 | Z46: 0 | AA46: 0 | AB46: 0
J47: SB(SP) | K47: =L47+N47 -> 52.6 | L47: 51.1 | M47: 32.4 | N47: 1.5 | O47: =SUM(P47,R47) -> 69.6 | P47: 69.6 | Q47: 53.1 | R47: 0 | S47: =+T47 -> 62.4 | T47: 62.4 | U47: 45.9 | V47: 0 | W47: =+X47+Z47 -> 0 | X47: 0 | Y47: 0 | Z47: 0 | AA47: 75.2 | AB47: 78.8
J48: Iš viso: | K48: =SUM(K45:K47) -> 350.8 | L48: =SUM(L45:L47) -> 349.3 | M48: =SUM(M45:M47) -> 317.5 | N48: =SUM(N45:N47) -> 1.5 | O48: =SUM(O45:O47) -> 466.4 | P48: =SUM(P45:P47) -> 466.4 | Q48: =SUM(Q45:Q47) -> 439.2 | R48: =SUM(R45:R47) -> 0 | ... AB48: =SUM(AB45:AB47) -> 558.8
A49: 04 | B49: 01 | C49: 02 | D49: 11 | E49: Administravimo išlaidos | G49: 10.09.01.09 | H49: 302944535 | I49: 10.2 | J49: SB | K49: =L49+N49 -> 229 | L49: 229 | M49: 211.7 | N49: 0 | O49: =SUM(P49,R49) -> 263.8 | P49: 261.9 | Q49: 238.4 | R49: 1.9 | S49: =+T49 -> 261.9 | T49: 261.9 | U49: 241.9 | V49: 0 | W49: =+X49+Z49 -> 0 | X49: 0 | Y49: 0 | Z49: 0 | AA49: 299.7 | AB49: 329.7 | AC49: Įgyvendinimas, proc. | AD49: 100 | AE49: 100 | AF49: 100
J50: SB(VB) | K50: =L50+N50 -> 46.3 | L50: 46.3 | M50: 45.6 | N50: 0 | O50: =SUM(P50,R50) -> 47 | P50: 47 | Q50: 46.3 | R50: 0 | S50: =+T50 -> 28 | T50: 28 | U50: 27.6 | V50: 0 | W50: =+X50+Z50 -> 0 | X50: 0 | Y50: 0 | Z50: 0 | AA50: 0 | AB50: 0
J51: Iš viso: | K51: =SUM(K49:K50) -> 275.3 | L51: =SUM(L49:L50) -> 275.3 | M51: =SUM(M49:M50) -> 257.3 | N51: =SUM(N49:N50) -> 0 | O51: =O49+O50 -> 310.8 | P51: =P49+P50 -> 308.9 | Q51: =Q49+Q50 -> 284.7 | R51: =R49+R50 -> 1.9 | S51: =SUM(S49:S50) -> 289.9 | T51: =SUM(T49:T50) -> 289.9 | U51: =SUM(U49:U50) -> 269.5 | V51: =SUM(V49:V50) -> 0 | W51: =W49 -> 0 | X51: =X49 -> 0 | Y51: 0 | Z51: 0 | AA51: =AA49+AA50 -> 299.7 | AB51: =AB49+AB50 -> 329.7
A52: 04 | B52: 01 | C52: 02 | D52: 12 | E52: Asmeninės pagalbos teikimas | G52: 10.01.02.01 | H52: 302944535 | I52: 10.2 | J52: SB(VB) | K52: =+L52 -> 111 | L52: 111 | M52: 96.7 | N52: 0 | O52: =SUM(P52,R52) -> 150 | P52: 150 | Q52: 147.8 | R52: 0 | S52: =+T52 -> 176.8 | T52: 176.8 | U52: 174.4 | V52: 0 | W52: =+X52+Z52 -> 0 | X52: 0 | Y52: 0 | Z52: 0 | AA52: 150 | AB52: 150 | AC52: Asmenų skaičius, vnt. | AD52: 21 | AE52: 25 | AF52: 30 | AG52: 2016 metams: 17,5 etatų iš SB lėšų ir 1,25 etato iš SB lėšų SP lėšų (Iš viso 18,75 etatai). Pavadavimui darbuotojų kasmetinių atostogų metu skirta 1,5 etato.
J53: SB(SP) | K53: =L53+N53 -> 2.1 | L53: 2.1 | M53: 0 | N53: 0 | O53: =SUM(P53,R53) -> 8.4 | P53: 8.4 | Q53: 0 | R53: 0 | S53: =+T53 -> 6.4 | T53: 6.4 | U53: 0 | V53: 0 | W53: =+X53+Z53 -> 0 | X53: 0 | Y53: 0 | Z53: 0 | AA53: 8.9 | AB53: 9.4
J54: Iš viso: | K54: =SUM(K52:K53) -> 113.1 | L54: =SUM(L52:L53) -> 113.1 | M54: =SUM(M52:M53) -> 96.7 | N54: =SUM(N52:N53) -> 0 | O54: =O52+O53 -> 158.4 | P54: =P52+P53 -> 158.4 | Q54: =Q52+Q53 -> 147.8 | R54: =R52+R53 -> 0 | S54: =SUM(S52:S53) -> 183.2 | T54: =SUM(T52:T53) -> 183.2 | U54: =SUM(U52:U53) -> 174.4 | V54: =SUM(V52:V53) -> 0 | W54: =W52 -> 0 | X54: =X52 -> 0 | Y54: 0 | Z54: 0 | AA54: =AA52+AA53 -> 158.9 | AB54: =AB52+AB53 -> 159.4
A55: 04 | B55: 01 | C55: 02 | E55: Iš viso uždaviniui: | K55: =K32+K36+K41+K44+K54+K48+K51 -> 2575.2 | L55: =L32+L36+L41+L44+L54+L48+L51 -> 2566 | M55: =M32+M36+M41+M44+M54+M48+M51 -> 1822.5 | N55: =N32+N36+N41+N44+N54+N48+N51 -> 9.2 | O55: =O32+O36+O41+O44+O54+O48+O51 -> 3439 | P55: =P32+P36+P41+P44+P54+P48+P51 -> 3434.2 | Q55: =Q32+Q36+Q41+Q44+Q54+Q48+Q51 -> 2623.4 | R55: =R32+R36+R41+R44+R54+R48+R51 -> 4.8 | ... AB55: =AB32+AB36+AB41+AB44+AB54+AB48+AB51 -> 3890.9
A56: 04 | B56: 01 | C56: 03 | D56: Stacionarių socialinių paslaugų organizavimas ir teikimas
A57: 04 | B57: 01 | C57: 03 | D57: 01 | E57: Tenkinti socialinės globos poreikį valstybės ir kito pavaldumo globos įstaigose (301; 300) | G57: 10.01.02.02 | H57: 188723322 | I57: 10 | J57: SB(VB) | K57: =L57+N57 -> 803.9 | L57: 803.9 | M57: 0 | N57: 0 | O57: =SUM(P57,R57) -> 840 | P57: 840 | Q57: 0 | R57: 0 | S57: =T57+V57 -> 527.5 | T57: 527.5 | U57: 0 | V57: 0 | W57: 0 | X57: 0 | Y57: 0 | Z57: 0 | AA57: 850 | AB57: 850 | AC57: Paslaugų teikėjų skaičius, vnt. | AD57: 15 | AE57: 15 | AF57: 15
J58: SB | K58: =L58+N58 -> 193.9 | L58: 193.9 | M58: 0 | N58: 0 | O58: =SUM(P58,R58) -> 198 | P58: 198 | Q58: 0 | R58: 0 | S58: =T58+V58 -> 198 | T58: 198 | U58: 0 | V58: 0 | W58: 0 | X58: 0 | Y58: 0 | Z58: 0 | AA58: 198 | AB58: 198
J59: Iš viso: | K59: =SUM(K57:K58) -> 997.8 | L59: =SUM(L57:L58) -> 997.8 | M59: =SUM(M57:M58) -> 0 | N59: =SUM(N57:N58) -> 0 | O59: =SUM(O57:O58) -> 1038 | P59: =SUM(P57:P58) -> 1038 | Q59: =SUM(Q57:Q58) -> 0 | R59: =SUM(R57:R58) -> 0 | ... V59: =SUM(V57:V58) -> 0 | W59: 0 | X59: 0 | Y59: 0 | Z59: 0 | AA59: =SUM(AA57:AA58) -> 1048 | AB59: =SUM(AB57:AB58) -> 1048
A60: 04 | B60: 01 | C60: 03 | D60: 02 | E60: (administravimas) Tenkinti socialinės globos poreikį valstybės, Savivaldybės ir kito pavaldumo globos įstaigose (227) | G60: 10.01.02.02 | H60: 188723322 | I60: 10 | J60: SB(VB) | K60: =L60+N60 -> 42.5 | L60: 42.5 | M60: 41.9 | N60: 0 | O60: =SUM(P60,R60) -> 51.4 | P60: 51.4 | Q60: 50.7 | R60: 0 | S60: =T60+V60 -> 32 | T60: 32 | U60: 31.5 | V60: 0 | W60: 0 | X60: 0 | Y60: 0 | Z60: 0 | AA60: 52 | AB60: 52 | AC60: Paslaugų skaičius, proc. | AD60: 100 | AE60: 100 | AF60: 100
J61: Iš viso: | K61: =SUM(K60:K60) -> 42.5 | L61: =SUM(L60:L60) -> 42.5 | M61: =SUM(M60:M60) -> 41.9 | N61: =SUM(N60:N60) -> 0 | O61: =SUM(O60:O60) -> 51.4 | P61: =SUM(P60:P60) -> 51.4 | Q61: =SUM(Q60:Q60) -> 50.7 | R61: =SUM(R60:R60) -> 0 | ... V61: =SUM(V60:V60) -> 0 | W61: 0 | X61: 0 | Y61: 0 | Z61: 0 | AA61: =SUM(AA60:AA60) -> 52 | AB61: =SUM(AB60:AB60) -> 52
A62: 04 | B62: 01 | C62: 03 | D62: 03 | E62: Teikti stacionarias globos paslaugas Šilutės socialinės globos namuose | G62: 10.01.02.02 | H62: 177393649 | I62: 10.1 | J62: SB(VB) | K62: =L62+N62 -> 181.5 | L62: 181.5 | M62: 0 | N62: 0 | O62: =SUM(P62,R62) -> 230 | P62: 230 | Q62: 0 | R62: 0 | S62: =T62+V62 -> 150 | T62: 150 | U62: 0 | V62: 0 | W62: 0 | X62: 0 | Y62: 0 | Z62: 0 | AA62: 240 | AB62: 240 | AC62: Paslaugų vietų skaičius, vnt. | AD62: 80 | AE62: 80 | AF62: 80
J63: SB | K63: =L63+N63 -> 482.6 | L63: 468.9 | M63: 367.6 | N63: 13.7 | O63: =SUM(P63,R63) -> 678.9 | P63: 678.9 | Q63: 539.3 | R63: 0 | S63: =T63+V63 -> 623.8 | T63: 623.8 | U63: 514.1 | V63: 0 | W63: 0 | X63: 0 | Y63: 0 | Z63: 0 | AA63: 713.1 | AB63: 747.1
J64: SB(SP) | K64: =L64+N64 -> 414.9 | L64: 413 | M64: 287 | N64: 1.9 | O64: =SUM(P64,R64) -> 444.5 | P64: 442.5 | Q64: 300.8 | R64: 2 | S64: =T64+V64 -> 390 | T64: 390 | U64: 300.8 | V64: 0 | W64: 0 | X64: 0 | Y64: 0 | Z64: 0 | AA64: 467.3 | AB64: 490.7
J65: VL | K65: =L65+N65 -> 29.7 | L65: 29.7 | M65: 29.3 | N65: 0 | O65: =P65+R65 -> 0 | P65: 0 | Q65: 0 | R65: 0 | S65: =T65+V65 -> 15.5 | T65: 15.5 | U65: 15.3 | V65: 0 | W65: =X65+Z65 -> 0 | X65: 0 | Y65: 0 | Z65: 0 | AA65: 0 | AB65: 0
J66: KTL | K66: =L66+N66 -> 0 | L66: 0 | M66: 0 | N66: 0 | O66: =P66+R66 -> 0 | P66: 0 | Q66: 0 | R66: 0 | S66: =T66+V66 -> 0 | T66: 0 | U66: 0 | V66: 0 | W66: =X66+Z66 -> 0 | X66: 0 | Y66: 0 | Z66: 0 | AA66: 0 | AB66: 0
J67: Iš viso: | K67: =SUM(K62:K66) -> 1108.7 | L67: =SUM(L62:L66) -> 1093.1 | M67: =SUM(M62:M66) -> 683.9 | N67: =SUM(N62:N66) -> 15.6 | O67: =SUM(O62:O66) -> 1353.4 | P67: =SUM(P62:P66) -> 1351.4 | Q67: =SUM(Q62:Q66) -> 840.1 | R67: =SUM(R62:R66) -> 2 | ... AB67: =SUM(AB62:AB66) -> 1477.8
A68: 04 | B68: 01 | C68: 03 | D68: Iš viso uždaviniui: | K68: =K59+K61+K67 -> 2149 | L68: =L59+L61+L67 -> 2133.4 | M68: =M59+M61+M67 -> 725.8 | N68: =N59+N61+N67 -> 15.6 | O68: =O59+O61+O67 -> 2442.8 | P68: =P59+P61+P67 -> 2440.8 | Q68: =Q59+Q61+Q67 -> 890.8 | R68: =R59+R61+R67 -> 2 | ... AB68: =AB59+AB61+AB67 -> 2577.8
A69: 04 | B69: 01 | C69: 04 | D69: Bendradarbiavimas su NVO ir kitomis įstaigomis, teikiančiomis socialines paslaugas
A70: 04 | B70: 01 | C70: 04 | D70: 01 | E70: Socialinių paslaugų teikimas pasitelkiant NVO ir kt. įstaigas (Vaikų dienos socialinės priežiūros, transporto paslaugos ir kita) | G70: 10.04.01.01 10.09.01.01 | H70: 188723322 | I70: 10 | J70: SB | K70: =L70+N70 -> 45.3 | L70: 45.3 | M70: 0 | N70: 0 | O70: =SUM(P70,R70) -> 71 | P70: 71 | Q70: 0 | R70: 0 | S70: =T70+V70 -> 71 | T70: 71 | U70: 0 | V70: 0 | W70: 0 | X70: 0 | Y70: 0 | Z70: 0 | AA70: 71 | AB70: 71 | AC70: Paslaugų teikėjų skaičius, vnt. | AD70: 10 | AE70: 10 | AF70: 10
J71: SB(VB) | K71: =L71+N71 -> 97.2 | L71: 97.2 | M71: 2.8 | N71: 0 | O71: =P71+R71 -> 103 | P71: 103 | Q71: 3 | R71: 0 | S71: =T71+V71 -> 144.8 | T71: 144.8 | U71: 2.8 | V71: 0 | W71: 0 | X71: 0 | Y71: 0 | Z71: 0 | AA71: 123.6 | AB71: 123.6
J72: Iš viso: | K72: =SUM(K70:K71) -> 142.5 | L72: =SUM(L70:L71) -> 142.5 | M72: =SUM(M70:M71) -> 2.8 | N72: =SUM(N70:N71) -> 0 | O72: =SUM(O70:O71) -> 174 | P72: =SUM(P70:P71) -> 174 | Q72: =SUM(Q70:Q71) -> 3 | R72: =SUM(R70:R71) -> 0 | ... AB72: =SUM(AB70:AB71) -> 194.6
A73: 04 | B73: 01 | C73: 04 | D73: 02 | E73: Socialinės reabilitacijos paslaugų neįgaliesiems bendruomenėje teikimas kartu su administravimu | G73: 10.01.02.01 | H73: 188723322 | I73: 10 | J73: SB | K73: =L73+N73 -> 12.9 | L73: 12.9 | M73: 0 | N73: 0 | O73: =P73+R73 -> 46 | P73: 46 | Q73: 0 | R73: 0 | S73: =T73+V73 -> 46 | T73: 46 | U73: 0 | V73: 0 | W73: =X73+Z73 -> 0 | X73: 0 | Y73: 0 | Z73: 0 | AA73: 46 | AB73: 46 | AC73: Paslaugų teikėjų skaičius, vnt. | AD73: 6 | AE73: 6 | AF73: 6
J74: SB(VB) | K74: =L74+N74 -> 67.6 | L74: 67.6 | M74: 3.2 | N74: 0 | O74: =SUM(P74,R74) -> 72 | P74: 72 | Q74: 3.5 | R74: 0 | S74: =T74+V74 -> 0 | T74: 0 | U74: 0 | V74: 0 | W74: 0 | X74: 0 | Y74: 0 | Z74: 0 | AA74: 72 | AB74: 72
J75: Iš viso: | K75: =SUM(K74+K73) -> 80.5 | L75: =SUM(L74+L73) -> 80.5 | M75: =SUM(M74+M73) -> 3.2 | N75: =SUM(N74+N73) -> 0 | O75: =SUM(O74+O73) -> 118 | P75: =SUM(P74+P73) -> 118 | Q75: =SUM(Q74+Q73) -> 3.5 | R75: =SUM(R74+R73) -> 0 | ... AB75: =SUM(AB74+AB73) -> 118
A76: 04 | B76: 01 | C76: 04 | D76: 04 | E76: ES lėšomis organizuojamos ir teikiamos Kompleksinės paslaugos šeimai ir asmeninio asistento paslaugos | G76: 10.09.01.01 | H76: 188723322 | I76: 10 | J76: SB | K76: =L76+N76 -> 0 | L76: 0 | M76: 0 | N76: 0 | O76: =P76+R76 -> 0 | P76: 0 | Q76: 0 | R76: 0 | S76: =T76+V76 -> 0 | T76: 0 | U76: 0 | V76: 0 | W76: =X76+Z76 -> 0 | X76: 0 | Y76: 0 | Z76: 0 | AA76: 0 | AB76: 0 | AC76: Paslaugų teikėjų skaičius, vnt. | AD76: 1 | AE76: 1 | AF76: 1
J77: ES | K77: =L77+N77 -> 103.8 | L77: 103.8 | M77: 0 | N77: 0 | O77: =SUM(P77,R77) -> 14 | P77: 14 | Q77: 0 | R77: 0 | S77: =T77+V77 -> 10.1 | T77: 10.1 | U77: 0 | V77: 0 | W77: 0 | X77: 0 | Y77: 0 | Z77: 0 | AA77: 0 | AB77: 0
J78: Iš viso: | K78: =SUM(K77+K76) -> 103.8 | L78: =SUM(L77+L76) -> 103.8 | M78: =SUM(M77+M76) -> 0 | N78: =SUM(N77+N76) -> 0 | O78: =SUM(O77+O76) -> 14 | P78: =SUM(P77+P76) -> 14 | Q78: =SUM(Q77+Q76) -> 0 | R78: =SUM(R77+R76) -> 0 | ... AB78: =SUM(AB77+AB76) -> 0
A79: 04 | B79: 01 | C79: 04 | D79: 05 | E79: ES lėšomis įgyvendinama Bendruomeninių vaikų globos namų plėtra ir Vaikų dienos centrų plėtra | G79: 10.04.01.01 | H79: 188723322 | I79: 10 | J79: ES | K79: =L79+N79 -> 2.1 | L79: 0 | M79: 0 | N79: 2.1 | O79: =P79+R79 -> 0 | P79: 0 | Q79: 0 | R79: 0 | S79: =T79+V79 -> 0 | T79: 0 | U79: 0 | V79: 0 | W79: =X79+Z79 -> 0 | X79: 0 | Y79: 0 | Z79: 0 | AA79: 0 | AB79: 0 | AC79: Paslaugų teikėjų skaičius, vnt. | AD79: 0 | AE79: 0 | AF79: 0
J80: Iš viso: | K80: =SUM(K79) -> 2.1 | L80: =SUM(L79) -> 0 | M80: =SUM(M79) -> 0 | N80: =SUM(N79) -> 2.1 | O80: =SUM(O79) -> 0 | P80: =SUM(P79) -> 0 | Q80: =SUM(Q79) -> 0 | R80: =SUM(R79) -> 0 | ... AB80: =SUM(AB79) -> 0
A81: 04 | B81: 01 | C81: 04 | D81: 06 | E81: Parama skurstantiems asmenims | G81: 10.07.01.01 | H81: 188723322 | I81: 10 | J81: SB | K81: =L81+N81 -> 21.8 | L81: 21.8 | M81: 0 | N81: 0 | O81: =P81+R81 -> 17 | P81: 17 | Q81: 0 | R81: 0 | S81: =T81+V81 -> 17 | T81: 17 | U81: 0 | V81: 0 | W81: =X81+Z81 -> 0 | X81: 0 | Y81: 0 | Z81: 0 | AA81: 17 | AB81: 17 | AC81: Paslaugų gavėjų skaičius, proc. | AD81: 100 | AE81: 100 | AF81: 100
J82: ES | K82: =L82+N82 -> 0 | L82: 0 | M82: 0 | N82: 0 | O82: =P82+R82 -> 0 | P82: 0 | Q82: 0 | R82: 0 | S82: =T82+V82 -> 0 | T82: 0 | U82: 0 | V82: 0 | W82: =X82+Z82 -> 0 | X82: 0 | Y82: 0 | Z82: 0 | AA82: 0 | AB82: 0
J83: VL | K83: =L83+N83 -> 0 | L83: 0 | M83: 0 | N83: 0 | O83: =P83+R83 -> 0 | P83: 0 | Q83: 0 | R83: 0 | S83: =T83+V83 -> 0 | T83: 0 | U83: 0 | V83: 0 | W83: =X83+Z83 -> 0 | X83: 0 | Y83: 0 | Z83: 0 | AA83: 0 | AB83: 0
J84: Iš viso: | K84: =SUM(K81:K83) -> 21.8 | L84: =SUM(L81:L83) -> 21.8 | M84: =SUM(M81:M83) -> 0 | N84: =SUM(N81:N83) -> 0 | O84: =SUM(O81:O83) -> 17 | P84: =SUM(P81:P83) -> 17 | Q84: =SUM(Q81:Q83) -> 0 | R84: =SUM(R81:R83) -> 0 | ... AB84: =SUM(AB81:AB83) -> 17
A85: 04 | B85: 01 | C85: 04 | D85: 07 | E85: Asmeninės pagalbos administravimas | G85: 10.01.02.01 | H85: 188723322 | I85: 10 | J85: SB(VB) | K85: =L85+N85 -> 2.2 | L85: 2.2 | M85: 2.2 | N85: 0 | O85: =P85+R85 -> 3 | P85: 3 | Q85: 3 | R85: 0 | S85: =T85+V85 -> 3.5 | T85: 3.5 | U85: 3.5 | V85: 0 | W85: =X85+Z85 -> 0 | X85: 0 | Y85: 0 | Z85: 0 | AA85: 3 | AB85: 3 | AC85: Paslaugų gavėjų skaičius, proc. | AD85: 100 | AE85: 100 | AF85: 100
J86: Iš viso: | K86: =SUM(K85) -> 2.2 | L86: =SUM(L85) -> 2.2 | M86: =SUM(M85) -> 2.2 | N86: =SUM(N85) -> 0 | O86: =SUM(O85) -> 3 | P86: =SUM(P85) -> 3 | Q86: =SUM(Q85) -> 3 | R86: =SUM(R85) -> 0 | ... AB86: =SUM(AB85) -> 3
A87: 04 | B87: 01 | C87: 04 | D87: Iš viso uždaviniui: | K87: =K72+K78+K86+K84+K75+K80 -> 352.9 | L87: =L72+L78+L86+L84+L75+L80 -> 350.8 | M87: =M72+M78+M86+M84+M75+M80 -> 8.2 | N87: =N72+N78+N86+N84+N75+N80 -> 2.1 | O87: =O72+O78+O86+O84+O75+O80 -> 326 | P87: =P72+P78+P86+P84+P75+P80 -> 326 | Q87: =Q72+Q78+Q86+Q84+Q75+Q80 -> 9.5 | R87: =R72+R78+R86+R84+R75+R80 -> 0 | ... AB87: =AB72+AB78+AB86+AB84+AB75+AB80 -> 332.6
A88: 04 | B88: 01 | C88: 05 | D88: Valstybės ir Savivaldybės piniginė socialinė parama Šilutės rajono savivaldybės gyventojams
A89: 04 | B89: 01 | C89: 05 | D89: 01 | E89: Parama pagal išmokų vaikams įstatymą | G89: 10.04.01.40 | H89: 188723322 | I89: 10 | J89: VL | K89: =L89+N89 -> 8459.3 | L89: 8459.3 | M89: 0 | N89: 0 | O89: =SUM(P89,R89) -> 9359.5 | P89: 9359.5 | Q89: 0 | R89: 0 | S89: =T89+V89 -> 9642.3 | T89: 9642.3 | U89: 0 | V89: 0 | W89: 0 | X89: 0 | Y89: 0 | Z89: 0 | AA89: 9359.5 | AB89: 9359.5 | AC89: Paramos gavėjų skaičius, vnt. | AD89: 8000 | AE89: 8000 | AF89: 8000
J90: Iš viso: | K90: =SUM(K89) -> 8459.3 | L90: =SUM(L89) -> 8459.3 | M90: =SUM(M89) -> 0 | N90: =SUM(N89) -> 0 | O90: =SUM(O89) -> 9359.5 | P90: =SUM(P89) -> 9359.5 | Q90: =SUM(Q89) -> 0 | R90: =SUM(R89) -> 0 | ... AB90: =SUM(AB89) -> 9359.5
A91: 04 | B91: 01 | C91: 05 | D91: 02 | E91: Parama pagal išmokų vaikams įstatymą (administravimas 113) | G91: 10.04.01.40 | H91: 188723322 | I91: 10 | J91: VL | K91: =L91+N91 -> 58.1 | L91: 58.1 | M91: 49.1 | N91: 0 | O91: =SUM(P91,R91) -> 65.5 | P91: 65.5 | Q91: 55 | R91: 0 | S91: =T91+V91 -> 67.5 | T91: 66.5 | U91: 55.9 | V91: 1 | W91: 0 | X91: 0 | Y91: 0 | Z91: 0 | AA91: 65.5 | AB91: 65.5 | AC91: Lėšos skirtos darbuotojų išlaikymui, prekių ir paslaugų įsigijimui, proc. | AD91: 100 | AE91: 100 | AF91: 100
J92: Iš viso: | K92: =SUM(K91) -> 58.1 | L92: =SUM(L91) -> 58.1 | M92: =SUM(M91) -> 49.1 | N92: =SUM(N91) -> 0 | O92: =SUM(O91) -> 65.5 | P92: =SUM(P91) -> 65.5 | Q92: =SUM(Q91) -> 55 | R92: =SUM(R91) -> 0 | ... AB92: =SUM(AB91) -> 65.5
A93: 04 | B93: 01 | C93: 05 | D93: 03 | E93: Parama pagal Tikslinių kompensacijų įstatymą (266) | G93: 10.01.02.40 | H93: 188723322 | I93: 10 | J93: VL | K93: =L93+N93 -> 4408 | L93: 4408 | M93: 0 | N93: 0 | O93: =SUM(P93,R93) -> 4909 | P93: 4909 | Q93: 0 | R93: 0 | S93: =T93+V93 -> 5245.6 | T93: 5245.6 | U93: 0 | V93: 0 | W93: 0 | X93: 0 | Y93: 0 | Z93: 0 | AA93: 4909 | AB93: 4909 | AC93: Asmenų skaičius, vnt. | AD93: 2200 | AE93: 2200 | AF93: 2200
J94: Iš viso: | K94: =K93 -> 4408 | L94: =L93 -> 4408 | M94: 0 | N94: 0 | O94: =SUM(O93) -> 4909 | P94: =SUM(P93) -> 4909 | Q94: 0 | R94: 0 | S94: =S93 -> 5245.6 | T94: =T93 -> 5245.6 | U94: 0 | V94: 0 | W94: 0 | X94: 0 | Y94: 0 | Z94: 0 | AA94: =SUM(AA93) -> 4909 | AB94: =SUM(AB93) -> 4909
A95: 04 | B95: 01 | C95: 05 | D95: 04 | E95: Parama pagal Tikslinių kompensacijų įstatymą (administravimas 162 ) | G95: 10.01.02.40 | H95: 188723322 | I95: 10 | J95: VL | K95: =L95+N95 -> 176.3 | L95: 176.3 | M95: 135.7 | N95: 0 | O95: =SUM(P95,R95) -> 196.4 | P95: 196.4 | Q95: 146 | R95: 0 | S95: =T95+V95 -> 209.8 | T95: 207.8 | U95: 148 | V95: 2 | W95: 0 | X95: 0 | Y95: 0 | Z95: 0 | AA95: 196.4 | AB95: 196.4 | AC95: Lėšos skirtos darbuotojų išlaikymui, prekių ir paslaugų įsigijimui, proc. | AD95: 100 | AE95: 100 | AF95: 100
J96: Iš viso: | K96: =K95 -> 176.3 | L96: =L95 -> 176.3 | M96: =M95 -> 135.7 | N96: 0 | O96: =SUM(O95) -> 196.4 | P96: =SUM(P95) -> 196.4 | Q96: =SUM(Q95) -> 146 | R96: =SUM(R95) -> 0 | S96: =S95 -> 209.8 | T96: =T95 -> 207.8 | U96: =U95 -> 148 | V96: 0 | W96: =SUM(W95) -> 0 | X96: =SUM(X95) -> 0 | Y96: =SUM(Y95) -> 0 | Z96: =SUM(Z95) -> 0 | AA96: =SUM(AA95) -> 196.4 | AB96: =SUM(AB95) -> 196.4
A97: 04 | B97: 01 | C97: 05 | D97: 05 | E97: Parama pagal Paramos mirties atveju įstatymą (272) | G97: 10.03.01.01 | H97: 188723322 | I97: 10 | J97: SB(VB) | K97: =L97+N97 -> 238.9 | L97: 238.9 | M97: 0 | N97: 0 | O97: =SUM(P97,R97) -> 285 | P97: 285 | Q97: 0 | R97: 0 | S97: =T97+V97 -> 291 | T97: 291 | U97: 0 | V97: 0 | W97: 0 | X97: 0 | Y97: 0 | Z97: 0 | AA97: 290 | AB97: 290 | AC97: Paramos gavėjų skaičius, vnt. | AD97: 700 | AE97: 700 | AF97: 700
J98: Iš viso: | K98: =K97 -> 238.9 | L98: =L97 -> 238.9 | M98: 0 | N98: 0 | O98: =SUM(O97) -> 285 | P98: =SUM(P97) -> 285 | Q98: =SUM(Q97) -> 0 | R98: =SUM(R97) -> 0 | S98: =S97 -> 291 | T98: =T97 -> 291 | U98: 0 | V98: 0 | W98: =SUM(W97) -> 0 | X98: =SUM(X97) -> 0 | Y98: =SUM(Y97) -> 0 | Z98: =SUM(Z97) -> 0 | AA98: =SUM(AA97) -> 290 | AB98: =SUM(AB97) -> 290
A99: 04 | B99: 01 | C99: 05 | D99: 06 | E99: Parama pagal Socialinės paramos mokiniams įstatymą (maitinimas 268) | G99: 10.04.01.40 | H99: 188723322 | I99: 10 | J99: SB(VB) | K99: =L99+N99 -> 629.3 | L99: 629.3 | M99: 0 | N99: 0 | O99: =SUM(P99,R99) -> 650 | P99: 650 | Q99: 0 | R99: 0 | S99: =T99+V99 -> 664 | T99: 664 | U99: 0 | V99: 0 | W99: 0 | X99: 0 | Y99: 0 | Z99: 0 | AA99: 670 | AB99: 670 | AC99: Paramos gavėjų skaičius, vnt. | AD99: 2100 | AE99: 2200 | AF99: 2200
J100: Iš viso: | K100: =K99 -> 629.3 | L100: =L99 -> 629.3 | M100: 0 | N100: 0 | O100: =SUM(O99) -> 650 | P100: =SUM(P99) -> 650 | Q100: =SUM(Q99) -> 0 | R100: =SUM(R99) -> 0 | S100: =S99 -> 664 | T100: =T99 -> 664 | U100: 0 | V100: 0 | W100: =SUM(W99) -> 0 | X100: =SUM(X99) -> 0 | Y100: =SUM(Y99) -> 0 | Z100: =SUM(Z99) -> 0 | AA100: =SUM(AA99) -> 670 | AB100: =SUM(AB99) -> 670
...

Sheet 04 Išlaidų suvestinė
A1: Šilutės rajono savivaldybės administracijos 2023–2025 m. SVP Socialiai saugios ir sveikos aplinkos kūrimo programos išlaidų suvestinė | T1: (Nr. 4)
A3: tūkst. Eur
A4: Strateginio tikslo kodas | B4: Programos kodas | C4: Programos pavadinimas | D4: Funkcinės klasifikacijos kodas | E4: Asignavimų valdytojo kodas | F4: 2022 m. išlaidos | J4: 2023 m. išlaidų projektas | N4: 2023 m. patvirtinta Šilutės r. savivaldybės taryboje | R4: 2023 m. faktiškai skirtas finansavimas
F5: Iš viso | G5: Išlaidoms | I5: Turtui įsigyti ir finansiniams įsipareigojimams vykdyti | J5: Iš viso | K5: Išlaidoms | M5: Turtui įsigyti ir finansiniams įsipareigojimams vykdyti | N5: Iš viso | O5: Išlaidoms | Q5: Turtui įsigyti ir finansiniams įsipareigojimams vykdyti | R5: Iš viso | S5: Išlaidoms | U5: Turtui įsigyti ir finansiniams įsipareigojimams vykdyti
G6: Iš viso | H6: Iš jų darbo užmokesčiui | K6: Iš viso | L6: Iš jų darbo užmokesčiui | O6: Iš viso | P6: Iš jų darbo užmokesčiui | S6: Iš viso | T6: Iš jų darbo užmokesčiui
A7: 4 | B7: 4 | C7: Socialiai saugios ir sveikos aplinkos kūrimo programa | D7: 10.01.02.02 10.07.01.02 10.09.01.01 10.09.01.09 10.04.01.01 10.01.02.01 10.07.01.01 10.04.01.40 10.01.02.40 10.03.01.01 10.06.01.01 07.06.01.02 04.01.05.18 05.06.01.01 07.04.01.02 07.04.01.01 08.02.01.09 08.02.01.06 03.02.01.01 02.02.01.01 05.03.01.01 01.03.02.01 07.06.01.06 | E7: 188723322 302944535 177393649 305548441 301791595 304158399 | F7: ='04 Programa'!K246 -> 25218.9 | G7: ='04 Programa'!L246 -> 25168.8 | H7: ='04 Programa'!M246 -> 4537.9 | I7: ='04 Programa'!N246 -> 50.1 | J7: ='04 Programa'!O246 -> 28562.7 | K7: ='04 Programa'!P246 -> 28553.5 | L7: ='04 Programa'!Q246 -> 6033.6 | M7: ='04 Programa'!R246 -> 9.2 | ... Q7: ='04 Programa'!V246 -> 12.5
A8: IŠ VISO: | F8: =SUM(F7) -> 25218.9 | G8: =SUM(G7) -> 25168.8 | H8: =SUM(H7) -> 4537.9 | I8: =SUM(I7) -> 50.1 | J8: =SUM(J7) -> 28562.7 | K8: =SUM(K7) -> 28553.5 | L8: =SUM(L7) -> 6033.6 | M8: =SUM(M7) -> 9.2 | N8: =SUM(N7) -> 27779.1 | O8: =O7 -> 27764.6 | P8: =SUM(P7) -> 5422.5 | Q8: =SUM(Q7) -> 12.5 | R8: =SUM(R7) -> 0 | S8: =SUM(S7) -> 0 | T8: =SUM(T7) -> 0 | U8: =SUM(U7) -> 0

Sheet 04 Šaltiniai
A1: 04. Socialiai saugios ir sveikos aplinkos kūrimo programa
A2: Finansavimo šaltiniai | J2: 2022 m. išlaidos, tūkst. Eur | K2: 2023 m. išlaidų projektas, tūkst. Eur | L2: 2023 m. patvirtinta Šilutės r. savivaldybės taryboje, tūkst. Eur | U2: 2023 m. faktiškai skirtas finansavimas, tūkst. Eur
A3: Savivaldybės biudžetas SB | J3: ='04 Programa'!K25+'04 Programa'!K31+'04 Programa'!K33+'04 Programa'!K39+'04 Programa'!K42+'04 Programa'!K45+'04 Programa'!K49+'04 Programa'!K58+'04 Programa'!K63+'04 Programa'!K70+'04 Programa'!K73+'04 Programa'!K76+'04 Programa'!K81+'04 Programa'!K105+'04 Programa'!K109+'04 Programa'!K112+'04 Programa'!K114+'04 Programa'!K117+'04 Programa'!K123+'04 Programa'!K133+'04 Programa'!K136+'04 Programa'!K139+'04 Programa'!K144+'04 Programa'!K152+'04 Programa'!K159+'04 Programa'!K170+100.8+'04 Programa'!K187+'04 Programa'!K196+'04 Programa'!K199+16.5+'04 Programa'!K242 -> 5357.1 | K3: ='04 Programa'!O242+0+'04 Programa'!O199+'04 Programa'!O196+'04 Programa'!O187+115+67.8+'04 Programa'!O159+'04 Programa'!O152+'04 Programa'!O144+'04 Programa'!O139+'04 Programa'!O136+'04 Programa'!O133+'04 Programa'!O123+'04 Programa'!O117+'04 Programa'!O114+'04 Programa'!O112+'04 Programa'!O109+'04 Programa'!O105+'04 Programa'!O81+'04 Programa'!O76+'04 Programa'!O73+'04 Programa'!O70+'04 Programa'!O63+'04 Programa'!O58+'04 Programa'!O49+'04 Programa'!O45+'04 Programa'!O42+'04 Programa'!O39+'04 Programa'!O33+'04 Programa'!O31+'04 Programa'!O25 -> 7426.6 | L3: ='04 Programa'!S242+0+'04 Programa'!S199+'04 Programa'!S196+'04 Programa'!S187+115+'04 Programa'!S170+'04 Programa'!S159+'04 Programa'!S152+'04 Programa'!S144+'04 Programa'!S139+'04 Programa'!S136+'04 Programa'!S133+'04 Programa'!S123+'04 Programa'!S117+'04 Programa'!S114+'04 Programa'!S112+'04 Programa'!S109+'04 Programa'!S105+'04 Programa'!S81+'04 Programa'!S76+'04 Programa'!S73+'04 Programa'!S70+'04 Programa'!S63+'04 Programa'!S58+'04 Programa'!S49+'04 Programa'!S45+'04 Programa'!S42+'04 Programa'!S39+'04 Programa'!S33+'04 Programa'!S31+'04 Programa'!S25 -> 6969.3
A4: Valstybės biudžeto specialioji tikslinė dotacija SB(VB) | J4: ='04 Programa'!K223+'04 Programa'!K205+'04 Programa'!K198+'04 Programa'!K195+'04 Programa'!K185+75.4+415+'04 Programa'!K147+'04 Programa'!K143+'04 Programa'!K137+'04 Programa'!K134+'04 Programa'!K129+'04 Programa'!K127+'04 Programa'!K125+'04 Programa'!K121+'04 Programa'!K119+'04 Programa'!K115+'04 Programa'!K110+'04 Programa'!K107+'04 Programa'!K103+'04 Programa'!K101+'04 Programa'!K99+'04 Programa'!K97+'04 Programa'!K85+'04 Programa'!K74+'04 Programa'!K71+'04 Programa'!K62+'04 Programa'!K60+'04 Programa'!K57+'04 Programa'!K52+'04 Programa'!K50+'04 Programa'!K37+'04 Programa'!K29 -> 5604 | K4: ='04 Programa'!O29+'04 Programa'!O37+'04 Programa'!O50+'04 Programa'!O52+'04 Programa'!O57+'04 Programa'!O60+'04 Programa'!O62+'04 Programa'!O71+'04 Programa'!O74+'04 Programa'!O85+'04 Programa'!O97+'04 Programa'!O99+'04 Programa'!O101+'04 Programa'!O103+'04 Programa'!O107+'04 Programa'!O110+'04 Programa'!O115+'04 Programa'!O119+'04 Programa'!O121+'04 Programa'!O125+'04 Programa'!O127+'04 Programa'!O129+'04 Programa'!O134+'04 Programa'!O137+'04 Programa'!O143+'04 Programa'!O147+357.5+72.7+'04 Programa'!O185+'04 Programa'!O195+'04 Programa'!O198+'04 Programa'!O205+'04 Programa'!O223 -> 5355.5 | L4: ='04 Programa'!S29+'04 Programa'!S37+'04 Programa'!S50+'04 Programa'!S52+'04 Programa'!S57+'04 Programa'!S60+'04 Programa'!S62+'04 Programa'!S71+'04 Programa'!S74+'04 Programa'!S85+'04 Programa'!S97+'04 Programa'!S99+'04 Programa'!S101+'04 Programa'!S103+'04 Programa'!S107+'04 Programa'!S110+'04 Programa'!S115+'04 Programa'!S119+'04 Programa'!S121+'04 Programa'!S125+'04 Programa'!S127+'04 Programa'!S129+'04 Programa'!S134+'04 Programa'!S137+'04 Programa'!S143+'04 Programa'!S147+365.4+74.2+'04 Programa'!S185+'04 Programa'!S195+'04 Programa'!S198+'04 Programa'!S205+'04 Programa'!S223 -> 4526.7
A5: Aplikos apsaugos rėmimo specialiosios programos lėšos SB(AA) | J5: ='04 Programa'!K236+'04 Programa'!K234+'04 Programa'!K231+43.4+'04 Programa'!L217+'04 Programa'!K212+'04 Programa'!K160 -> 209.5 | K5: ='04 Programa'!O160+'04 Programa'!O212+'04 Programa'!O217+50+'04 Programa'!O231+'04 Programa'!O234+'04 Programa'!O236 -> 182 | L5: ='04 Programa'!S160+'04 Programa'!S212+'04 Programa'!S217+'04 Programa'!S222+'04 Programa'!S231+'04 Programa'!S234+'04 Programa'!S236 -> 420.9
A6: Pajamos už suteiktas paslaugas SB(SP) | J6: ='04 Programa'!K34+'04 Programa'!K40+'04 Programa'!K43+'04 Programa'!K47+'04 Programa'!K53+'04 Programa'!K64+'04 Programa'!K172 -> 557.5 | K6: ='04 Programa'!O172+'04 Programa'!O64+'04 Programa'!O53+'04 Programa'!O47+'04 Programa'!O43+'04 Programa'!O40+'04 Programa'!O34 -> 634.3 | L6: ='04 Programa'!S34+'04 Programa'!S40+'04 Programa'!S43+'04 Programa'!S47+'04 Programa'!S53+'04 Programa'!S64+'04 Programa'!S172 -> 556
A7: Švietimo įstaigų modernizavimo programa SB(ŠIMP) | J7: 0 | K7: 0 | L7: 0
A8: Skolintos lėšos SL | J8: 0 | K8: 0 | L8: 0
A9: Užsienio valstybių, tarptautinių organizacijų ir Europos Sąjungos lėšos ES, EEE | J9: ='04 Programa'!K46+'04 Programa'!K77+'04 Programa'!K79+'04 Programa'!K82+'04 Programa'!K140+'04 Programa'!K148 -> 154.9 | K9: ='04 Programa'!O46+'04 Programa'!O77+'04 Programa'!O79+'04 Programa'!O82+'04 Programa'!O140+'04 Programa'!O148 -> 173.9 | L9: ='04 Programa'!S148+'04 Programa'!S140+'04 Programa'!S82+'04 Programa'!S79+'04 Programa'!S77+'04 Programa'!S46 -> 71
A10: Visuomenės sveikatos apsaugos rėmimo specialioji programa SB(VS) | J10: 0 | K10: 0 | L10: 0
A11: Valstybės lėšos VL | J11: ='04 Programa'!K189+'04 Programa'!K145+'04 Programa'!K141+'04 Programa'!K95+'04 Programa'!K93+'04 Programa'!K91+'04 Programa'!K89+'04 Programa'!K83+'04 Programa'!K65+'04 Programa'!K38+'04 Programa'!K30 -> 13335.9 | K11: ='04 Programa'!O30+'04 Programa'!O38+'04 Programa'!O83+'04 Programa'!O89+'04 Programa'!O91+'04 Programa'!O93+'04 Programa'!O95+'04 Programa'!O141+'04 Programa'!O145+'04 Programa'!O189 -> 14790.4 | L11: ='04 Programa'!S30+'04 Programa'!S38+'04 Programa'!S65+'04 Programa'!S83+'04 Programa'!S89+'04 Programa'!S91+'04 Programa'!S93+'04 Programa'!S95+'04 Programa'!S141+'04 Programa'!S145+'04 Programa'!S189 -> 15235.2
A12: Kitos lėšos KTL | J12: 0 | K12: 0 | L12: 0
A13: Kelių priežiūros ir plėtros programa KPPP | J13: 0 | K13: 0 | L13: 0
A14: Valstybės investicijų programa VIP | J14: 0 | K14: 0 | L14: 0
A15: Iš viso: | J15: =SUM(J3:J14) -> 25218.9 | K15: =SUM(K3:K14) -> 28562.7 | L15: =SUM(L3:L14) -> 27779.1

Sheet 04 Bendros lėšos
A1: 04. Socialiai saugios ir sveikos apinkos kūrimo programa
A2: Bendras lėšų poreikis ir numatomi finansavimo šaltiniai
A3: tūkst. Eur
A4: Ekonominės klasifikacijos grupės | B4: Asignavimai 2022 m. | C4: Paraiška biudžetiniams | F4: 2023-iems m. patvirtinta Šilutės r. savivaldybės taryboje | G4: 2023-iems m. faktiškai skirta | H4: Projektas 2024 m. | I4: Projektas 2025 m.
C5: 2023 m.
C6: bazinis biudžetas | D6: pakeitimai/ (+padidėjimas -sumažėjimas) | E6: iš viso
A9: 1. Iš viso lėšų poreikis: | B9: ='04 Programa'!K246 -> 25218.9 | C9: =+B9 -> 25218.9 | D9: =E9-C9 -> 3343.8 | E9: ='04 Programa'!O246 -> 28562.7 | F9: ='04 Programa'!S246 -> 27779.1 | H9: ='04 Programa'!AA246 -> 28602.4 | I9: ='04 Programa'!AB246 -> 29032.7
A10: 1.1.išlaidoms | B10: ='04 Programa'!L246 -> 25168.8 | C10: =+B10 -> 25168.8 | D10: =E10-C10 -> 3384.7 | E10: ='04 Programa'!P246 -> 28553.5 | F10: ='04 Programa'!T246 -> 27764.6 | H10: =H9-H12 -> 28592.28 | I10: =I9-I12 -> 29021.568
A11: 1.1.1.iš jų darbo užmokesčiui | B11: ='04 Programa'!M246 -> 4537.9 | C11: =+B11 -> 4537.9 | D11: =E11-C11 -> 1495.7 | E11: ='04 Programa'!Q246 -> 6033.6 | F11: ='04 Programa'!U246 -> 5422.5 | H11: =E11*1.1 -> 6636.96 | I11: =H11*1.1 -> 7300.656
A12: 1.2. turtui įsigyti ir finansiniams įsipareigojimams vykdyti | B12: ='04 Programa'!N246 -> 50.1 | C12: =+B12 -> 50.1 | D12: =E12-C12 -> -40.9 | E12: ='04 Programa'!R246 -> 9.2 | F12: ='04 Programa'!V246 -> 12.5 | H12: =E12*1.1 -> 10.12 | I12: =H12*1.1 -> 11.132
A13: 2. Finansavimas | B13: =B14+B19 -> 25218.9 | C13: =C14+C19 -> 25218.9 | D13: =E13-C13 -> 3343.8 | E13: =E14+E19 -> 28562.7 | F13: =F9 -> 27779.1 | H13: =H9 -> 28602.4 | I13: =I9 -> 29032.7
A14: 2.1.Savivaldybės biudžetas: | B14: =B9-B19 -> 11728.1 | C14: =C9-C19 -> 11728.1 | D14: =E14-C14 -> 1870.3 | E14: =+E9-E19 -> 13598.4 | F14: =+F9-F19 -> 12472.9 | H14: =H13-H19 -> 13652.1 | I14: =I13-I19 -> 14082.4
A15: 2.1.1. iš jo: valstybės biudžeto specialioji tikslinė dotacija | B15: ='04 Šaltiniai'!J4 -> 5604 | C15: =B15 -> 5604 | D15: =E15-C15 -> -248.5 | E15: ='04 Šaltiniai'!K4 -> 5355.5 | F15: 4526.7 | H15: ='04 Programa'!AA223+'04 Programa'!AA205+'04 Programa'!AA198+'04 Programa'!AA195+'04 Programa'!AA185+72.7+357.5+'04 Programa'!AA147+'04 Programa'!AA143+'04 Programa'!AA137+'04 Programa'!AA134+'04 Programa'!AA129+'04 Programa'!AA127+'04 Programa'!AA125+'04 Programa'!AA121+'04 Programa'!AA119+'04 Programa'!AA115+'04 Programa'!AA110+'04 Programa'!AA107+'04 Programa'!AA103+'04 Programa'!AA101+'04 Programa'!AA99+'04 Programa'!AA97+'04 Programa'!AA85+'04 Programa'!AA74+'04 Programa'!AA71+'04 Programa'!AA62+'04 Programa'!AA60+'04 Programa'!AA57+'04 Programa'!AA52+'04 Programa'!AA50+'04 Programa'!AA37+'04 Programa'!AA29 -> 5560.5 | I15: ='04 Programa'!AB29+'04 Programa'!AB37+'04 Programa'!AB50+'04 Programa'!AB52+'04 Programa'!AB57+'04 Programa'!AB60+'04 Programa'!AB62+'04 Programa'!AB71+'04 Programa'!AB74+'04 Programa'!AB85+'04 Programa'!AB97+'04 Programa'!AB99+'04 Programa'!AB101+'04 Programa'!AB103+'04 Programa'!AB107+'04 Programa'!AB110+'04 Programa'!AB115+'04 Programa'!AB119+'04 Programa'!AB121+'04 Programa'!AB125+'04 Programa'!AB127+'04 Programa'!AB129+'04 Programa'!AB134+'04 Programa'!AB137+'04 Programa'!AB143+'04 Programa'!AB147+357.5+72.7+'04 Programa'!AB185+'04 Programa'!AB195+'04 Programa'!AB198+'04 Programa'!AB205+'04 Programa'!AB223 -> 5698.8
A16: 2.1.2.iš jo: aplinkos apsaugos rėmimo specialiosios programos lėšos | B16: ='04 Šaltiniai'!J5 -> 209.5 | C16: =B16 -> 209.5 | D16: =E16-C16 -> -27.5 | E16: ='04 Šaltiniai'!K5 -> 182 | F16: 420.9 | H16: ='04 Programa'!AA236+'04 Programa'!AA234+'04 Programa'!AA231+'04 Programa'!AA222+'04 Programa'!AA217+'04 Programa'!AA160 -> 163 | I16: ='04 Programa'!AB160+'04 Programa'!AB212+'04 Programa'!AB217+35+'04 Programa'!AB231+'04 Programa'!AB234+'04 Programa'!AB236 -> 172
A17: 2.1.3. iš jo: visuomenės sveikatos rėmimo specialiosios programos lėšos | B17: 0 | C17: 0 | D17: =E17-C17 -> 0 | E17: 0 | F17: 0 | H17: 0 | I17: 0
A18: 2.1.4. iš jo: iš pajamų už suteiktas paslaugas | B18: ='04 Šaltiniai'!J6 -> 557.5 | C18: =+B18 -> 557.5 | D18: =E18-C18 -> 76.8 | E18: ='04 Šaltiniai'!K6 -> 634.3 | F18: 556 | H18: ='04 Programa'!AA172+'04 Programa'!AA64+'04 Programa'!AA47+'04 Programa'!AA43+'04 Programa'!AA40+'04 Programa'!AA34 -> 659.6 | I18: ='04 Programa'!AB34+'04 Programa'!AB40+'04 Programa'!AB43+'04 Programa'!AB47+'04 Programa'!AB64+'04 Programa'!AB172 -> 694
A19: 2.2. Kiti šaltiniai: | B19: =SUM(B20:B26) -> 13490.8 | C19: =C20+C23+C25+C26+C24 -> 13490.8 | D19: =E19-C19 -> 1473.5 | E19: =SUM(E20:E26) -> 14964.3 | F19: =SUM(F20:F26) -> 15306.2 | H19: =SUM(H20:H26) -> 14950.3 | I19: =SUM(I20:I26) -> 14950.3
A20: 2.2.1. švietimo įstaigų modernizavimo programa | B20: 0 | C20: 0 | D20: =E20-C20 -> 0 | E20: 0 | F20: 0 | H20: 0 | I20: 0
A21: 2.2.2. skolintos lėšos | B21: 0 | C21: 0 | D21: =E21-C21 -> 0 | E21: 0 | F21: 0 | H21: 0 | I21: 0
A22: 2.2.3. Valstybės investicijų programa | B22: 0 | C22: 0 | D22: =E22-C22 -> 0 | E22: 0 | F22: 0 | H22: 0 | I22: 0
A23: 2.2.4. Užsienio valstybių, tarptautinių organizacijų ir Europos Sąjungos lėšos | B23: ='04 Šaltiniai'!J9 -> 154.9 | C23: =+B23 -> 154.9 | D23: =E23-C23 -> 19 | E23: 173.9 | F23: 71 | H23: ='04 Programa'!AA148+'04 Programa'!AA140+'04 Programa'!AA82+'04 Programa'!AA79+'04 Programa'!AA77+'04 Programa'!AA46 -> 159.9 | I23: ='04 Programa'!AB148+'04 Programa'!AB140+'04 Programa'!AB82+'04 Programa'!AB79+'04 Programa'!AB77+'04 Programa'!AB46 -> 159.9
A24: 2.2.5. Valstybės lėšos | B24: ='04 Šaltiniai'!J11 -> 13335.9 | C24: =B24 -> 13335.9 | D24: =E24-C24 -> 1454.5 | E24: ='04 Šaltiniai'!K11 -> 14790.4 | F24: 15235.2 | H24: ='04 Programa'!AA30+'04 Programa'!AA38+'04 Programa'!AA65+'04 Programa'!AA83+'04 Programa'!AA89+'04 Programa'!AA91+'04 Programa'!AA93+'04 Programa'!AA95+'04 Programa'!AA141+'04 Programa'!AA145+'04 Programa'!AA189 -> 14790.4 | I24: ='04 Programa'!AB30+'04 Programa'!AB38+'04 Programa'!AB65+'04 Programa'!AB83+'04 Programa'!AB89+'04 Programa'!AB91+'04 Programa'!AB93+'04 Programa'!AB95+'04 Programa'!AB141+'04 Programa'!AB145+'04 Programa'!AB189 -> 14790.4
A25: 2.2.6. Kelių priežiūros ir plėtros programos lėšos | B25: 0 | C25: 0 | D25: =E25-C25 -> 0 | E25: 0 | F25: 0 | H25: 0 | I25: 0
A26: 2.2.7. kitos lėšos | B26: ='04 Šaltiniai'!J12 -> 0 | C26: =B26 -> 0 | D26: =E26-C26 -> 0 | E26: ='04 Šaltiniai'!K12 -> 0 | F26: 0 | H26: 0 | I26: 0
