Workbook

Sheet 01 Programa
AA2: PATVIRTINTA
AA3: Šilutės rajono savivaldybės tarybos 2022 m. gruodžio 22 d.
AA4: sprendimu Nr. T1-1169
AA5: (Šilutės rajono savivaldybės tarybos 2023 m. vasario 23 d.
AA6: sprendimo Nr. T1-1222 redakcija)
AA7: (Šilutės rajono savivaldybės tarybos 2023 m. lapkričio 30 d.
AA8: sprendimo Nr. T1- redakcija)
AE9: (Nr. 01)
B10: 2023–2025 M. ŠILUTĖS RAJONO SAVIVALDYBĖS ADMINISTRACIJOS
B11: UGDYMO KOKYBĖS IR SPORTO PLĖTROS
B12: PROGRAMOS
B13: TIKSLŲ, PROGRAMŲ, PROGRAMŲ TIKSLŲ, UŽDAVINIŲ, UŽDAVINIŲ VERTINIMO KRITERIJŲ, PRIEMONIŲ IR PRIEMONIŲ IŠLAIDŲ SUVESTINĖ
A14: tūkst. Eur
A15: Programos kodas | B15: Programos tikslo kodas | C15: Uždavinio kodas | D15: Priemonės kodas | E15: Priemonės pavadinimas | F15: Priemonės požymis | G15: Funkcinės klasifikacijos kodas | H15: Asignavimų valdytojo kodas | I15: Priemonės vykdytojo kodas | J15: Finansavimo šaltinis | K15: 2022 m. išlaidos | O15: 2023 m. išlaidų projektas | S15: 2023 m. patvirtinta Šilutės r. savivaldybės taryboje | W15: 2023 m. faktiškai skirtas finansavimas | AA15: 2024-ųjų metų išlaidų projektas | AB15: 2025-ųjų metų išlaidų projektas | AC15: Uždavinio vertinimo kriterijus
K16: Iš viso | L16: Išlaidoms | N16: Turtui įsigyti ir finansiniams įsipareigojimams vykdyti | O16: Iš viso | P16: Išlaidoms | R16: Turtui įsigyti ir finansiniams įsipareigojimams vykdyti | S16: Iš viso | T16: Išlaidoms | V16: turtui įsigyti ir finansiniams įsipareigojimams vykdyti | W16: Iš viso | X16: Išlaidoms | Z16: Turtui įsigyti ir finansiniams įsipareigojimams vykdyti | AC16: Pavadinimas | AD16: Planas
L17: Iš viso | M17: Darbo užmokesčiui | P17: Iš viso | Q17: Darbo užmokesčiui | T17: Iš viso | U17: Darbo užmokesčiui | X17: Iš viso | Y17: Darbo užmokesčiui | AD17: 2023 m. | AE17: 2024 m. | AF17: 2025 m.
A18: Strateginis tikslas 01. Gerinti švietimo kokybę ir efektyvumą bei sudaryti sąlygas mokytis visą gyvenimą
A19: 01 | B19: 01 Ugdymo kokybės ir sporto plėtros programa
A20: 01 | B20: 01 | C20: Teikti kokybiškas bendrojo ugdymo mokyklų paslaugas
A21: 01 | B21: 01 | C21: 01 | D21: Užtikrinti mokymo(-si) programų įvairovę ir kokybę šiuolaikiškai aprūpintose švietimo įstaigose
A22: 01 | B22: 01 | C22: 01 | D22: 01 | E22: Ikimokyklinio ugdymo aplinkos išlaikymas | G22: 09.01.01.01 | I22: 4 | J22: SB | K22: =L22+N22 -> 3752.3 | L22: 3742.2 | M22: 3219.5 | N22: 10.1 | O22: =P22+R22 -> 4620.4 | P22: 4585.1 | Q22: 3903.2 | R22: 35.3 | S22: =T22+V22 -> 4767.3 | T22: 4767.3 | U22: 4214 | V22: 0 | W22: 0 | X22: 0 | Y22: 0 | Z22: 0 | AA22: 4903.9 | AB22: 5223.9 | AC22: Pagal švietimo įstaigų aprūpinimo inventoriumi, kompiuterine ir organizacine įranga, baldais ir autobusais programą, vnt. | AD22: 18 įst. | AE22: 18 įst. | AF22: 18 įst.
J23: SB(VB) | K23: =L23+N23 -> 98 | L23: 87.5 | M23: 23 | N23: 10.5 | O23: =P23+R23 -> 0 | P23: 0 | Q23: 0 | R23: 0 | S23: =T23+V23 -> 208.9 | T23: 208.9 | U23: 38.4 | V23: 0 | W23: =X23+Z23 -> 0 | X23: 0 | Y23: 0 | Z23: 0 | AA23: 0 | AB23: 0
J24: SB(SP) | K24: =L24+N24 -> 0 | L24: 0 | M24: 0 | N24: 0 | O24: =P24+R24 -> 0 | P24: 0 | Q24: 0 | R24: 0 | S24: =T24+V24 -> 0 | T24: 0 | U24: 0 | V24: 0 | W24: =X24+Z24 -> 0 | X24: 0 | Y24: 0 | Z24: 0 | AA24: 0 | AB24: 0
J25: KTL | K25: =L25+N25 -> 0 | L25: 0 | M25: 0 | N25: 0 | O25: =P25+R25 -> 0 | P25: 0 | Q25: =[1]Kint!Q14+[1]Gintar!Q15+[1]RSM!Q15+[1]Vilkyc!Q15+'[1]Sveks. l.d.'!Q15+[1]Pamar!Q15+[1]JSMC!Q15+[1]Zibut!Q15+'[1]Sveks g.'!Q15+[1]Zibai!Q15+'[1]Naum. g.'!Q15+[1]Sporto!Q15+[1]Vydun!Q15+'[1]Saugu p.'!Q15+'[1]Naum m.d.'!Q15+[1]Pirm!Q15+[1]Azuol!Q15+[1]Jankus!Q15+[1]Pusele!Q15+[1]SPT!Q15+[1]Vain!Q15+[1]Usen!Q15+[1]Zvaig!Q15+[1]Raudon!Q15+[1]Katyc!Q15+[1]Jukn!Q15+[1]Meno!Q15 -> 0 | R25: =[1]Kint!R14+[1]Gintar!R15+[1]RSM!R15+[1]Vilkyc!R15+'[1]Sveks. l.d.'!R15+[1]Pamar!R15+[1]JSMC!R15+[1]Zibut!R15+'[1]Sveks g.'!R15+[1]Zibai!R15+'[1]Naum. g.'!R15+[1]Sporto!R15+[1]Vydun!R15+'[1]Saugu p.'!R15+'[1]Naum m.d.'!R15+[1]Pirm!R15+[1]Azuol!R15+[1]Jankus!R15+[1]Pusele!R15+[1]SPT!R15+[1]Vain!R15+[1]Usen!R15+[1]Zvaig!R15+[1]Raudon!R15+[1]Katyc!R15+[1]Jukn!R15+[1]Meno!R15 -> 0 | S25: =T25+V25 -> 0 | T25: 0 | U25: 0 | V25: 0 | W25: 0 | X25: 0 | Y25: 0 | Z25: 0 | AA25: 0 | AB25: 0
J26: Iš viso: | K26: =SUM(K22:K25) -> 3850.3 | L26: =SUM(L22:L25) -> 3829.7 | M26: =SUM(M22:M25) -> 3242.5 | N26: =SUM(N22:N25) -> 20.6 | O26: =SUM(O22:O25) -> 4620.4 | P26: =SUM(P22:P25) -> 4585.1 | Q26: =SUM(Q22:Q25) -> 3903.2 | R26: =SUM(R22:R25) -> 35.3 | ... AB26: =SUM(AB22:AB25) -> 5223.9
A27: 01 | B27: 01 | C27: 01 | D27: 02 | E27: Pradinio ugdymo aplinkos išlaikymas | G27: 09.01.02.01 | I27: 4 | J27: SB | K27: =L27+N27 -> 610.5 | L27: 610.5 | M27: 462.3 | N27: 0 | O27: =R27+P27 -> 663.7 | P27: 659.5 | Q27: 470.5 | R27: 4.2 | S27: =T27+V27 -> 658.6 | T27: 658.6 | U27: 491.6 | V27: 0 | W27: 0 | X27: 0 | Y27: 0 | Z27: 0 | AA27: 721.3 | AB27: 785.4 | AC27: Pagal švietimo įstaigų aprūpinimo inventoriumi, kompiuterine ir organizacine įranga, baldais ir autobusais programą, vnt. | AD27: 4 įst. | AE27: 4 įst. | AF27: 4 įst.
J28: SB(VB) | K28: =N28+L28 -> 0 | L28: 0 | M28: 0 | N28: 0 | O28: =R28+P28 -> 8.9 | P28: 8.9 | Q28: 5.9 | R28: ='[1]Sveks. l.d.'!R18+[1]Zibut!R18+[1]Azuol!R18+[1]Pusele!R18+[1]Zvaig!R18+[1]Raudon!R18+[1]Gintar!R18+[1]Zibai!R18+'[1]Naum m.d.'!R18+[1]RSM!R18+[1]Kint!R17+[1]Vilkyc!R18+[1]Pamar!R18+'[1]Saugu p.'!R18+[1]Jankus!R18+[1]Usen!R18+[1]Jukn!R18+[1]Katyc!R18+[1]JSMC!R18+'[1]Sveks g.'!R18+[1]Vain!R18+'[1]Naum. g.'!R18+[1]Vydun!R18+[1]Pirm!R18+[1]Sporto!R18+[1]Meno!R18+[1]SPT!R18 -> 0 | S28: =T28+V28 -> 10.5 | T28: 10.5 | U28: 5.9 | V28: 0 | W28: 0 | X28: 0 | Y28: 0 | Z28: 0 | AA28: 9.1 | AB28: 9.3
J29: Iš viso: | K29: =SUM(K27:K28) -> 610.5 | L29: =SUM(L27:L28) -> 610.5 | M29: =SUM(M27:M28) -> 462.3 | N29: =SUM(N27:N28) -> 0 | O29: =SUM(O27:O28) -> 672.6 | P29: =SUM(P27:P28) -> 668.4 | Q29: =SUM(Q27:Q28) -> 476.4 | R29: =SUM(R27:R28) -> 4.2 | ... AB29: =SUM(AB27:AB28) -> 794.7
A30: 01 | B30: 01 | C30: 01 | D30: 03 | E30: Pagrindinio ugdymo aplinkos išlaikymas | G30: 09.02.01.01 | I30: 4 | J30: SB | K30: =L30+N30 -> 1645.5 | L30: 1639.2 | M30: 1082 | N30: 6.3 | O30: =R30+P30 -> 1830.9 | P30: 1830.9 | Q30: 1145 | R30: 0 | S30: =T30+V30 -> 1732.5 | T30: 1732.5 | U30: 1121.6 | V30: 0 | W30: 0 | X30: 0 | Y30: 0 | Z30: 0 | AA30: 1919.7 | AB30: 2016.8 | AC30: Pagal švietimo įstaigų aprūpinimo inventoriumi, kompiuterine ir organizacine įranga, baldais ir autobusais programą, vnt. | AD30: 9 įst. | AE30: 9 įst. | AF30: 9 įst.
J31: KTL | K31: =N31+L31 -> 0 | L31: 0 | M31: 0 | N31: 0 | O31: =R31+P31 -> 0 | P31: 0 | Q31: 0 | R31: ='[1]Sveks. l.d.'!R21+[1]Zibut!R21+[1]Azuol!R21+[1]Pusele!R21+[1]Zvaig!R21+[1]Raudon!R21+[1]Gintar!R21+[1]Zibai!R21+'[1]Naum m.d.'!R21+[1]RSM!R21+[1]Kint!R20+[1]Vilkyc!R21+[1]Pamar!R21+'[1]Saugu p.'!R21+[1]Jankus!R21+[1]Usen!R21+[1]Jukn!R21+[1]Katyc!R21+[1]JSMC!R21+'[1]Sveks g.'!R21+[1]Vain!R21+'[1]Naum. g.'!R21+[1]Vydun!R21+[1]Pirm!R21+[1]Sporto!R21+[1]Meno!R21+[1]SPT!R21 -> 0 | S31: =T31+V31 -> 1.4 | T31: 1.4 | U31: 0 | V31: 0 | W31: 0 | X31: 0 | Y31: 0 | Z31: 0 | AA31: 0 | AB31: 0
J32: SB(VB) | K32: =L32+N32 -> 397.1 | L32: 397.1 | M32: 322.4 | N32: 0 | O32: =P32+R32 -> 413.3 | P32: 413.3 | Q32: 338 | R32: 0 | S32: =T32+V32 -> 431.8 | T32: 431.8 | U32: 356.2 | V32: 0 | W32: =X32+Z32 -> 0 | X32: 0 | Y32: 0 | Z32: 0 | AA32: 413.3 | AB32: 413.3
J33: ES | K33: =L33+N33 -> 0 | L33: 0 | M33: 0 | N33: 0 | O33: =P33+R33 -> 0 | P33: 0 | Q33: 0 | R33: 0 | S33: =T33+V33 -> 0 | T33: 0 | U33: 0 | V33: 0 | W33: =X33+Z33 -> 0 | X33: 0 | Y33: 0 | Z33: 0 | AA33: 0 | AB33: 0
J34: Iš viso: | K34: =K30+K31+K33+K32 -> 2042.6 | L34: =L30+L31+L33+L32 -> 2036.3 | M34: =M30+M31+M33+M32 -> 1404.4 | N34: =N30+N31+N33+N32 -> 6.3 | O34: =O30+O31+O33+O32 -> 2244.2 | P34: =P30+P31+P33+P32 -> 2244.2 | Q34: =Q30+Q31+Q33+Q32 -> 1483 | R34: =R30+R31+R33+R32 -> 0 | ... AB34: =AB30+AB31+AB33+AB32 -> 2430.1
A35: 01 | B35: 01 | C35: 01 | D35: 04 | E35: Vidurinio ugdymo aplinkos išlaikymas | G35: 09.02.02.01 | I35: 4 | J35: SB | K35: =L35+N35 -> 1301.4 | L35: 1299.1 | M35: 883.2 | N35: 2.3 | O35: =R35+P35 -> 1551.7 | P35: 1510.5 | Q35: 989.9 | R35: 41.2 | S35: =T35+V35 -> 1436 | T35: 1436 | U35: 948.3 | V35: 0 | W35: 0 | X35: 0 | Y35: 0 | Z35: 0 | AA35: 1654.2 | AB35: 1760.6 | AC35: Pagal švietimo įstaigų aprūpinimo inventoriumi, kompiuterine ir organizacine įranga, baldais ir autobusais programą, vnt. | AD35: 6 įst. | AE35: 6 įst. | AF35: 6 įst.
J36: KTL | K36: =N36+L36 -> 0 | L36: 0 | M36: 0 | N36: 0 | O36: =R36+P36 -> 0 | P36: 0 | Q36: ='[1]Sveks. l.d.'!Q24+[1]Zibut!Q24+[1]Azuol!Q24+[1]Pusele!Q24+[1]Zvaig!Q24+[1]Raudon!Q24+[1]Gintar!Q24+[1]Zibai!Q24+'[1]Naum m.d.'!Q24+[1]RSM!Q24+[1]Kint!Q23+[1]Vilkyc!Q24+[1]Pamar!Q24+'[1]Saugu p.'!Q24+[1]Jankus!Q24+[1]Usen!Q24+[1]Jukn!Q24+[1]Katyc!Q24+[1]JSMC!Q24+'[1]Sveks g.'!Q24+[1]Vain!Q24+'[1]Naum. g.'!Q24+[1]Vydun!Q24+[1]Pirm!Q24+[1]Sporto!Q24+[1]Meno!Q24+[1]SPT!Q24 -> 0 | R36: ='[1]Sveks. l.d.'!R24+[1]Zibut!R24+[1]Azuol!R24+[1]Pusele!R24+[1]Zvaig!R24+[1]Raudon!R24+[1]Gintar!R24+[1]Zibai!R24+'[1]Naum m.d.'!R24+[1]RSM!R24+[1]Kint!R23+[1]Vilkyc!R24+[1]Pamar!R24+'[1]Saugu p.'!R24+[1]Jankus!R24+[1]Usen!R24+[1]Jukn!R24+[1]Katyc!R24+[1]JSMC!R24+'[1]Sveks g.'!R24+[1]Vain!R24+'[1]Naum. g.'!R24+[1]Vydun!R24+[1]Pirm!R24+[1]Sporto!R24+[1]Meno!R24+[1]SPT!R24 -> 0 | S36: =T36+V36 -> 29.6 | T36: 27.8 | U36: 0 | V36: 1.8 | W36: 0 | X36: 0 | Y36: 0 | Z36: 0 | AA36: 0 | AB36: 0
J37: Iš viso: | K37: =K35+K36 -> 1301.4 | L37: =L35+L36 -> 1299.1 | M37: =M35+M36 -> 883.2 | N37: =N35+N36 -> 2.3 | O37: =O35+O36 -> 1551.7 | P37: =P35+P36 -> 1510.5 | Q37: =Q35+Q36 -> 989.9 | R37: =R35+R36 -> 41.2 | ... AB37: =AB35+AB36 -> 1760.6
A38: 01 | B38: 01 | C38: 01 | D38: 05 | E38: Ikimokyklinio ugdymo proceso užtikrinimas | G38: 09.01.01.01 | I38: 4 | J38: SB(VB) | K38: =L38+N38 -> 3025.4 | L38: 3010.1 | M38: 2835.1 | N38: 15.3 | O38: =P38+R38 -> 3286.3 | P38: 3285.3 | Q38: 3154.4 | R38: 1 | S38: =T38+V38 -> 3637.9 | T38: 3637.9 | U38: 3499.3 | V38: 0 | W38: 0 | X38: 0 | Y38: 0 | Z38: 0 | AA38: 3525.8 | AB38: 3745.2 | AC38: Pagal MK skaičiavimo metodiką, įstaigų skaičius vnt. | AD38: 18 įst. | AE38: 18 įst. | AF38: 18 įst.
J39: VL | K39: =L39+N39 -> 0 | L39: 0 | M39: 0 | N39: 0 | O39: =P39+R39 -> 0 | P39: 0 | Q39: 0 | R39: 0 | S39: =T39+V39 -> 0 | T39: 0 | U39: 0 | V39: 0 | W39: =X39+Z39 -> 0 | X39: 0 | Y39: 0 | Z39: 0 | AA39: 0 | AB39: 0
J40: Iš viso: | K40: =K38+K39 -> 3025.4 | L40: =L38+L39 -> 3010.1 | M40: =M38+M39 -> 2835.1 | N40: =N38+N39 -> 15.3 | O40: =O38+O39 -> 3286.3 | P40: =P38+P39 -> 3285.3 | Q40: =Q38+Q39 -> 3154.4 | R40: =R38+R39 -> 1 | ... AB40: =AB38+AB39 -> 3745.2
A41: 01 | B41: 01 | C41: 01 | D41: 06 | E41: Pradinio ugdymo proceso užtikrinimas | G41: 09.01.02.01 | I41: 4 | J41: SB(VB) | K41: =L41+N41 -> 1235.2 | L41: 1229.2 | M41: 1162.5 | N41: 6 | O41: =R41+P41 -> 1450.9 | P41: 1450.9 | Q41: 1388.1 | R41: ='[1]Sveks. l.d.'!R28+[1]Zibut!R28+[1]Azuol!R28+[1]Pusele!R28+[1]Zvaig!R28+[1]Raudon!R28+[1]Gintar!R28+[1]Zibai!R28+'[1]Naum m.d.'!R28+[1]RSM!R28+[1]Kint!R27+[1]Vilkyc!R28+[1]Pamar!R28+'[1]Saugu p.'!R28+[1]Jankus!R28+[1]Usen!R28+[1]Jukn!R28+[1]Katyc!R28+[1]JSMC!R28+'[1]Sveks g.'!R28+[1]Vain!R28+'[1]Naum. g.'!R28+[1]Vydun!R28+[1]Pirm!R28+[1]Sporto!R28+[1]Meno!R28+[1]SPT!R28 -> 0 | S41: =T41+V41 -> 1357.9 | T41: 1357.9 | U41: 1303.9 | V41: 0 | W41: 0 | X41: 0 | Y41: 0 | Z41: 0 | AA41: 1560.8 | AB41: 1663.3 | AC41: Pagal MK skaičiavimo metodiką, įstaigų skaičius vnt. | AD41: 4 įst. | AE41: 4 įst. | AF41: 4 įst.
J42: Iš viso: | K42: =K41 -> 1235.2 | L42: =L41 -> 1229.2 | M42: =M41 -> 1162.5 | N42: =N41 -> 6 | O42: =O41 -> 1450.9 | P42: =P41 -> 1450.9 | Q42: =Q41 -> 1388.1 | R42: =R41 -> 0 | ... AB42: =AB41 -> 1663.3
A43: 01 | B43: 01 | C43: 01 | D43: 07 | E43: Pagrindinio ugdymo proceso užtikrinimas | G43: 09.02.01.01 | I43: 4 | J43: SB(VB) | K43: =L43+N43 -> 6395.7 | L43: 6370.9 | M43: 6003.2 | N43: 24.8 | O43: =R43+P43 -> 7441.2 | P43: 7433 | Q43: 7160 | R43: 8.2 | S43: =T43+V43 -> 6632.8 | T43: 6628.5 | U43: 6386.3 | V43: 4.3 | W43: 0 | X43: 0 | Y43: 0 | Z43: 0 | AA43: 7726.5 | AB43: 8035.1 | AC43: Pagal MK skaičiavimo metodiką, įstaigų skaičius vnt. | AD43: 9 įst. | AE43: 9 įst. | AF43: 9 įst.
J44: SB | K44: =L44+N44 -> 60.8 | L44: 60.8 | M44: 39 | N44: 0 | O44: =P44+R44 -> 0 | P44: 0 | Q44: 0 | R44: 0 | S44: =T44+V44 -> 0 | T44: 0 | U44: 0 | V44: 0 | W44: =X44+Z44 -> 0 | X44: 0 | Y44: 0 | Z44: 0 | AA44: 0 | AB44: 0
J45: Iš viso: | K45: =SUM(K43:K44) -> 6456.5 | L45: =SUM(L43:L44) -> 6431.7 | M45: =SUM(M43:M44) -> 6042.2 | N45: =SUM(N43:N44) -> 24.8 | O45: =SUM(O43:O44) -> 7441.2 | P45: =SUM(P43:P44) -> 7433 | Q45: =SUM(Q43:Q44) -> 7160 | R45: =SUM(R43:R44) -> 8.2 | ... AB45: =SUM(AB43:AB44) -> 8035.1
A46: 01 | B46: 01 | C46: 01 | D46: 08 | E46: Vidurinio ugdymo proceso užtikrinimas | G46: 09.02.02.01 | I46: 4 | J46: SB(VB) | K46: =L46+N46 -> 4061 | L46: 3998 | M46: 3799.3 | N46: 63 | O46: =R46+P46 -> 4918 | P46: 4879.5 | Q46: 4696 | R46: 38.5 | S46: =T46+V46 -> 4383.8 | T46: 4375.1 | U46: 4212.1 | V46: 8.7 | W46: =X46+Z46 -> 0 | X46: 0 | Y46: 0 | Z46: 0 | AA46: 5285 | AB46: 5686.2 | AC46: Pagal MK skaičiavimo metodiką, įstaigų skaičius vnt. | AD46: 6 įst. | AE46: 6 įst. | AF46: 6 įst.
J47: VL | K47: =L47+N47 -> 0 | L47: 0 | M47: 0 | N47: 0 | O47: =P47+R47 -> 0 | P47: 0 | Q47: 0 | R47: 0 | S47: =T47+V47 -> 0 | T47: 0 | U47: 0 | V47: 0 | W47: =X47+Z47 -> 0 | X47: 0 | Y47: 0 | Z47: 0 | AA47: 0 | AB47: 0
J48: Iš viso: | K48: =SUM(K46:K47) -> 4061 | L48: =SUM(L46:L47) -> 3998 | M48: =SUM(M46:M47) -> 3799.3 | N48: =SUM(N46:N47) -> 63 | O48: =SUM(O46:O47) -> 4918 | P48: =SUM(P46:P47) -> 4879.5 | Q48: =SUM(Q46:Q47) -> 4696 | R48: =SUM(R46:R47) -> 38.5 | ... AB48: =SUM(AB46:AB47) -> 5686.2
A49: 01 | B49: 01 | C49: 01 | D49: 29 | E49: Brandos egzaminų vykdymas | G49: 09.02.02.01 | I49: 4 | J49: SB(VB) | K49: =L49+N49 -> 0 | L49: 0 | M49: 0 | N49: 0 | O49: =P49+R49 -> 0 | P49: 0 | Q49: 0 | R49: 0 | S49: =T49+V49 -> 0 | T49: 0 | U49: 0 | V49: 0 | W49: 0 | X49: 0 | Y49: 0 | Z49: 0 | AA49: 0 | AB49: 0 | AC49: Pagal MK skaičiavimo metodiką, įstaigų skaičius vnt. | AD49: 1 įst. | AE49: 1 įst. | AF49: 1 įst.
J50: VL | K50: =L50+N50 -> 0 | L50: 0 | M50: 0 | N50: 0 | O50: =P50+R50 -> 0 | P50: 0 | Q50: 0 | R50: 0 | S50: =T50+V50 -> 0 | T50: 0 | U50: 0 | V50: 0 | W50: =X50+Z50 -> 0 | X50: 0 | Y50: 0 | Z50: 0 | AA50: 0 | AB50: 0
J51: Iš viso: | K51: =K49+K50 -> 0 | L51: =L49+L50 -> 0 | M51: =M49+M50 -> 0 | N51: =N49+N50 -> 0 | O51: =O49+O50 -> 0 | P51: =P49+P50 -> 0 | Q51: =Q49+Q50 -> 0 | R51: =R49+R50 -> 0 | ... AB51: =AB49+AB50 -> 0
A52: 01 | B52: 01 | C52: 01 | D52: 32 | E52: Perskirstyta MK dalis | G52: 09.06.01.01 | I52: 4 | J52: SB(VB) | K52: =L52+N52 -> 13.5 | L52: 13.5 | M52: 0 | N52: 0 | O52: =P52+R52 -> 267.8 | P52: 267.8 | Q52: 0 | R52: 0 | S52: =T52+V52 -> 328.5 | T52: 328.5 | U52: 0 | V52: 0 | W52: 0 | X52: 0 | Y52: 0 | Z52: 0 | AA52: 267.8 | AB52: 267.8 | AC52: Pagal ŠMM patvirtintą tvarką, įstaigų skaičius vnt. | AD52: 24 įst. | AE52: 24 įst. | AF52: 24 įst.
J53: SB | K53: =L53+N53 -> 0 | L53: 0 | M53: 0 | N53: 0 | O53: =P53+R53 -> 400 | P53: 400 | Q53: 394.3 | R53: 0 | S53: =T53+V53 -> 150 | T53: 150 | U53: 94.3 | V53: 0 | W53: =X53+Z53 -> 0 | X53: 0 | Y53: 0 | Z53: 0 | AA53: 400 | AB53: 400
J54: Iš viso: | K54: =SUM(K52:K53) -> 13.5 | L54: =SUM(L52:L53) -> 13.5 | M54: =SUM(M52:M53) -> 0 | N54: =SUM(N52:N53) -> 0 | O54: =SUM(O52:O53) -> 667.8 | P54: =SUM(P52:P53) -> 667.8 | Q54: =SUM(Q52:Q53) -> 394.3 | R54: =SUM(R52:R53) -> 0 | ... AB54: =SUM(AB52:AB53) -> 667.8
A55: 01 | B55: 01 | C55: 01 | D55: 33 | E55: Ugdymo kokybės krepšelis | G55: 09.06.01.01 | I55: 4 | J55: ES | K55: =L55+N55 -> 80.2 | L55: 80.2 | M55: 0 | N55: 0 | O55: =P55+R55 -> 0 | P55: 0 | Q55: 0 | R55: 0 | S55: =T55+V55 -> 0 | T55: 0 | U55: 0 | V55: 0 | W55: =X55+Z55 -> 0 | X55: 0 | Y55: 0 | Z55: 0 | AA55: 0 | AB55: 0 | AC55: Pagal ŠMM patvirtintą tvarką, įstaigų skaičius vnt. | AD55: 1 įst. | AE55: 1 įst. | AF55: 1 įst.
J56: SB | K56: =L56+N56 -> 12 | L56: 12 | M56: 0 | N56: 0 | O56: =P56+R56 -> 0 | P56: 0 | Q56: 0 | R56: 0 | S56: =T56+V56 -> 0 | T56: 0 | U56: 0 | V56: 0 | W56: =X56+Z56 -> 0 | X56: 0 | Y56: 0 | Z56: 0 | AA56: 0 | AB56: 0
J57: Iš viso: | K57: =SUM(K55:K56) -> 92.2 | L57: =SUM(L55:L56) -> 92.2 | M57: =SUM(M55:M56) -> 0 | N57: =SUM(N55:N56) -> 0 | O57: =SUM(O55:O56) -> 0 | P57: =SUM(P55:P56) -> 0 | Q57: =SUM(Q55:Q56) -> 0 | R57: =SUM(R55:R56) -> 0 | ... AB57: =SUM(AB55:AB56) -> 0
A58: 01 | B58: 01 | C58: 01 | D58: 34 | E58: Psichologinės pagalbos teikimas | G58: 09.08.01.02 | I58: 4 | J58: ES | K58: =L58+N58 -> 0 | L58: 0 | M58: 0 | N58: 0 | O58: =P58+R58 -> 0 | P58: 0 | Q58: 0 | R58: 0 | S58: =T58+V58 -> 0 | T58: 0 | U58: 0 | V58: 0 | W58: =X58+Z58 -> 0 | X58: 0 | Y58: 0 | Z58: 0 | AA58: 0 | AB58: 0 | AC58: Pagal ŠMM patvirtintą tvarką, įstaigų skaičius vnt. | AD58: 0 | AE58: 0 | AF58: 0
J59: SB | K59: =L59+N59 -> 0 | L59: 0 | M59: 0 | N59: 0 | O59: =P59+R59 -> 0 | P59: 0 | Q59: 0 | R59: 0 | S59: =T59+V59 -> 0 | T59: 0 | U59: 0 | V59: 0 | W59: =X59+Z59 -> 0 | X59: 0 | Y59: 0 | Z59: 0 | AA59: 0 | AB59: 0
J60: Iš viso: | K60: =SUM(K58:K59) -> 0 | L60: =SUM(L58:L59) -> 0 | M60: =SUM(M58:M59) -> 0 | N60: =SUM(N58:N59) -> 0 | O60: =SUM(O58:O59) -> 0 | P60: =SUM(P58:P59) -> 0 | Q60: =SUM(Q58:Q59) -> 0 | R60: =SUM(R58:R59) -> 0 | ... AB60: =SUM(AB58:AB59) -> 0
A61: 01 | B61: 01 | C61: 01 | D61: 35 | E61: Karjeros specialistų tinklo vystymas | G61: 09.08.01.02 | I61: 4 | J61: ES | K61: =L61+N61 -> 20.7 | L61: 20.7 | M61: 0 | N61: 0 | O61: =P61+R61 -> 92 | P61: 92 | Q61: 90.7 | R61: 0 | S61: =T61+V61 -> 92 | T61: 92 | U61: 90.7 | V61: 0 | W61: =X61+Z61 -> 0 | X61: 0 | Y61: 0 | Z61: 0 | AA61: 0 | AB61: 0 | AC61: Pagal LR nutarimą patvirtintas profesinio orientavimo specialistų etatų skaičius, vnt. | AD61: 5.2 | AE61: 5.2 | AF61: 0
J62: SB | K62: =L62+N62 -> 0 | L62: 0 | M62: 0 | N62: 0 | O62: =P62+R62 -> 0 | P62: 0 | Q62: 0 | R62: 0 | S62: =T62+V62 -> 0 | T62: 0 | U62: 0 | V62: 0 | W62: =X62+Z62 -> 0 | X62: 0 | Y62: 0 | Z62: 0 | AA62: 0 | AB62: 0
J63: Iš viso: | K63: =SUM(K61:K62) -> 20.7 | L63: =SUM(L61:L62) -> 20.7 | M63: =SUM(M61:M62) -> 0 | N63: =SUM(N61:N62) -> 0 | O63: =SUM(O61:O62) -> 92 | P63: =SUM(P61:P62) -> 92 | Q63: =SUM(Q61:Q62) -> 90.7 | R63: =SUM(R61:R62) -> 0 | ... AB63: =SUM(AB61:AB62) -> 0
A64: 01 | B64: 01 | C64: 01 | D64: 36 | E64: Tūkstantmečio mokyklų programos įgyvendinimas | G64: 09.08.01.02 | I64: 4 | J64: ES | K64: =L64+N64 -> 0 | L64: 0 | M64: 0 | N64: 0 | O64: =P64+R64 -> 0 | P64: 0 | Q64: 0 | R64: 0 | S64: =T64+V64 -> 871.5 | T64: 0 | U64: 0 | V64: 871.5 | W64: =X64+Z64 -> 0 | X64: 0 | Y64: 0 | Z64: 0 | AA64: 1162 | AB64: 871.5 | AC64: Sukurta visoms Savivaldybės mokykloms pasiekiama integruotų laboratorijų bazė, vnt. | AD64: 0 | AE64: 1 | AF64: 2
J65: SB | K65: =L65+N65 -> 0 | L65: 0 | M65: 0 | N65: 0 | O65: =P65+R65 -> 0 | P65: 0 | Q65: 0 | R65: 0 | S65: =T65+V65 -> 0 | T65: 0 | U65: 0 | V65: 0 | W65: =X65+Z65 -> 0 | X65: 0 | Y65: 0 | Z65: 0 | AA65: 0 | AB65: 0 | AC65: 7–12 kl. mokinių, bent kartą per mėnesį dalyvaujančių STEAM pamokose, dalis proc. | AD65: 0 | AE65: 25 | AF65: 70
AC66: Metodinio centro įkūrimas Žibų pradinėje mokykloje, vnt. | AD66: 0 | AE66: 1
J67: Iš viso: | K67: =SUM(K64:K65) -> 0 | L67: =SUM(L64:L65) -> 0 | M67: =SUM(M64:M65) -> 0 | N67: =SUM(N64:N65) -> 0 | O67: =SUM(O64:O65) -> 0 | P67: =SUM(P64:P65) -> 0 | Q67: =SUM(Q64:Q65) -> 0 | R67: =SUM(R64:R65) -> 0 | ... AB67: =SUM(AB64:AB65) -> 871.5 | AC67: Lyderystės praktikumai, siekiant užtikrinti tinklaveiką ir TŪM programos tvarumą Savivaldybėje, vnt. | AD67: 0 | AE67: 12 | AF67: 24
A68: 01 | B68: 01 | C68: 01 | D68: Iš viso uždaviniui: | K68: =K26+K29+K34+K37+K40+K42+K45+K48+K51+K54+K67+K57+K60+K63 -> 22709.3 | L68: =L26+L29+L34+L37+L40+L42+L45+L48+L51+L54+L67+L57+L60+L63 -> 22571 | M68: =M26+M29+M34+M37+M40+M42+M45+M48+M51+M54+M67+M57+M60+M63 -> 19831.5 | N68: =N26+N29+N34+N37+N40+N42+N45+N48+N51+N54+N67+N57+N60+N63 -> 138.3 | O68: =O26+O29+O34+O37+O40+O42+O45+O48+O51+O54+O67+O57+O60+O63 -> 26945.1 | P68: =P26+P29+P34+P37+P40+P42+P45+P48+P51+P54+P67+P57+P60+P63 -> 26816.7 | Q68: =Q26+Q29+Q34+Q37+Q40+Q42+Q45+Q48+Q51+Q54+Q67+Q57+Q60+Q63 -> 23736 | R68: =R26+R29+R34+R37+R40+R42+R45+R48+R51+R54+R67+R57+R60+R63 -> 128.4 | ... AB68: =AB26+AB29+AB34+AB37+AB40+AB42+AB45+AB48+AB51+AB54+AB67+AB57+AB60+AB63 -> 30878.4
A69: 01 | B69: 01 | C69: 02 | D69: Teikti kokybiškas neformaliojo ugdymo įstaigų paslaugas
A70: 01 | B70: 01 | C70: 02 | D70: 01 | E70: Neformaliojo ugdymo įstaigų išlaikymas | G70: 09.05.01.01 | I70: 4 | J70: SB | K70: =L70+N70 -> 1108.6 | L70: 1078.4 | M70: 980 | N70: 30.2 | O70: =P70+R70 -> 1895.3 | P70: 1895.3 | Q70: 1537.8 | R70: 0 | S70: =T70+V70 -> 1738.5 | T70: 1719 | U70: 1459 | V70: 19.5 | W70: 0 | X70: 0 | Y70: 0 | Z70: 0 | AA70: 2202.8 | AB70: 2284.5 | AC70: Pagal ŠMM patvirtintus bendruosius ugdymo planus, įstaigų skaičius vnt. | AD70: 3 įst. | AE70: 3 įst. | AF70: 3 įst.
J71: SB(VB) | K71: =L71+N71 -> 83 | L71: 83 | M71: 65.6 | N71: 0 | O71: =P71+R71 -> 74.8 | P71: 74.8 | Q71: 56.8 | R71: 0 | S71: =T71+V71 -> 76.8 | T71: 73.3 | U71: 56.8 | V71: 3.5 | W71: 0 | X71: 0 | Y71: 0 | Z71: 0 | AA71: 81.6 | AB71: 89.1
J72: SB(SP) | K72: =L72+N72 -> 0 | L72: 0 | M72: 0 | N72: 0 | O72: =P72+R72 -> 0 | P72: 0 | Q72: 0 | R72: 0 | S72: =T72+V72 -> 0 | T72: 0 | U72: 0 | V72: 0 | W72: =X72+Z72 -> 0 | X72: 0 | Y72: 0 | Z72: 0 | AA72: 0 | AB72: 0
J73: KTL | K73: =L73+N73 -> 0 | L73: 0 | M73: 0 | N73: 0 | O73: =P73+R73 -> 0 | P73: 0 | Q73: 0 | R73: 0 | S73: =T73+V73 -> 10 | T73: 10 | U73: 0 | V73: 0 | W73: 0 | X73: 0 | Y73: 0 | Z73: 0 | AA73: 0 | AB73: 0
J74: Iš viso: | K74: =K70+K71+K73+K72 -> 1191.6 | L74: =L70+L71+L73+L72 -> 1161.4 | M74: =M70+M71+M73+M72 -> 1045.6 | N74: =N70+N71+N73+N72 -> 30.2 | O74: =O70+O71+O73+O72 -> 1970.1 | P74: =P70+P71+P73+P72 -> 1970.1 | Q74: =Q70+Q71+Q73+Q72 -> 1594.6 | R74: =R70+R71+R73+R72 -> 0 | ... AB74: =AB70+AB71+AB73+AB72 -> 2373.6
A75: 01 | B75: 01 | C75: 02 | D75: 03 | E75: Neformalus vaikų ir suaugusiųjų švietimas (NVŠ projektai) | G75: 09.05.01.01 09.05.01.02 | I75: 4 | J75: SB | K75: =L75+N75 -> 0 | L75: 0 | M75: 0 | N75: 0 | O75: =P75+R75 -> 0 | P75: 0 | Q75: 0 | R75: 0 | S75: =T75+V75 -> 0 | T75: 0 | U75: 0 | V75: 0 | W75: =X75+Z75 -> 0 | X75: 0 | Y75: 0 | Z75: 0 | AA75: 0 | AB75: 0 | AC75: Pagal ŠMM patvirtintą tvarką, tiekėjų skaičius vnt. | AD75: 60 teik. | AE75: 60 teik. | AF75: 60 teik.
J76: ES | K76: =L76+N76 -> 0 | L76: 0 | M76: 0 | N76: 0 | O76: =P76+R76 -> 0 | P76: 0 | Q76: 0 | R76: 0 | S76: =T76+V76 -> 0 | T76: 0 | U76: 0 | V76: 0 | W76: =X76+Z76 -> 0 | X76: 0 | Y76: 0 | Z76: 0 | AA76: 0 | AB76: 0
J77: SB(VB) | K77: =L77+N77 -> 182.4 | L77: 182.4 | M77: 5.2 | N77: 0 | O77: =P77+R77 -> 229.8 | P77: 229.8 | Q77: 6.7 | R77: 0 | S77: =T77+V77 -> 225.8 | T77: 225.8 | U77: 6.7 | V77: 0 | W77: =X77+Z77 -> 0 | X77: 0 | Y77: 0 | Z77: 0 | AA77: 229.8 | AB77: 229.8
J78: Iš viso: | K78: =SUM(K75:K77) -> 182.4 | L78: =SUM(L75:L77) -> 182.4 | M78: =SUM(M75:M77) -> 5.2 | N78: =SUM(N75:N77) -> 0 | O78: =SUM(O75:O77) -> 229.8 | P78: =SUM(P75:P77) -> 229.8 | Q78: =SUM(Q75:Q77) -> 6.7 | R78: =SUM(R75:R77) -> 0 | ... AB78: =SUM(AB75:AB77) -> 229.8
A79: 01 | B79: 01 | C79: 02 | D79: 04 | E79: Trečiojo amžiaus universiteto išlaikymas | G79: 09.05.01.02 | I79: 4 | J79: SB | K79: =L79+N79 -> 8 | L79: 8 | M79: 0 | N79: 0 | O79: =P79+R79 -> 10 | P79: 10 | Q79: 0 | R79: 0 | S79: =T79+V79 -> 10 | T79: 10 | U79: 0 | V79: 0 | W79: 0 | X79: 0 | Y79: 0 | Z79: 0 | AA79: 12 | AB79: 14 | AC79: Savivaldybės tarybos sprendimu, įstaigų skaičius, vnt. | AD79: 1 įst. | AE79: 1 įst. | AF79: 1 įst.
J80: Iš viso: | K80: =K79 -> 8 | L80: =L79 -> 8 | M80: =M79 -> 0 | N80: =N79 -> 0 | O80: =O79 -> 10 | P80: =P79 -> 10 | Q80: =Q79 -> 0 | R80: =R79 -> 0 | ... AB80: =AB79 -> 14
A81: 01 | B81: 01 | C81: 02 | E81: Iš viso uždaviniui: | K81: =K74+K78+K80 -> 1382 | L81: =L74+L78+L80 -> 1351.8 | M81: =M74+M78+M80 -> 1050.8 | N81: =N74+N78+N80 -> 30.2 | O81: =O74+O78+O80 -> 2209.9 | P81: =P74+P78+P80 -> 2209.9 | Q81: =Q74+Q78+Q80 -> 1601.3 | R81: =R74+R78+R80 -> 0 | ... AB81: =AB74+AB78+AB80 -> 2617.4
A82: 01 | B82: 01 | C82: 03 | D82: Užtikrinti efektyvią švietimo įstaigų veiklą ir teikiamų paslaugų kokybę (mokyklos nepildo)
A83: 01 | B83: 01 | C83: 03 | D83: 01 | E83: Šilutės rajono švietimo pagalbos tarnybos išlaikymas, paslaugų teikimas | G83: 09.05.01.02 | I83: 4 | J83: SB | K83: =L83+N83 -> 128.5 | L83: 128.5 | M83: 120 | N83: 0 | O83: =P83+R83 -> 134.9 | P83: 134.9 | Q83: 122.8 | R83: 0 | S83: =T83+V83 -> 128.7 | T83: 128.7 | U83: 119 | V83: 0 | W83: 0 | X83: 0 | Y83: 0 | Z83: 0 | AA83: 147.6 | AB83: 162.4 | AC83: Pagal MK skaičiavimo metodiką, įstaigų skaičius vnt. | AD83: 1 įst. | AE83: 1 įst. | AF83: 1 įst.
J84: SB(VB) | K84: =L84+N84 -> 157 | L84: 157 | M84: 149.6 | N84: 0 | O84: =P84+R84 -> 237.7 | P84: 237.7 | Q84: 233.7 | R84: 0 | S84: =T84+V84 -> 205.5 | T84: 205.5 | U84: 202.5 | V84: 0 | W84: 0 | X84: 0 | Y84: 0 | Z84: 0 | AA84: 261.5 | AB84: 287.7
J85: KTL | K85: =L85+N85 -> 0 | L85: 0 | M85: 0 | N85: 0 | O85: =P85+R85 -> 0 | P85: 0 | Q85: 0 | R85: 0 | S85: =T85+V85 -> 0 | T85: 0 | U85: 0 | V85: 0 | W85: 0 | X85: 0 | Y85: 0 | Z85: 0 | AA85: 0 | AB85: 0
J86: ES | K86: 0 | L86: 0 | M86: 0 | N86: 0 | O86: =P86+R86 -> 0 | P86: 0 | Q86: 0 | R86: 0 | S86: =T86+V86 -> 0 | T86: 0 | U86: 0 | V86: 0 | W86: 0 | X86: 0 | Y86: 0 | Z86: 0 | AA86: 0 | AB86: 0
J87: Iš viso: | K87: =SUM(K83:K86) -> 285.5 | L87: =SUM(L83:L86) -> 285.5 | M87: =SUM(M83:M86) -> 269.6 | N87: =SUM(N83:N86) -> 0 | O87: =O83+O84+O85+O86 -> 372.6 | P87: =P83+P84+P85+P86 -> 372.6 | Q87: =Q83+Q84+Q85+Q86 -> 356.5 | R87: =R83+R84+R85+R86 -> 0 | S87: =SUM(S83:S86) -> 334.2 | T87: =SUM(T83:T86) -> 334.2 | U87: =SUM(U83:U86) -> 321.5 | V87: =SUM(V83:V86) -> 0 | W87: 0 | X87: 0 | Y87: 0 | Z87: 0 | AA87: =AA83+AA84+AA85+AA86 -> 409.1 | AB87: =AB83+AB84+AB85+AB86 -> 450.1
A88: 01 | B88: 01 | C88: 03 | E88: Iš viso uždaviniui: | K88: =SUM(K87) -> 285.5 | L88: =SUM(L87) -> 285.5 | M88: =SUM(M87) -> 269.6 | N88: =SUM(N87) -> 0 | O88: =SUM(O87) -> 372.6 | P88: =SUM(P87) -> 372.6 | Q88: =SUM(Q87) -> 356.5 | R88: =SUM(R87) -> 0 | ... AB88: =SUM(AB87) -> 450.1
A89: 01 | B89: 01 | C89: 04 | D89: Vykdyti priemones, netiesiogiai įtakojančias kokybišką ugdymo procesą (centralizuotų priemonių vykdymas) (mokyklos nepildo)
A90: 01 | B90: 01 | C90: 04 | D90: 01 | E90: Rajoniniai, respublikiniai, tarptautiniai renginiai (olimpiados, konkursai, konferencijos, dainų šventės, festivaliai, sporto varžybos) | G90: 09.08.01.01 | I90: 4 | J90: SB | K90: =L90+N90 -> 17.2 | L90: 17.2 | M90: 0 | N90: 0 | O90: =P90+R90 -> 25 | P90: 25 | Q90: 0 | R90: 0 | S90: =T90+V90 -> 45 | T90: 45 | U90: 0 | V90: 0 | W90: 0 | X90: 0 | Y90: 0 | Z90: 0 | AA90: 25 | AB90: 25 | AC90: Pagal ŠMM programą, įstaigų skaičius vnt. | AD90: 18 įst. | AE90: 18 įst. | AF90: 18 įst.
J91: Iš viso: | K91: =K90 -> 17.2 | L91: =L90 -> 17.2 | M91: =M90 -> 0 | N91: =N90 -> 0 | O91: =O90 -> 25 | P91: =P90 -> 25 | Q91: =Q90 -> 0 | R91: =R90 -> 0 | ... V91: =V90 -> 0 | W91: 0 | X91: 0 | Y91: 0 | Z91: 0 | AA91: =AA90 -> 25 | AB91: =AB90 -> 25
A92: 01 | B92: 01 | C92: 04 | D92: 05 | E92: Vaikų vasaros poilsis | G92: 09.08.01.01 | I92: 4 | J92: SB | K92: =L92+N92 -> 15 | L92: 15 | M92: 0 | N92: 0 | O92: =P92+R92 -> 20 | P92: 20 | Q92: 0 | R92: 0 | S92: =T92+V92 -> 20 | T92: 20 | U92: 0 | V92: 0 | W92: 0 | X92: 0 | Y92: 0 | Z92: 0 | AA92: 20 | AB92: 20 | AC92: Savivaldybės tarybos sprendimu, įstaigų skaičius vnt. | AD92: 17 įst. | AE92: 17 įst. | AF92: 17 įst.
J93: KTL | K93: =L93+N93 -> 0 | L93: 0 | M93: 0 | N93: 0 | O93: =P93+R93 -> 0 | P93: 0 | Q93: 0 | R93: 0 | S93: =T93+V93 -> 0 | T93: 0 | U93: 0 | V93: 0 | W93: =X93+Z93 -> 0 | X93: 0 | Y93: 0 | Z93: 0 | AA93: 0 | AB93: 0
J94: Iš viso: | K94: =SUM(K92:K93) -> 15 | L94: =SUM(L92:L93) -> 15 | M94: =SUM(M92:M93) -> 0 | N94: =SUM(N92:N93) -> 0 | O94: =SUM(O92:O93) -> 20 | P94: =SUM(P92:P93) -> 20 | Q94: =SUM(Q92:Q93) -> 0 | R94: =SUM(R92:R93) -> 0 | ... AB94: =SUM(AB92:AB93) -> 20
A95: 01 | B95: 01 | C95: 04 | D95: 07 | E95: Bendrojo ugdymo mokyklų tinklo stiprinimas | G95: 09.08.01.02 | I95: 4 | J95: SB(VB) | K95: =L95+N95 -> 137.6 | L95: 137.6 | M95: 0 | N95: 0 | O95: =P95+R95 -> 0 | P95: 0 | Q95: 0 | R95: 0 | S95: =T95+V95 -> 0 | T95: 0 | U95: 0 | V95: 0 | W95: 0 | X95: 0 | Y95: 0 | Z95: 0 | AA95: 0 | AB95: 0 | AC95: Mokyklinių autobusų skaičius, vnt | AD95: 6 | AE95: 5 | AF95: 5
J96: Iš viso: | K96: =SUM(K95:K95) -> 137.6 | L96: =SUM(L95:L95) -> 137.6 | M96: =SUM(M95:M95) -> 0 | N96: =SUM(N95:N95) -> 0 | O96: =SUM(O95:O95) -> 0 | P96: =SUM(P95:P95) -> 0 | Q96: =SUM(Q95:Q95) -> 0 | R96: =SUM(R95:R95) -> 0 | ... AB96: =SUM(AB95:AB95) -> 0
A97: 01 | B97: 01 | C97: 04 | E97: Iš viso uždaviniui: | K97: =K91+K96+K94 -> 169.8 | L97: =L91+L96+L94 -> 169.8 | M97: =M91+M96+M94 -> 0 | N97: =N91+N96+N94 -> 0 | O97: =O91+O96+O94 -> 45 | P97: =P91+P96+P94 -> 45 | Q97: =Q91+Q96+Q94 -> 0 | R97: =R91+R96+R94 -> 0 | ... AB97: =AB91+AB96+AB94 -> 45
A98: 01 | B98: 01 | C98: 05 | D98: Pedagoginių darbuotojų darbo apmokėjimo sąlygų gerinimas ir skaičių optimizavimas
A99: 01 | B99: 01 | C99: 05 | D99: 01 | E99: Pedagoginių darbuotojų darbo užmokesčio didinimas | G99: 09.01.01.01 09.01.02.01 09.02.01.01 09.02.02.01 | I99: 4 | J99: VL | K99: 0 | L99: 0 | M99: 0 | N99: 0 | O99: 0 | P99: 0 | Q99: 0 | R99: 0 | S99: 0 | T99: 0 | U99: 0 | V99: 0 | W99: 0 | X99: 0 | Y99: 0 | Z99: 0 | AA99: 0 | AB99: 0 | AC99: Savivaldybės tarybos sprendimu, įstaigų skaičius vnt.
J100: SB(VB) | K100: =L100+N100 -> 218 | L100: 218 | M100: 214.9 | N100: 0 | O100: =R100+P100 -> 0 | P100: 0 | Q100: 0 | R100: 0 | S100: =T100+V100 -> 0 | T100: 0 | U100: 0 | V100: 0 | W100: 0 | X100: 0 | Y100: 0 | Z100: 0 | AA100: 0 | AB100: 0
J101: Iš viso: | K101: =SUM(K99:K100) -> 218 | L101: =SUM(L99:L100) -> 218 | M101: =SUM(M99:M100) -> 214.9 | N101: =SUM(N99:N100) -> 0 | O101: =SUM(O99:O100) -> 0 | P101: =SUM(P99:P100) -> 0 | Q101: =SUM(Q99:Q100) -> 0 | R101: =SUM(R99:R100) -> 0 | ... AB101: =SUM(AB99:AB100) -> 0
...

Sheet 01 Išlaidų suvestinė
A1: (Nr. 01)
A2: Šilutės rajono savivaldybės administracijos 2023–2025 m. SVP Ugdymo kokybės ir sporto plėtros programos išlaidų suvestinė
A4: tūkst. Eur
A5: Strateginio tikslo kodas | B5: Programos kodas | C5: Programos pavadinimas | D5: Funkcinės klasifikacijos kodas | E5: Asignavimų valdytojo kodas | F5: 2022 m. išlaidos | J5: 2023 m. išlaidų projektas | N5: 2023 m. patvirtinta Šilutės r. savivaldybės taryboje | R5: 2023 m. faktiškai skirtas finansavimas
F6: Iš viso | G6: Išlaidoms | I6: Turtui įsigyti ir finansiniams įsipareigojimams vykdyti | J6: Iš viso | K6: Išlaidoms | M6: Turtui įsigyti ir finansiniams įsipareigojimams vykdyti | N6: Iš viso | O6: Išlaidoms | Q6: Turtui įsigyti ir finansiniams įsipareigojimams vykdyti | R6: Iš viso | S6: Išlaidoms | U6: Turtui įsigyti ir finansiniams įsipareigojimams vykdyti
G7: Iš viso | H7: Iš jų darbo užmokesčiui | K7: Iš viso | L7: Iš jų darbo užmokesčiui | O7: Iš viso | P7: Iš jų darbo užmokesčiui | S7: Iš viso | T7: Iš jų darbo užmokesčiui
A8: 1 | B8: 1 | C8: Ugdymo kokybės ir sporto plėtros | D8: 09.01.01.01. 09.01.02.01. 09.02.01.01. 09.02.02.01. 09.06.01.01. 09.05.01.01. 09.05.01.02. 09.08.01.01. 08.01.01.02. 09.08.01.02 | F8: ='01 Programa'!K143 -> 25894.9 | G8: ='01 Programa'!L143 -> 25709.4 | H8: ='01 Programa'!M143 -> 21627.3 | I8: ='01 Programa'!N143 -> 185.5 | J8: ='01 Programa'!O143 -> 31132.5 | K8: ='01 Programa'!P143 -> 30994.1 | L8: ='01 Programa'!Q143 -> 26088.1 | M8: ='01 Programa'!R143 -> 138.4 | ... Q8: ='01 Programa'!V143 -> 912.3
A9: IŠ VISO: | F9: =SUM(F8) -> 25894.9 | G9: =SUM(G8) -> 25709.4 | H9: =SUM(H8) -> 21627.3 | I9: =SUM(I8) -> 185.5 | J9: =SUM(J8) -> 31132.5 | K9: =SUM(K8) -> 30994.1 | L9: =SUM(L8) -> 26088.1 | M9: =SUM(M8) -> 138.4 | ... U9: =SUM(U8) -> 0

Sheet 01 Šaltiniai
A1: 01. Ugdymo kokybės ir sporto plėtros programa
A2: Finansavimo šaltiniai | J2: 2022 m. išlaidos, tūkst. Eur | N2: 2023 m. projektas, tūkst. Eur | S2: 2023 m. patvirtinta Šilutės r. savivaldybės taryboje, tūkst. Eur | AB2: 2023 m. faktiškai skirtas finansavimas, tūkst. Eur
A3: Savivaldybės biudžetas SB | J3: ='01 Programa'!K22+'01 Programa'!K27+'01 Programa'!K30+'01 Programa'!K35+'01 Programa'!K44+'01 Programa'!K53+'01 Programa'!K56+'01 Programa'!K59+'01 Programa'!K62+'01 Programa'!K65+'01 Programa'!K70+'01 Programa'!K75+'01 Programa'!K79+'01 Programa'!K83+'01 Programa'!K90+'01 Programa'!K92+'01 Programa'!K133+'01 Programa'!K138 -> 9082 | N3: ='01 Programa'!O138+'01 Programa'!O133+'01 Programa'!O95+'01 Programa'!O90+'01 Programa'!O79+'01 Programa'!O75+'01 Programa'!O70+'01 Programa'!O65+'01 Programa'!O62+'01 Programa'!O56+'01 Programa'!O53+'01 Programa'!O35+'01 Programa'!O30+'01 Programa'!O27+'01 Programa'!O22+'01 Programa'!O83+'01 Programa'!O92 -> 11746.4 | S3: ='01 Programa'!S138+'01 Programa'!S133+'01 Programa'!S92+'01 Programa'!S90+'01 Programa'!S83+'01 Programa'!S79+'01 Programa'!S75+'01 Programa'!S70+'01 Programa'!S65+'01 Programa'!S62+'01 Programa'!S59+'01 Programa'!S56+'01 Programa'!S53+'01 Programa'!S44+'01 Programa'!S35+'01 Programa'!S30+'01 Programa'!S27+'01 Programa'!S22 -> 11270.9
A4: Valstybės biudžeto specialioji tikslinė dotacija SB(VB) | J4: ='01 Programa'!K103+'01 Programa'!K100+'01 Programa'!K95+'01 Programa'!K84+'01 Programa'!K77+'01 Programa'!K71+'01 Programa'!K52+'01 Programa'!K49+'01 Programa'!K46+'01 Programa'!K43+'01 Programa'!K41+'01 Programa'!K38+'01 Programa'!K32+'01 Programa'!K28+'01 Programa'!K23 -> 16010.8 | N4: ='01 Programa'!O23+'01 Programa'!O28+'01 Programa'!O32+'01 Programa'!O38+'01 Programa'!O41+'01 Programa'!O43+'01 Programa'!O46+'01 Programa'!O49+'01 Programa'!O52+'01 Programa'!O71+'01 Programa'!O77+'01 Programa'!O84+'01 Programa'!O100+'01 Programa'!O103 -> 18328.7 | S4: ='01 Programa'!S23+'01 Programa'!S28+'01 Programa'!S32+'01 Programa'!S38+'01 Programa'!S41+'01 Programa'!S43+'01 Programa'!S46+'01 Programa'!S49+'01 Programa'!S52+'01 Programa'!S71+'01 Programa'!S77+'01 Programa'!S84+'01 Programa'!S95+'01 Programa'!S100+'01 Programa'!S103 -> 17500.2
A5: Aplinkos apsaugos rėmimo specialiosios programos lėšos SB(AA) | J5: 0 | N5: 0 | S5: 0
A6: Pajamos už suteiktas paslaugas SB(SP) | J6: ='01 Programa'!K127+'01 Programa'!K125+'01 Programa'!K123+'01 Programa'!K121+'01 Programa'!K119+'01 Programa'!K117+'01 Programa'!K115+'01 Programa'!K113+'01 Programa'!K111+'01 Programa'!K109+'01 Programa'!K72+'01 Programa'!K24 -> 701.2 | N6: ='01 Programa'!O127+'01 Programa'!O125+'01 Programa'!O123+'01 Programa'!O121+'01 Programa'!O119+'01 Programa'!O117+'01 Programa'!O115+'01 Programa'!O113+'01 Programa'!O111+'01 Programa'!O109+'01 Programa'!O72+'01 Programa'!O24 -> 965.4 | S6: ='01 Programa'!S24+'01 Programa'!S72+'01 Programa'!S109+'01 Programa'!S111+'01 Programa'!S113+'01 Programa'!S115+'01 Programa'!S117+'01 Programa'!S119+'01 Programa'!S121+'01 Programa'!S123+'01 Programa'!S125+'01 Programa'!S127 -> 849.5
A7: Švietimo įstaigų modernizavimo programa SB(ŠIMP) | J7: 0 | N7: 0 | S7: 0
A8: Skolintos lėšos SL | J8: 0 | N8: 0 | S8: 0
A9: Užsienio valstybių, tarptautinių organizacijų ir Europos Sąjungos lėšos ES, EEE | J9: ='01 Programa'!K33+'01 Programa'!K55+'01 Programa'!K61+'01 Programa'!K64+'01 Programa'!K76+'01 Programa'!K86 -> 100.9 | N9: ='01 Programa'!O86+'01 Programa'!O76+'01 Programa'!O64+'01 Programa'!O61+'01 Programa'!O55+'01 Programa'!O33 -> 92 | S9: ='01 Programa'!S64+'01 Programa'!S61 -> 963.5
A10: Visuomenės sveikatos apsaugos rėmimo specialioji programa SB(VS) | J10: 0 | N10: 0 | S10: 0
A11: Valstybės lėšos VL | J11: 0 | N11: ='01 Programa'!O102+'01 Programa'!O99+'01 Programa'!O50+'01 Programa'!O47+'01 Programa'!O44+'01 Programa'!O39 -> 0 | S11: 0
A12: Kitos lėšos KTL | J12: ='01 Programa'!K25+'01 Programa'!K31+'01 Programa'!K36+'01 Programa'!K73+'01 Programa'!K85+'01 Programa'!K93+'01 Programa'!K134+'01 Programa'!K139 -> 0 | N12: ='01 Programa'!O139+'01 Programa'!O134+'01 Programa'!O93+'01 Programa'!O85+'01 Programa'!O73+'01 Programa'!O36+'01 Programa'!O31+'01 Programa'!O25 -> 0 | S12: ='01 Programa'!S31+'01 Programa'!S36+'01 Programa'!S73 -> 41
A13: Kelių priežiūros ir plėtros programa KPPP | J13: 0 | N13: 0 | S13: 0
A14: Valstybės investicijų programa VIP | J14: 0 | N14: 0 | S14: 0
A15: Iš viso: | J15: =SUM(J3:M14) -> 25894.9 | N15: =SUM(N3:R14) -> 31132.5 | S15: =SUM(S3:AA14) -> 30625.1

Sheet 01 Bendros lėšos
A1: 01. Ugdymo kokybės ir sporto plėtros programa
A3: Bendras lėšų poreikis ir numatomi finansavimo šaltiniai
A4: tūkst. Eur
A5: Ekonominės klasifikacijos grupės | B5: Asignavimai 2022 m. | C5: Paraiška biudžetiniams 2023 m. | F5: 2023-iems m. patvirtinta Šilutės r. savivaldybės taryboje | G5: 2023-iems m. faktiškai skirta | H5: Projektas 2024 m. | I5: Projektas 2025 m.
C7: bazinis biudžetas | D7: pakeitimai/ (+padidėjimas -sumažėjimas) | E7: iš viso
A10: 1. Iš viso lėšų poreikis: | B10: =B11+B13 -> 25894.9 | C10: =+B10 -> 25894.9 | D10: =E10-C10 -> 5237.6 | E10: =E11+E13 -> 31132.5 | F10: ='01 Programa'!S143 -> 30625.1 | H10: ='01 Programa'!AA143 -> 34210.5 | I10: ='01 Programa'!AB143 -> 35793.3
A11: 1.1.išlaidoms | B11: ='01 Programa'!L143 -> 25709.4 | C11: =+B11 -> 25709.4 | D11: =E11-C11 -> 5284.7 | E11: ='01 Programa'!P143 -> 30994.1 | F11: ='01 Programa'!T143 -> 29712.8 | H11: =H10-H13 -> 33206.97 | I11: =I10-I13 -> 34689.417
A12: 1.1.1.iš jų darbo užmokesčiui | B12: ='01 Programa'!M143 -> 21627.3 | C12: =+B12 -> 21627.3 | D12: =E12-C12 -> 4460.8 | E12: ='01 Programa'!Q143 -> 26088.1 | F12: ='01 Programa'!U143 -> 24993.9 | H12: 27099.8 | I12: =H12*1.1 -> 29809.78
A13: 1.2. turtui įsigyti ir finansiniams įsipareigojimams vykdyti | B13: ='01 Programa'!N143 -> 185.5 | C13: =+B13 -> 185.5 | D13: =E13-C13 -> -47.1 | E13: ='01 Programa'!R143 -> 138.4 | F13: ='01 Programa'!V143 -> 912.3 | H13: =F13*1.1 -> 1003.53 | I13: =H13*1.1 -> 1103.883
A14: 2. Finansavimas | B14: =B10 -> 25894.9 | C14: =C15+C20 -> 25894.9 | D14: =E14-C14 -> 5237.6 | E14: =E15+E20 -> 31132.5 | F14: ='01 Programa'!S143 -> 30625.1 | H14: =H10 -> 34210.5 | I14: =I10 -> 35793.3
A15: 2.1.Savivaldybės biudžetas: | B15: =B10-B20 -> 25794 | C15: =C10-C20 -> 25794 | D15: =D10-D20 -> 5246.5 | E15: =E10-E20 -> 31040.5 | F15: =+F10-F20 -> 29620.6 | H15: =H14-H20 -> 34210.5 | I15: =I14-I20 -> 35793.3
A16: 2.1.1. iš jo: valstybės biudžeto specialioji tikslinė dotacija | B16: =C16 -> 16010.8 | C16: ='01 Šaltiniai'!J4 -> 16010.8 | D16: =E16-C16 -> 2317.9 | E16: ='01 Šaltiniai'!N4 -> 18328.7 | F16: ='01 Šaltiniai'!S4 -> 17500.2 | H16: ='01 Programa'!AA38+'01 Programa'!AA41+'01 Programa'!AA43+'01 Programa'!AA46+'01 Programa'!AA49+'01 Programa'!AA52+'01 Programa'!AA71+'01 Programa'!AA84+'01 Programa'!AA100+'01 Programa'!AA103 -> 18709 | I16: ='01 Programa'!AB103+'01 Programa'!AB100+'01 Programa'!AB84+'01 Programa'!AB71+'01 Programa'!AB52+'01 Programa'!AB49+'01 Programa'!AB46+'01 Programa'!AB43+'01 Programa'!AB41+'01 Programa'!AB38 -> 19774.4
A17: 2.1.2.iš jo: aplinkos apsaugos rėmimo specialiosios programos lėšos | B17: 0 | C17: 0 | D17: 0 | E17: 0 | F17: 0 | H17: 0 | I17: 0
A18: 2.1.3. iš jo: visuomenės sveikatos rėmimo specialiosios programos lėšos | B18: 0 | C18: 0 | D18: 0 | E18: 0 | F18: 0 | H18: 0 | I18: 0
A19: 2.1.4. iš jo: pajamos už suteiktas paslaugas | B19: ='01 Šaltiniai'!J6 -> 701.2 | C19: =B19 -> 701.2 | D19: =E19-C19 -> 264.2 | E19: ='01 Šaltiniai'!N6 -> 965.4 | F19: ='01 Šaltiniai'!S6 -> 849.5 | H19: ='01 Programa'!AA109+'01 Programa'!AA111+'01 Programa'!AA113+'01 Programa'!AA115+'01 Programa'!AA117+'01 Programa'!AA119+'01 Programa'!AA121+'01 Programa'!AA123+'01 Programa'!AA125+'01 Programa'!AA127 -> 1037.5 | I19: ='01 Programa'!AB127+'01 Programa'!AB125+'01 Programa'!AB123+'01 Programa'!AB121+'01 Programa'!AB119+'01 Programa'!AB117+'01 Programa'!AB115+'01 Programa'!AB113+'01 Programa'!AB111+'01 Programa'!AB109 -> 1112.8
A20: 2.2. Kiti šaltiniai: | B20: =SUM(B21:B27) -> 100.9 | C20: =SUM(C21:C27) -> 100.9 | D20: =E20-C20 -> -8.9 | E20: =SUM(E21:E27) -> 92 | F20: =SUM(F21:F27) -> 1004.5 | H20: =SUM(H21:H27) -> 0 | I20: =SUM(I21:I27) -> 0
A21: 2.2.1. švietimo įstaigų modernizavimo programa | B21: 0 | C21: 0 | D21: 0 | E21: 0 | F21: 0 | H21: 0 | I21: 0
A22: 2.2.2. skolintos lėšos | B22: ='01 Šaltiniai'!J10 -> 0 | C22: =+B22 -> 0 | D22: =E22-C22 -> 0 | E22: ='01 Šaltiniai'!N10 -> 0 | F22: ='01 Šaltiniai'!S10 -> 0 | H22: 0 | I22: 0
A23: 2.2.3. Valstybės investicijų programa | B23: 0 | C23: 0 | D23: =E23-C23 -> 0 | E23: 0 | F23: 0 | H23: 0 | I23: 0
A24: 2.2.4.Užsienio valstybių, tarptautinių organizacijų ir Europos Sąjungos lėšos | B24: 100.9 | C24: =B24 -> 100.9 | D24: =E24-C24 -> -8.9 | E24: 92 | F24: 963.5 | H24: 0 | I24: 0
A25: 2.2.5. Valstybės lėšos | B25: 0 | C25: =B25 -> 0 | D25: =E25-C25 -> 0 | E25: 0 | F25: 0 | H25: 0 | I25: 0
A26: 2.2.6. Kelių priežiūros ir plėtros programos lėšos | B26: 0 | C26: =B26 -> 0 | D26: =E26-C26 -> 0 | E26: 0 | F26: 0 | H26: 0 | I26: 0
A27: 2.2.7. kitos lėšos | B27: 0 | C27: =B27 -> 0 | D27: =E27-C27 -> 0 | E27: ='01 Šaltiniai'!N14 -> 0 | F27: 41 | H27: 0 | I27: 0
