Workbook

Sheet 01 Programa
AA2: PATVIRTINTA
AA3: Šilutės rajono savivaldybės tarybos 2022 m. gruodžio 22 d.
AA4: sprendimu Nr. T1-1169
AA5: (Šilutės rajono savivaldybės tarybos 2023 m. vasario 23 d.
AA6: sprendimo Nr. T1-1222 redakcija)
AA7: (Šilutės rajono savivaldybės tarybos 2023 m. lapkričio 30 d.
AA8: sprendimo Nr. T1- redakcija)
AE9: (Nr. 01)
B10: 2023–2025 M. ŠILUTĖS RAJONO SAVIVALDYBĖS ADMINISTRACIJOS
B11: UGDYMO KOKYBĖS IR SPORTO PLĖTROS
B12: PROGRAMOS
B13: TIKSLŲ, PROGRAMŲ, PROGRAMŲ TIKSLŲ, UŽDAVINIŲ, UŽDAVINIŲ VERTINIMO KRITERIJŲ, PRIEMONIŲ IR PRIEMONIŲ IŠLAIDŲ SUVESTINĖ
A14: tūkst. Eur
A15: Programos kodas | B15: Programos tikslo kodas | C15: Uždavinio kodas | D15: Priemonės kodas | E15: Priemonės pavadinimas | F15: Priemonės požymis | G15: Funkcinės klasifikacijos kodas | H15: Asignavimų valdytojo kodas | I15: Priemonės vykdytojo kodas | J15: Finansavimo šaltinis | K15: 2022 m. išlaidos | O15: 2023 m. išlaidų projektas | S15: 2023 m. patvirtinta Šilutės r. savivaldybės taryboje | W15: 2023 m. faktiškai skirtas finansavimas | AA15: 2024-ųjų metų išlaidų projektas | AB15: 2025-ųjų metų išlaidų projektas | AC15: Uždavinio vertinimo kriterijus
K16: Iš viso | L16: Išlaidoms | N16: Turtui įsigyti ir finansiniams įsipareigojimams vykdyti | O16: Iš viso | P16: Išlaidoms | R16: Turtui įsigyti ir finansiniams įsipareigojimams vykdyti | S16: Iš viso | T16: Išlaidoms | V16: turtui įsigyti ir finansiniams įsipareigojimams vykdyti | W16: Iš viso | X16: Išlaidoms | Z16: Turtui įsigyti ir finansiniams įsipareigojimams vykdyti | AC16: Pavadinimas | AD16: Planas
L17: Iš viso | M17: Darbo užmokesčiui | P17: Iš viso | Q17: Darbo užmokesčiui | T17: Iš viso | U17: Darbo užmokesčiui | X17: Iš viso | Y17: Darbo užmokesčiui | AD17: 2023 m. | AE17: 2024 m. | AF17: 2025 m.
A18: Strateginis tikslas 01. Gerinti švietimo kokybę ir efektyvumą bei sudaryti sąlygas mokytis visą gyvenimą
A19: 01 | B19: 01 Ugdymo kokybės ir sporto plėtros programa
A20: 01 | B20: 01 | C20: Teikti kokybiškas bendrojo ugdymo mokyklų paslaugas
A21: 01 | B21: 01 | C21: 01 | D21: Užtikrinti mokymo(-si) programų įvairovę ir kokybę šiuolaikiškai aprūpintose švietimo įstaigose
A22: 01 | B22: 01 | C22: 01 | D22: 01 | E22: Ikimokyklinio ugdymo aplinkos išlaikymas | G22: 09.01.01.01 | I22: 4 | J22: SB | K22: =L22+N22 -> 3752.3 | L22: 3742.2 | M22: 3219.5 | N22: 10.1 | O22: =P22+R22 -> 4620.4 | P22: 4585.1 | Q22: 3903.2 | R22: 35.3 | S22: =T22+V22 -> 4767.3 | T22: 4767.3 | U22: 4214 | V22: 0 | W22: 0 | X22: 0 | Y22: 0 | Z22: 0 | AA22: 4903.9 | AB22: 5223.9 | AC22: Pagal švietimo įstaigų aprūpinimo inventoriumi, kompiuterine ir organizacine įranga, baldais ir autobusais programą, vnt. | AD22: 18 įst. | AE22: 18 įst. | AF22: 18 įst.
J23: SB(VB) | K23: =L23+N23 -> 98 | L23: 87.5 | M23: 23 | N23: 10.5 | O23: =P23+R23 -> 0 | P23: 0 | Q23: 0 | R23: 0 | S23: =T23+V23 -> 208.9 | T23: 208.9 | U23: 38.4 | V23: 0 | W23: =X23+Z23 -> 0 | X23: 0 | Y23: 0 | Z23: 0 | AA23: 0 | AB23: 0
J24: SB(SP) | K24: =L24+N24 -> 0 | L24: 0 | M24: 0 | N24: 0 | O24: =P24+R24 -> 0 | P24: 0 | Q24: 0 | R24: 0 | S24: =T24+V24 -> 0 | T24: 0 | U24: 0 | V24: 0 | W24: =X24+Z24 -> 0 | X24: 0 | Y24: 0 | Z24: 0 | AA24: 0 | AB24: 0
J25: KTL | K25: =L25+N25 -> 0 | L25: 0 | M25: 0 | N25: 0 | O25: =P25+R25 -> 0 | P25: 0 | Q25: =[1]Kint!Q14+[1]Gintar!Q15+[1]RSM!Q15+[1]Vilkyc!Q15+'[1]Sveks. l.d.'!Q15+[1]Pamar!Q15+[1]JSMC!Q15+[1]Zibut!Q15+'[1]Sveks g.'!Q15+[1]Zibai!Q15+'[1]Naum. g.'!Q15+[1]Sporto!Q15+[1]Vydun!Q15+'[1]Saugu p.'!Q15+'[1]Naum m.d.'!Q15+[1]Pirm!Q15+[1]Azuol!Q15+[1]Jankus!Q15+[1]Pusele!Q15+[1]SPT!Q15+[1]Vain!Q15+[1]Usen!Q15+[1]Zvaig!Q15+[1]Raudon!Q15+[1]Katyc!Q15+[1]Jukn!Q15+[1]Meno!Q15 -> 0 | R25: =[1]Kint!R14+[1]Gintar!R15+[1]RSM!R15+[1]Vilkyc!R15+'[1]Sveks. l.d.'!R15+[1]Pamar!R15+[1]JSMC!R15+[1]Zibut!R15+'[1]Sveks g.'!R15+[1]Zibai!R15+'[1]Naum. g.'!R15+[1]Sporto!R15+[1]Vydun!R15+'[1]Saugu p.'!R15+'[1]Naum m.d.'!R15+[1]Pirm!R15+[1]Azuol!R15+[1]Jankus!R15+[1]Pusele!R15+[1]SPT!R15+[1]Vain!R15+[1]Usen!R15+[1]Zvaig!R15+[1]Raudon!R15+[1]Katyc!R15+[1]Jukn!R15+[1]Meno!R15 -> 0 | S25: =T25+V25 -> 0 | T25: 0 | U25: 0 | V25: 0 | W25: 0 | X25: 0 | Y25: 0 | Z25: 0 | AA25: 0 | AB25: 0
J26: Iš viso: | K26: =SUM(K22:K25) -> 3850.3 | L26: =SUM(L22:L25) -> 3829.7 | M26: =SUM(M22:M25) -> 3242.5 | N26: =SUM(N22:N25) -> 20.6 | O26: =SUM(O22:O25) -> 4620.4 | P26: =SUM(P22:P25) -> 4585.1 | Q26: =SUM(Q22:Q25) -> 3903.2 | R26: =SUM(R22:R25) -> 35.3 | ... AB26: =SUM(AB22:AB25) -> 5223.9
A27: 01 | B27: 01 | C27: 01 | D27: 02 | E27: Pradinio ugdymo aplinkos išlaikymas | G27: 09.01.02.01 | I27: 4 | J27: SB | K27: =L27+N27 -> 610.5 | L27: 610.5 | M27: 462.3 | N27: 0 | O27: =R27+P27 -> 663.7 | P27: 659.5 | Q27: 470.5 | R27: 4.2 | S27: =T27+V27 -> 658.6 | T27: 658.6 | U27: 491.6 | V27: 0 | W27: 0 | X27: 0 | Y27: 0 | Z27: 0 | AA27: 721.3 | AB27: 785.4 | AC27: Pagal švietimo įstaigų aprūpinimo inventoriumi, kompiuterine ir organizacine įranga, baldais ir autobusais programą, vnt. | AD27: 4 įst. | AE27: 4 įst. | AF27: 4 įst.
J28: SB(VB) | K28: =N28+L28 -> 0 | L28: 0 | M28: 0 | N28: 0 | O28: =R28+P28 -> 8.9 | P28: 8.9 | Q28: 5.9 | R28: ='[1]Sveks. l.d.'!R18+[1]Zibut!R18+[1]Azuol!R18+[1]Pusele!R18+[1]Zvaig!R18+[1]Raudon!R18+[1]Gintar!R18+[1]Zibai!R18+'[1]Naum m.d.'!R18+[1]RSM!R18+[1]Kint!R17+[1]Vilkyc!R18+[1]Pamar!R18+'[1]Saugu p.'!R18+[1]Jankus!R18+[1]Usen!R18+[1]Jukn!R18+[1]Katyc!R18+[1]JSMC!R18+'[1]Sveks g.'!R18+[1]Vain!R18+'[1]Naum. g.'!R18+[1]Vydun!R18+[1]Pirm!R18+[1]Sporto!R18+[1]Meno!R18+[1]SPT!R18 -> 0 | S28: =T28+V28 -> 10.5 | T28: 10.5 | U28: 5.9 | V28: 0 | W28: 0 | X28: 0 | Y28: 0 | Z28: 0 | AA28: 9.1 | AB28: 9.3
J29: Iš viso: | K29: =SUM(K27:K28) -> 610.5 | L29: =SUM(L27:L28) -> 610.5 | M29: =SUM(M27:M28) -> 462.3 | N29: =SUM(N27:N28) -> 0 | O29: =SUM(O27:O28) -> 672.6 | P29: =SUM(P27:P28) -> 668.4 | Q29: =SUM(Q27:Q28) -> 476.4 | R29: =SUM(R27:R28) -> 4.2 | ... AB29: =SUM(AB27:AB28) -> 794.7
A30: 01 | B30: 01 | C30: 01 | D30: 03 | E30: Pagrindinio ugdymo aplinkos išlaikymas | G30: 09.02.01.01 | I30: 4 | J30: SB | K30: =L30+N30 -> 1645.5 | L30: 1639.2 | M30: 1082 | N30: 6.3 | O30: =R30+P30 -> 1830.9 | P30: 1830.9 | Q30: 1145 | R30: 0 | S30: =T30+V30 -> 1732.5 | T30: 1732.5 | U30: 1121.6 | V30: 0 | W30: 0 | X30: 0 | Y30: 0 | Z30: 0 | AA30: 1919.7 | AB30: 2016.8 | AC30: Pagal švietimo įstaigų aprūpinimo inventoriumi, kompiuterine ir organizacine įranga, baldais ir autobusais programą, vnt. | AD30: 9 įst. | AE30: 9 įst. | AF30: 9 įst.
J31: KTL | K31: =N31+L31 -> 0 | L31: 0 | M31: 0 | N31: 0 | O31: =R31+P31 -> 0 | P31: 0 | Q31: 0 | R31: ='[1]Sveks. l.d.'!R21+[1]Zibut!R21+[1]Azuol!R21+[1]Pusele!R21+[1]Zvaig!R21+[1]Raudon!R21+[1]Gintar!R21+[1]Zibai!R21+'[1]Naum m.d.'!R21+[1]RSM!R21+[1]Kint!R20+[1]Vilkyc!R21+[1]Pamar!R21+'[1]Saugu p.'!R21+[1]Jankus!R21+[1]Usen!R21+[1]Jukn!R21+[1]Katyc!R21+[1]JSMC!R21+'[1]Sveks g.'!R21+[1]Vain!R21+'[1]Naum. g.'!R21+[1]Vydun!R21+[1]Pirm!R21+[1]Sporto!R21+[1]Meno!R21+[1]SPT!R21 -> 0 | S31: =T31+V31 -> 1.4 | T31: 1.4 | U31: 0 | V31: 0 | W31: 0 | X31: 0 | Y31: 0 | Z31: 0 | AA31: 0 | AB31: 0
J32: SB(VB) | K32: =L32+N32 -> 397.1 | L32: 397.1 | M32: 322.4 | N32: 0 | O32: =P32+R32 -> 413.3 | P32: 413.3 | Q32: 338 | R32: 0 | S32: =T32+V32 -> 431.8 | T32: 431.8 | U32: 356.2 | V32: 0 | W32: =X32+Z32 -> 0 | X32: 0 | Y32: 0 | Z32: 0 | AA32: 413.3 | AB32: 413.3
J33: ES | K33: =L33+N33 -> 0 | L33: 0 | M33: 0 | N33: 0 | O33: =P33+R33 -> 0 | P33: 0 | Q33: 0 | R33: 0 | S33: =T33+V33 -> 0 | T33: 0 | U33: 0 | V33: 0 | W33: =X33+Z33 -> 0 | X33: 0 | Y33: 0 | Z33: 0 | AA33: 0 | AB33: 0
J34: Iš viso: | K34: =K30+K31+K33+K32 -> 2042.6 | L34: =L30+L31+L33+L32 -> 2036.3 | M34: =M30+M31+M33+M32 -> 1404.4 | N34: =N30+N31+N33+N32 -> 6.3 | O34: =O30+O31+O33+O32 -> 2244.2 | P34: =P30+P31+P33+P32 -> 2244.2 | Q34: =Q30+Q31+Q33+Q32 -> 1483 | R34: =R30+R31+R33+R32 -> 0 | ... AB34: =AB30+AB31+AB33+AB32 -> 2430.1
A35: 01 | B35: 01 | C35: 01 | D35: 04 | E35: Vidurinio ugdymo aplinkos išlaikymas | G35: 09.02.02.01 | I35: 4 | J35: SB | K35: =L35+N35 -> 1301.4 | L35: 1299.1 | M35: 883.2 | N35: 2.3 | O35: =R35+P35 -> 1551.7 | P35: 1510.5 | Q35: 989.9 | R35: 41.2 | S35: =T35+V35 -> 1436 | T35: 1436 | U35: 948.3 | V35: 0 | W35: 0 | X35: 0 | Y35: 0 | Z35: 0 | AA35: 1654.2 | AB35: 1760.6 | AC35: Pagal švietimo įstaigų aprūpinimo inventoriumi, kompiuterine ir organizacine įranga, baldais ir autobusais programą, vnt. | AD35: 6 įst. | AE35: 6 įst. | AF35: 6 įst.
J36: KTL | K36: =N36+L36 -> 0 | L36: 0 | M36: 0 | N36: 0 | O36: =R36+P36 -> 0 | P36: 0 | Q36: ='[1]Sveks. l.d.'!Q24+[1]Zibut!Q24+[1]Azuol!Q24+[1]Pusele!Q24+[1]Zvaig!Q24+[1]Raudon!Q24+[1]Gintar!Q24+[1]Zibai!Q24+'[1]Naum m.d.'!Q24+[1]RSM!Q24+[1]Kint!Q23+[1]Vilkyc!Q24+[1]Pamar!Q24+'[1]Saugu p.'!Q24+[1]Jankus!Q24+[1]Usen!Q24+[1]Jukn!Q24+[1]Katyc!Q24+[1]JSMC!Q24+'[1]Sveks g.'!Q24+[1]Vain!Q24+'[1]Naum. g.'!Q24+[1]Vydun!Q24+[1]Pirm!Q24+[1]Sporto!Q24+[1]Meno!Q24+[1]SPT!Q24 -> 0 | R36: ='[1]Sveks. l.d.'!R24+[1]Zibut!R24+[1]Azuol!R24+[1]Pusele!R24+[1]Zvaig!R24+[1]Raudon!R24+[1]Gintar!R24+[1]Zibai!R24+'[1]Naum m.d.'!R24+[1]RSM!R24+[1]Kint!R23+[1]Vilkyc!R24+[1]Pamar!R24+'[1]Saugu p.'!R24+[1]Jankus!R24+[1]Usen!R24+[1]Jukn!R24+[1]Katyc!R24+[1]JSMC!R24+'[1]Sveks g.'!R24+[1]Vain!R24+'[1]Naum. g.'!R24+[1]Vydun!R24+[1]Pirm!R24+[1]Sporto!R24+[1]Meno!R24+[1]SPT!R24 -> 0 | S36: =T36+V36 -> 29.6 | T36: 27.8 | U36: 0 | V36: 1.8 | W36: 0 | X36: 0 | Y36: 0 | Z36: 0 | AA36: 0 | AB36: 0
J37: Iš viso: | K37: =K35+K36 -> 1301.4 | L37: =L35+L36 -> 1299.1 | M37: =M35+M36 -> 883.2 | N37: =N35+N36 -> 2.3 | O37: =O35+O36 -> 1551.7 | P37: =P35+P36 -> 1510.5 | Q37: =Q35+Q36 -> 989.9 | R37: =R35+R36 -> 41.2 | ... AB37: =AB35+AB36 -> 1760.6
A38: 01 | B38: 01 | C38: 01 | D38: 05 | E38: Ikimokyklinio ugdymo proceso užtikrinimas | G38: 09.01.01.01 | I38: 4 | J38: SB(VB) | K38: =L38+N38 -> 3025.4 | L38: 3010.1 | M38: 2835.1 | N38: 15.3 | O38: =P38+R38 -> 3286.3 | P38: 3285.3 | Q38: 3154.4 | R38: 1 | S38: =T38+V38 -> 3637.9 | T38: 3637.9 | U38: 3499.3 | V38: 0 | W38: 0 | X38: 0 | Y38: 0 | Z38: 0 | AA38: 3525.8 | AB38: 3745.2 | AC38: Pagal MK skaičiavimo metodiką, įstaigų skaičius vnt. | AD38: 18 įst. | AE38: 18 įst. | AF38: 18 įst.
J39: VL | K39: =L39+N39 -> 0 | L39: 0 | M39: 0 | N39: 0 | O39: =P39+R39 -> 0 | P39: 0 | Q39: 0 | R39: 0 | S39: =T39+V39 -> 0 | T39: 0 | U39: 0 | V39: 0 | W39: =X39+Z39 -> 0 | X39: 0 | Y39: 0 | Z39: 0 | AA39: 0 | AB39: 0
J40: Iš viso: | K40: =K38+K39 -> 3025.4 | L40: =L38+L39 -> 3010.1 | M40: =M38+M39 -> 2835.1 | N40: =N38+N39 -> 15.3 | O40: =O38+O39 -> 3286.3 | P40: =P38+P39 -> 3285.3 | Q40: =Q38+Q39 -> 3154.4 | R40: =R38+R39 -> 1 | ... AB40: =AB38+AB39 -> 3745.2
A41: 01 | B41: 01 | C41: 01 | D41: 06 | E41: Pradinio ugdymo proceso užtikrinimas | G41: 09.01.02.01 | I41: 4 | J41: SB(VB) | K41: =L41+N41 -> 1235.2 | L41: 1229.2 | M41: 1162.5 | N41: 6 | O41: =R41+P41 -> 1450.9 | P41: 1450.9 | Q41: 1388.1 | R41: ='[1]Sveks. l.d.'!R28+[1]Zibut!R28+[1]Azuol!R28+[1]Pusele!R28+[1]Zvaig!R28+[1]Raudon!R28+[1]Gintar!R28+[1]Zibai!R28+'[1]Naum m.d.'!R28+[1]RSM!R28+[1]Kint!R27+[1]Vilkyc!R28+[1]Pamar!R28+'[1]Saugu p.'!R28+[1]Jankus!R28+[1]Usen!R28+[1]Jukn!R28+[1]Katyc!R28+[1]JSMC!R28+'[1]Sveks g.'!R28+[1]Vain!R28+'[1]Naum. g.'!R28+[1]Vydun!R28+[1]Pirm!R28+[1]Sporto!R28+[1]Meno!R28+[1]SPT!R28 -> 0 | S41: =T41+V41 -> 1357.9 | T41: 1357.9 | U41: 1303.9 | V41: 0 | W41: 0 | X41: 0 | Y41: 0 | Z41: 0 | AA41: 1560.8 | AB41: 1663.3 | AC41: Pagal MK skaičiavimo metodiką, įstaigų skaičius vnt. | AD41: 4 įst. | AE41: 4 įst. | AF41: 4 įst.
...

Sheet 01 Išlaidų suvestinė
A1: (Nr. 01)
A2: Šilutės rajono savivaldybės administracijos 2023–2025 m. SVP Ugdymo kokybės ir sporto plėtros programos išlaidų suvestinė
A4: tūkst. Eur
A5: Strateginio tikslo kodas | B5: Programos kodas | C5: Programos pavadinimas | D5: Funkcinės klasifikacijos kodas | E5: Asignavimų valdytojo kodas | F5: 2022 m. išlaidos | J5: 2023 m. išlaidų projektas | N5: 2023 m. patvirtinta Šilutės r. savivaldybės taryboje | R5: 2023 m. faktiškai skirtas finansavimas
F6: Iš viso | G6: Išlaidoms | I6: Turtui įsigyti ir finansiniams įsipareigojimams vykdyti | J6: Iš viso | K6: Išlaidoms | M6: Turtui įsigyti ir finansiniams įsipareigojimams vykdyti | N6: Iš viso | O6: Išlaidoms | Q6: Turtui įsigyti ir finansiniams įsipareigojimams vykdyti | R6: Iš viso | S6: Išlaidoms | U6: Turtui įsigyti ir finansiniams įsipareigojimams vykdyti
G7: Iš viso | H7: Iš jų darbo užmokesčiui | K7: Iš viso | L7: Iš jų darbo užmokesčiui | O7: Iš viso | P7: Iš jų darbo užmokesčiui | S7: Iš viso | T7: Iš jų darbo užmokesčiui
A8: 1 | B8: 1 | C8: Ugdymo kokybės ir sporto plėtros | D8: 09.01.01.01. 09.01.02.01. 09.02.01.01. 09.02.02.01. 09.06.01.01. 09.05.01.01. 09.05.01.02. 09.08.01.01. 08.01.01.02. 09.08.01.02 | F8: ='01 Programa'!K143 -> 25894.9 | G8: ='01 Programa'!L143 -> 25709.4 | H8: ='01 Programa'!M143 -> 21627.3 | I8: ='01 Programa'!N143 -> 185.5 | J8: ='01 Programa'!O143 -> 31132.5 | K8: ='01 Programa'!P143 -> 30994.1 | L8: ='01 Programa'!Q143 -> 26088.1 | M8: ='01 Programa'!R143 -> 138.4 | ... Q8: ='01 Programa'!V143 -> 912.3
A9: IŠ VISO: | F9: =SUM(F8) -> 25894.9 | G9: =SUM(G8) -> 25709.4 | H9: =SUM(H8) -> 21627.3 | I9: =SUM(I8) -> 185.5 | J9: =SUM(J8) -> 31132.5 | K9: =SUM(K8) -> 30994.1 | L9: =SUM(L8) -> 26088.1 | M9: =SUM(M8) -> 138.4 | ... U9: =SUM(U8) -> 0

Sheet 01 Šaltiniai
A1: 01. Ugdymo kokybės ir sporto plėtros programa
A2: Finansavimo šaltiniai | J2: 2022 m. išlaidos, tūkst. Eur | N2: 2023 m. projektas, tūkst. Eur | S2: 2023 m. patvirtinta Šilutės r. savivaldybės taryboje, tūkst. Eur | AB2: 2023 m. faktiškai skirtas finansavimas, tūkst. Eur
A3: Savivaldybės biudžetas SB | J3: ='01 Programa'!K22+'01 Programa'!K27+'01 Programa'!K30+'01 Programa'!K35+'01 Programa'!K44+'01 Programa'!K53+'01 Programa'!K56+'01 Programa'!K59+'01 Programa'!K62+'01 Programa'!K65+'01 Programa'!K70+'01 Programa'!K75+'01 Programa'!K79+'01 Programa'!K83+'01 Programa'!K90+'01 Programa'!K92+'01 Programa'!K133+'01 Programa'!K138 -> 9082 | N3: ='01 Programa'!O138+'01 Programa'!O133+'01 Programa'!O95+'01 Programa'!O90+'01 Programa'!O79+'01 Programa'!O75+'01 Programa'!O70+'01 Programa'!O65+'01 Programa'!O62+'01 Programa'!O56+'01 Programa'!O53+'01 Programa'!O35+'01 Programa'!O30+'01 Programa'!O27+'01 Programa'!O22+'01 Programa'!O83+'01 Programa'!O92 -> 11746.4 | S3: ='01 Programa'!S138+'01 Programa'!S133+'01 Programa'!S92+'01 Programa'!S90+'01 Programa'!S83+'01 Programa'!S79+'01 Programa'!S75+'01 Programa'!S70+'01 Programa'!S65+'01 Programa'!S62+'01 Programa'!S59+'01 Programa'!S56+'01 Programa'!S53+'01 Programa'!S44+'01 Programa'!S35+'01 Programa'!S30+'01 Programa'!S27+'01 Programa'!S22 -> 11270.9
A4: Valstybės biudžeto specialioji tikslinė dotacija SB(VB) | J4: ='01 Programa'!K103+'01 Programa'!K100+'01 Programa'!K95+'01 Programa'!K84+'01 Programa'!K77+'01 Programa'!K71+'01 Programa'!K52+'01 Programa'!K49+'01 Programa'!K46+'01 Programa'!K43+'01 Programa'!K41+'01 Programa'!K38+'01 Programa'!K32+'01 Programa'!K28+'01 Programa'!K23 -> 16010.8 | N4: ='01 Programa'!O23+'01 Programa'!O28+'01 Programa'!O32+'01 Programa'!O38+'01 Programa'!O41+'01 Programa'!O43+'01 Programa'!O46+'01 Programa'!O49+'01 Programa'!O52+'01 Programa'!O71+'01 Programa'!O77+'01 Programa'!O84+'01 Programa'!O100+'01 Programa'!O103 -> 18328.7 | S4: ='01 Programa'!S23+'01 Programa'!S28+'01 Programa'!S32+'01 Programa'!S38+'01 Programa'!S41+'01 Programa'!S43+'01 Programa'!S46+'01 Programa'!S49+'01 Programa'!S52+'01 Programa'!S71+'01 Programa'!S77+'01 Programa'!S84+'01 Programa'!S95+'01 Programa'!S100+'01 Programa'!S103 -> 17500.2
A5: Aplinkos apsaugos rėmimo specialiosios programos lėšos SB(AA) | J5: 0 | N5: 0 | S5: 0
A6: Pajamos už suteiktas paslaugas SB(SP) | J6: ='01 Programa'!K127+'01 Programa'!K125+'01 Programa'!K123+'01 Programa'!K121+'01 Programa'!K119+'01 Programa'!K117+'01 Programa'!K115+'01 Programa'!K113+'01 Programa'!K111+'01 Programa'!K109+'01 Programa'!K72+'01 Programa'!K24 -> 701.2 | N6: ='01 Programa'!O127+'01 Programa'!O125+'01 Programa'!O123+'01 Programa'!O121+'01 Programa'!O119+'01 Programa'!O117+'01 Programa'!O115+'01 Programa'!O113+'01 Programa'!O111+'01 Programa'!O109+'01 Programa'!O72+'01 Programa'!O24 -> 965.4 | S6: ='01 Programa'!S24+'01 Programa'!S72+'01 Programa'!S109+'01 Programa'!S111+'01 Programa'!S113+'01 Programa'!S115+'01 Programa'!S117+'01 Programa'!S119+'01 Programa'!S121+'01 Programa'!S123+'01 Programa'!S125+'01 Programa'!S127 -> 849.5
A7: Švietimo įstaigų modernizavimo programa SB(ŠIMP) | J7: 0 | N7: 0 | S7: 0
A8: Skolintos lėšos SL | J8: 0 | N8: 0 | S8: 0
A9: Užsienio valstybių, tarptautinių organizacijų ir Europos Sąjungos lėšos ES, EEE | J9: ='01 Programa'!K33+'01 Programa'!K55+'01 Programa'!K61+'01 Programa'!K64+'01 Programa'!K76+'01 Programa'!K86 -> 100.9 | N9: ='01 Programa'!O86+'01 Programa'!O76+'01 Programa'!O64+'01 Programa'!O61+'01 Programa'!O55+'01 Programa'!O33 -> 92 | S9: ='01 Programa'!S64+'01 Programa'!S61 -> 963.5
A10: Visuomenės sveikatos apsaugos rėmimo specialioji programa SB(VS) | J10: 0 | N10: 0 | S10: 0
A11: Valstybės lėšos VL | J11: 0 | N11: ='01 Programa'!O102+'01 Programa'!O99+'01 Programa'!O50+'01 Programa'!O47+'01 Programa'!O44+'01 Programa'!O39 -> 0 | S11: 0
A12: Kitos lėšos KTL | J12: ='01 Programa'!K25+'01 Programa'!K31+'01 Programa'!K36+'01 Programa'!K73+'01 Programa'!K85+'01 Programa'!K93+'01 Programa'!K134+'01 Programa'!K139 -> 0 | N12: ='01 Programa'!O139+'01 Programa'!O134+'01 Programa'!O93+'01 Programa'!O85+'01 Programa'!O73+'01 Programa'!O36+'01 Programa'!O31+'01 Programa'!O25 -> 0 | S12: ='01 Programa'!S31+'01 Programa'!S36+'01 Programa'!S73 -> 41
A13: Kelių priežiūros ir plėtros programa KPPP | J13: 0 | N13: 0 | S13: 0
A14: Valstybės investicijų programa VIP | J14: 0 | N14: 0 | S14: 0
A15: Iš viso: | J15: =SUM(J3:M14) -> 25894.9 | N15: =SUM(N3:R14) -> 31132.5 | S15: =SUM(S3:AA14) -> 30625.1

Sheet 01 Bendros lėšos
A1: 01. Ugdymo kokybės ir sporto plėtros programa
A3: Bendras lėšų poreikis ir numatomi finansavimo šaltiniai
A4: tūkst. Eur
A5: Ekonominės klasifikacijos grupės | B5: Asignavimai 2022 m. | C5: Paraiška biudžetiniams 2023 m. | F5: 2023-iems m. patvirtinta Šilutės r. savivaldybės taryboje | G5: 2023-iems m. faktiškai skirta | H5: Projektas 2024 m. | I5: Projektas 2025 m.
C7: bazinis biudžetas | D7: pakeitimai/ (+padidėjimas -sumažėjimas) | E7: iš viso
A10: 1. Iš viso lėšų poreikis: | B10: =B11+B13 -> 25894.9 | C10: =+B10 -> 25894.9 | D10: =E10-C10 -> 5237.6 | E10: =E11+E13 -> 31132.5 | F10: ='01 Programa'!S143 -> 30625.1 | H10: ='01 Programa'!AA143 -> 34210.5 | I10: ='01 Programa'!AB143 -> 35793.3
A11: 1.1.išlaidoms | B11: ='01 Programa'!L143 -> 25709.4 | C11: =+B11 -> 25709.4 | D11: =E11-C11 -> 5284.7 | E11: ='01 Programa'!P143 -> 30994.1 | F11: ='01 Programa'!T143 -> 29712.8 | H11: =H10-H13 -> 33206.97 | I11: =I10-I13 -> 34689.417
A12: 1.1.1.iš jų darbo užmokesčiui | B12: ='01 Programa'!M143 -> 21627.3 | C12: =+B12 -> 21627.3 | D12: =E12-C12 -> 4460.8 | E12: ='01 Programa'!Q143 -> 26088.1 | F12: ='01 Programa'!U143 -> 24993.9 | H12: 27099.8 | I12: =H12*1.1 -> 29809.78
A13: 1.2. turtui įsigyti ir finansiniams įsipareigojimams vykdyti | B13: ='01 Programa'!N143 -> 185.5 | C13: =+B13 -> 185.5 | D13: =E13-C13 -> -47.1 | E13: ='01 Programa'!R143 -> 138.4 | F13: ='01 Programa'!V143 -> 912.3 | H13: =F13*1.1 -> 1003.53 | I13: =H13*1.1 -> 1103.883
A14: 2. Finansavimas | B14: =B10 -> 25894.9 | C14: =C15+C20 -> 25894.9 | D14: =E14-C14 -> 5237.6 | E14: =E15+E20 -> 31132.5 | F14: ='01 Programa'!S143 -> 30625.1 | H14: =H10 -> 34210.5 | I14: =I10 -> 35793.3
A15: 2.1.Savivaldybės biudžetas: | B15: =B10-B20 -> 25794 | C15: =C10-C20 -> 25794 | D15: =D10-D20 -> 5246.5 | E15: =E10-E20 -> 31040.5 | F15: =+F10-F20 -> 29620.6 | H15: =H14-H20 -> 34210.5 | I15: =I14-I20 -> 35793.3
A16: 2.1.1. iš jo: valstybės biudžeto specialioji tikslinė dotacija | B16: =C16 -> 16010.8 | C16: ='01 Šaltiniai'!J4 -> 16010.8 | D16: =E16-C16 -> 2317.9 | E16: ='01 Šaltiniai'!N4 -> 18328.7 | F16: ='01 Šaltiniai'!S4 -> 17500.2 | H16: ='01 Programa'!AA38+'01 Programa'!AA41+'01 Programa'!AA43+'01 Programa'!AA46+'01 Programa'!AA49+'01 Programa'!AA52+'01 Programa'!AA71+'01 Programa'!AA84+'01 Programa'!AA100+'01 Programa'!AA103 -> 18709 | I16: ='01 Programa'!AB103+'01 Programa'!AB100+'01 Programa'!AB84+'01 Programa'!AB71+'01 Programa'!AB52+'01 Programa'!AB49+'01 Programa'!AB46+'01 Programa'!AB43+'01 Programa'!AB41+'01 Programa'!AB38 -> 19774.4
A17: 2.1.2.iš jo: aplinkos apsaugos rėmimo specialiosios programos lėšos | B17: 0 | C17: 0 | D17: 0 | E17: 0 | F17: 0 | H17: 0 | I17: 0
A18: 2.1.3. iš jo: visuomenės sveikatos rėmimo specialiosios programos lėšos | B18: 0 | C18: 0 | D18: 0 | E18: 0 | F18: 0 | H18: 0 | I18: 0
A19: 2.1.4. iš jo: pajamos už suteiktas paslaugas | B19: ='01 Šaltiniai'!J6 -> 701.2 | C19: =B19 -> 701.2 | D19: =E19-C19 -> 264.2 | E19: ='01 Šaltiniai'!N6 -> 965.4 | F19: ='01 Šaltiniai'!S6 -> 849.5 | H19: ='01 Programa'!AA109+'01 Programa'!AA111+'01 Programa'!AA113+'01 Programa'!AA115+'01 Programa'!AA117+'01 Programa'!AA119+'01 Programa'!AA121+'01 Programa'!AA123+'01 Programa'!AA125+'01 Programa'!AA127 -> 1037.5 | I19: ='01 Programa'!AB127+'01 Programa'!AB125+'01 Programa'!AB123+'01 Programa'!AB121+'01 Programa'!AB119+'01 Programa'!AB117+'01 Programa'!AB115+'01 Programa'!AB113+'01 Programa'!AB111+'01 Programa'!AB109 -> 1112.8
A20: 2.2. Kiti šaltiniai: | B20: =SUM(B21:B27) -> 100.9 | C20: =SUM(C21:C27) -> 100.9 | D20: =E20-C20 -> -8.9 | E20: =SUM(E21:E27) -> 92 | F20: =SUM(F21:F27) -> 1004.5 | H20: =SUM(H21:H27) -> 0 | I20: =SUM(I21:I27) -> 0
A21: 2.2.1. švietimo įstaigų modernizavimo programa | B21: 0 | C21: 0 | D21: 0 | E21: 0 | F21: 0 | H21: 0 | I21: 0
A22: 2.2.2. skolintos lėšos | B22: ='01 Šaltiniai'!J10 -> 0 | C22: =+B22 -> 0 | D22: =E22-C22 -> 0 | E22: ='01 Šaltiniai'!N10 -> 0 | F22: ='01 Šaltiniai'!S10 -> 0 | H22: 0 | I22: 0
A23: 2.2.3. Valstybės investicijų programa | B23: 0 | C23: 0 | D23: =E23-C23 -> 0 | E23: 0 | F23: 0 | H23: 0 | I23: 0
A24: 2.2.4.Užsienio valstybių, tarptautinių organizacijų ir Europos Sąjungos lėšos | B24: 100.9 | C24: =B24 -> 100.9 | D24: =E24-C24 -> -8.9 | E24: 92 | F24: 963.5 | H24: 0 | I24: 0
A25: 2.2.5. Valstybės lėšos | B25: 0 | C25: =B25 -> 0 | D25: =E25-C25 -> 0 | E25: 0 | F25: 0 | H25: 0 | I25: 0
A26: 2.2.6. Kelių priežiūros ir plėtros programos lėšos | B26: 0 | C26: =B26 -> 0 | D26: =E26-C26 -> 0 | E26: 0 | F26: 0 | H26: 0 | I26: 0
A27: 2.2.7. kitos lėšos | B27: 0 | C27: =B27 -> 0 | D27: =E27-C27 -> 0 | E27: ='01 Šaltiniai'!N14 -> 0 | F27: 41 | H27: 0 | I27: 0
